BEGIN:VCALENDAR
VERSION:2.0
PRODID:-//AFLabs urnik izvoz - mf//aflabs.si//SI
DTSTAMP:20260420T031115Z
NAME:UL MF urnik
REFRESH-INTERVAL:PT1H
SOURCE:https://afurnik-mf.dev.aflabs.org/classroom/54/?export=1&sub_type=M
 1-02
URL:https://afurnik-mf.dev.aflabs.org/classroom/54/?export=1&sub_type=M1-0
 2
X-PUBLISHED-TTL:PT1H
X-WR-CALNAME:UL MF urnik
X-WR-TIMEZONE:Europe/Ljubljana
BEGIN:VTIMEZONE
TZID:Europe/Ljubljana
BEGIN:DAYLIGHT
DTSTART:20260329T020000
RDATE:20260329T020000
RDATE:20270328T020000
TZNAME:CEST
TZOFFSETFROM:+0100
TZOFFSETTO:+0200
END:DAYLIGHT
BEGIN:STANDARD
DTSTART:20261025T030000
RDATE:20261025T030000
RDATE:20271031T030000
TZNAME:CET
TZOFFSETFROM:+0200
TZOFFSETTO:+0100
END:STANDARD
END:VTIMEZONE
BEGIN:VEVENT
SUMMARY:Medicinska celična biologija (MCB)\, Vaje (V)\, [M1-01\, M1-02]
DTSTART;TZID=Europe/Ljubljana:20251007T140000
DTEND;TZID=Europe/Ljubljana:20251007T160000
DTSTAMP:20260420T031115Z
UID:mf-AFLABS-URNIK:premaknjeno-srecanje:30088
ATTENDEE:1. LETNIK (EMŠ M)
CATEGORIES:Entry,Standard
COLOR:darkgreen
DESCRIPTION:Predmet: Medicinska celična biologija (MCB)\, Vaje (V)\, [M1-
 01\, M1-02]\nLetniki: 1. LETNIK (EMŠ M)\nIzvajalci: Inštitut za biologij
 o celice IBC\nProstor: Vaj - 1 - IBC
LOCATION:Vrazov trg 2\, Vaj - 1 - IBC
ORGANIZER:Inštitut za biologijo celice IBC
RELATED-TO:mf-AFLABS-URNIK:srecanje:6506
X-WR-TIMEZONE:Europe/Ljubljana
END:VEVENT
BEGIN:VEVENT
SUMMARY:Medicinska celična biologija (MCB)\, Vaje (V)\, [M1-01\, M1-02]
DTSTART;TZID=Europe/Ljubljana:20251014T140000
DTEND;TZID=Europe/Ljubljana:20251014T160000
DTSTAMP:20260420T031115Z
UID:mf-AFLABS-URNIK:premaknjeno-srecanje:30089
ATTENDEE:1. LETNIK (EMŠ M)
CATEGORIES:Entry,Standard
COLOR:darkgreen
DESCRIPTION:Predmet: Medicinska celična biologija (MCB)\, Vaje (V)\, [M1-
 01\, M1-02]\nLetniki: 1. LETNIK (EMŠ M)\nIzvajalci: Inštitut za biologij
 o celice IBC\nProstor: Vaj - 1 - IBC
LOCATION:Vrazov trg 2\, Vaj - 1 - IBC
ORGANIZER:Inštitut za biologijo celice IBC
RELATED-TO:mf-AFLABS-URNIK:srecanje:6506
X-WR-TIMEZONE:Europe/Ljubljana
END:VEVENT
BEGIN:VEVENT
SUMMARY:Medicinska celična biologija (MCB)\, Vaje (V)\, [M1-01\, M1-02]
DTSTART;TZID=Europe/Ljubljana:20251021T140000
DTEND;TZID=Europe/Ljubljana:20251021T160000
DTSTAMP:20260420T031115Z
UID:mf-AFLABS-URNIK:premaknjeno-srecanje:30090
ATTENDEE:1. LETNIK (EMŠ M)
CATEGORIES:Entry,Standard
COLOR:darkgreen
DESCRIPTION:Predmet: Medicinska celična biologija (MCB)\, Vaje (V)\, [M1-
 01\, M1-02]\nLetniki: 1. LETNIK (EMŠ M)\nIzvajalci: Inštitut za biologij
 o celice IBC\nProstor: Vaj - 1 - IBC
LOCATION:Vrazov trg 2\, Vaj - 1 - IBC
ORGANIZER:Inštitut za biologijo celice IBC
RELATED-TO:mf-AFLABS-URNIK:srecanje:6506
X-WR-TIMEZONE:Europe/Ljubljana
END:VEVENT
BEGIN:VEVENT
SUMMARY:Medicinska celična biologija (MCB)\, Vaje (V)\, [M1-01\, M1-02]
DTSTART;TZID=Europe/Ljubljana:20251028T140000
DTEND;TZID=Europe/Ljubljana:20251028T160000
DTSTAMP:20260420T031115Z
UID:mf-AFLABS-URNIK:premaknjeno-srecanje:30091
ATTENDEE:1. LETNIK (EMŠ M)
CATEGORIES:Entry,Standard
COLOR:darkgreen
DESCRIPTION:Predmet: Medicinska celična biologija (MCB)\, Vaje (V)\, [M1-
 01\, M1-02]\nLetniki: 1. LETNIK (EMŠ M)\nIzvajalci: Inštitut za biologij
 o celice IBC\nProstor: Vaj - 1 - IBC
LOCATION:Vrazov trg 2\, Vaj - 1 - IBC
ORGANIZER:Inštitut za biologijo celice IBC
RELATED-TO:mf-AFLABS-URNIK:srecanje:6506
X-WR-TIMEZONE:Europe/Ljubljana
END:VEVENT
BEGIN:VEVENT
SUMMARY:Medicinska celična biologija (MCB)\, Vaje (V)\, [M1-01\, M1-02]
DTSTART;TZID=Europe/Ljubljana:20251104T140000
DTEND;TZID=Europe/Ljubljana:20251104T160000
DTSTAMP:20260420T031115Z
UID:mf-AFLABS-URNIK:premaknjeno-srecanje:30092
ATTENDEE:1. LETNIK (EMŠ M)
CATEGORIES:Entry,Standard
COLOR:darkgreen
DESCRIPTION:Predmet: Medicinska celična biologija (MCB)\, Vaje (V)\, [M1-
 01\, M1-02]\nLetniki: 1. LETNIK (EMŠ M)\nIzvajalci: Inštitut za biologij
 o celice IBC\nProstor: Vaj - 1 - IBC
LOCATION:Vrazov trg 2\, Vaj - 1 - IBC
ORGANIZER:Inštitut za biologijo celice IBC
RELATED-TO:mf-AFLABS-URNIK:srecanje:6506
X-WR-TIMEZONE:Europe/Ljubljana
END:VEVENT
BEGIN:VEVENT
SUMMARY:Medicinska celična biologija (MCB)\, Vaje (V)\, [M1-01\, M1-02]
DTSTART;TZID=Europe/Ljubljana:20251111T140000
DTEND;TZID=Europe/Ljubljana:20251111T160000
DTSTAMP:20260420T031115Z
UID:mf-AFLABS-URNIK:premaknjeno-srecanje:30093
ATTENDEE:1. LETNIK (EMŠ M)
CATEGORIES:Entry,Standard
COLOR:darkgreen
DESCRIPTION:Predmet: Medicinska celična biologija (MCB)\, Vaje (V)\, [M1-
 01\, M1-02]\nLetniki: 1. LETNIK (EMŠ M)\nIzvajalci: Inštitut za biologij
 o celice IBC\nProstor: Vaj - 1 - IBC
LOCATION:Vrazov trg 2\, Vaj - 1 - IBC
ORGANIZER:Inštitut za biologijo celice IBC
RELATED-TO:mf-AFLABS-URNIK:srecanje:6506
X-WR-TIMEZONE:Europe/Ljubljana
END:VEVENT
BEGIN:VEVENT
SUMMARY:Medicinska celična biologija (MCB)\, Vaje (V)\, [M1-01\, M1-02]
DTSTART;TZID=Europe/Ljubljana:20251118T140000
DTEND;TZID=Europe/Ljubljana:20251118T160000
DTSTAMP:20260420T031115Z
UID:mf-AFLABS-URNIK:premaknjeno-srecanje:30094
ATTENDEE:1. LETNIK (EMŠ M)
CATEGORIES:Entry,Standard
COLOR:darkgreen
DESCRIPTION:Predmet: Medicinska celična biologija (MCB)\, Vaje (V)\, [M1-
 01\, M1-02]\nLetniki: 1. LETNIK (EMŠ M)\nIzvajalci: Inštitut za biologij
 o celice IBC\nProstor: Vaj - 1 - IBC
LOCATION:Vrazov trg 2\, Vaj - 1 - IBC
ORGANIZER:Inštitut za biologijo celice IBC
RELATED-TO:mf-AFLABS-URNIK:srecanje:6506
X-WR-TIMEZONE:Europe/Ljubljana
END:VEVENT
BEGIN:VEVENT
SUMMARY:Medicinska celična biologija (MCB)\, Vaje (V)\, [M1-01\, M1-02]
DTSTART;TZID=Europe/Ljubljana:20251125T140000
DTEND;TZID=Europe/Ljubljana:20251125T160000
DTSTAMP:20260420T031115Z
UID:mf-AFLABS-URNIK:premaknjeno-srecanje:30095
ATTENDEE:1. LETNIK (EMŠ M)
CATEGORIES:Entry,Standard
COLOR:darkgreen
DESCRIPTION:Predmet: Medicinska celična biologija (MCB)\, Vaje (V)\, [M1-
 01\, M1-02]\nLetniki: 1. LETNIK (EMŠ M)\nIzvajalci: Inštitut za biologij
 o celice IBC\nProstor: Vaj - 1 - IBC
LOCATION:Vrazov trg 2\, Vaj - 1 - IBC
ORGANIZER:Inštitut za biologijo celice IBC
RELATED-TO:mf-AFLABS-URNIK:srecanje:6506
X-WR-TIMEZONE:Europe/Ljubljana
END:VEVENT
BEGIN:VEVENT
SUMMARY:Medicinska celična biologija (MCB)\, Vaje (V)\, [M1-01\, M1-02]
DTSTART;TZID=Europe/Ljubljana:20251202T140000
DTEND;TZID=Europe/Ljubljana:20251202T160000
DTSTAMP:20260420T031115Z
UID:mf-AFLABS-URNIK:premaknjeno-srecanje:30096
ATTENDEE:1. LETNIK (EMŠ M)
CATEGORIES:Entry,Standard
COLOR:darkgreen
DESCRIPTION:Predmet: Medicinska celična biologija (MCB)\, Vaje (V)\, [M1-
 01\, M1-02]\nLetniki: 1. LETNIK (EMŠ M)\nIzvajalci: Inštitut za biologij
 o celice IBC\nProstor: Vaj - 1 - IBC
LOCATION:Vrazov trg 2\, Vaj - 1 - IBC
ORGANIZER:Inštitut za biologijo celice IBC
RELATED-TO:mf-AFLABS-URNIK:srecanje:6506
X-WR-TIMEZONE:Europe/Ljubljana
END:VEVENT
BEGIN:VEVENT
SUMMARY:Medicinska celična biologija (MCB)\, Vaje (V)\, [M1-01\, M1-02]
DTSTART;TZID=Europe/Ljubljana:20251209T140000
DTEND;TZID=Europe/Ljubljana:20251209T160000
DTSTAMP:20260420T031115Z
UID:mf-AFLABS-URNIK:premaknjeno-srecanje:30097
ATTENDEE:1. LETNIK (EMŠ M)
CATEGORIES:Entry,Standard
COLOR:darkgreen
DESCRIPTION:Predmet: Medicinska celična biologija (MCB)\, Vaje (V)\, [M1-
 01\, M1-02]\nLetniki: 1. LETNIK (EMŠ M)\nIzvajalci: Inštitut za biologij
 o celice IBC\nProstor: Vaj - 1 - IBC
LOCATION:Vrazov trg 2\, Vaj - 1 - IBC
ORGANIZER:Inštitut za biologijo celice IBC
RELATED-TO:mf-AFLABS-URNIK:srecanje:6506
X-WR-TIMEZONE:Europe/Ljubljana
END:VEVENT
BEGIN:VEVENT
SUMMARY:Medicinska celična biologija (MCB)\, Vaje (V)\, [M1-01\, M1-02]
DTSTART;TZID=Europe/Ljubljana:20251008T140000
DTEND;TZID=Europe/Ljubljana:20251008T160000
DTSTAMP:20260420T031115Z
UID:mf-AFLABS-URNIK:premaknjeno-srecanje:30190
ATTENDEE:1. LETNIK (EMŠ M)
CATEGORIES:Entry,Standard
COLOR:darkgreen
DESCRIPTION:Predmet: Medicinska celična biologija (MCB)\, Vaje (V)\, [M1-
 01\, M1-02]\nLetniki: 1. LETNIK (EMŠ M)\nIzvajalci: Inštitut za biologij
 o celice IBC\nProstor: Vaj - 1 - IBC
LOCATION:Vrazov trg 2\, Vaj - 1 - IBC
ORGANIZER:Inštitut za biologijo celice IBC
RELATED-TO:mf-AFLABS-URNIK:srecanje:6516
X-WR-TIMEZONE:Europe/Ljubljana
END:VEVENT
BEGIN:VEVENT
SUMMARY:Medicinska celična biologija (MCB)\, Vaje (V)\, [M1-01\, M1-02]
DTSTART;TZID=Europe/Ljubljana:20251015T140000
DTEND;TZID=Europe/Ljubljana:20251015T160000
DTSTAMP:20260420T031115Z
UID:mf-AFLABS-URNIK:premaknjeno-srecanje:30191
ATTENDEE:1. LETNIK (EMŠ M)
CATEGORIES:Entry,Standard
COLOR:darkgreen
DESCRIPTION:Predmet: Medicinska celična biologija (MCB)\, Vaje (V)\, [M1-
 01\, M1-02]\nLetniki: 1. LETNIK (EMŠ M)\nIzvajalci: Inštitut za biologij
 o celice IBC\nProstor: Vaj - 1 - IBC
LOCATION:Vrazov trg 2\, Vaj - 1 - IBC
ORGANIZER:Inštitut za biologijo celice IBC
RELATED-TO:mf-AFLABS-URNIK:srecanje:6516
X-WR-TIMEZONE:Europe/Ljubljana
END:VEVENT
BEGIN:VEVENT
SUMMARY:Medicinska celična biologija (MCB)\, Vaje (V)\, [M1-01\, M1-02]
DTSTART;TZID=Europe/Ljubljana:20251022T140000
DTEND;TZID=Europe/Ljubljana:20251022T160000
DTSTAMP:20260420T031115Z
UID:mf-AFLABS-URNIK:premaknjeno-srecanje:30192
ATTENDEE:1. LETNIK (EMŠ M)
CATEGORIES:Entry,Standard
COLOR:darkgreen
DESCRIPTION:Predmet: Medicinska celična biologija (MCB)\, Vaje (V)\, [M1-
 01\, M1-02]\nLetniki: 1. LETNIK (EMŠ M)\nIzvajalci: Inštitut za biologij
 o celice IBC\nProstor: Vaj - 1 - IBC
LOCATION:Vrazov trg 2\, Vaj - 1 - IBC
ORGANIZER:Inštitut za biologijo celice IBC
RELATED-TO:mf-AFLABS-URNIK:srecanje:6516
X-WR-TIMEZONE:Europe/Ljubljana
END:VEVENT
BEGIN:VEVENT
SUMMARY:Medicinska celična biologija (MCB)\, Vaje (V)\, [M1-01\, M1-02]
DTSTART;TZID=Europe/Ljubljana:20251029T140000
DTEND;TZID=Europe/Ljubljana:20251029T160000
DTSTAMP:20260420T031115Z
UID:mf-AFLABS-URNIK:premaknjeno-srecanje:30193
ATTENDEE:1. LETNIK (EMŠ M)
CATEGORIES:Entry,Standard
COLOR:darkgreen
DESCRIPTION:Predmet: Medicinska celična biologija (MCB)\, Vaje (V)\, [M1-
 01\, M1-02]\nLetniki: 1. LETNIK (EMŠ M)\nIzvajalci: Inštitut za biologij
 o celice IBC\nProstor: Vaj - 1 - IBC
LOCATION:Vrazov trg 2\, Vaj - 1 - IBC
ORGANIZER:Inštitut za biologijo celice IBC
RELATED-TO:mf-AFLABS-URNIK:srecanje:6516
X-WR-TIMEZONE:Europe/Ljubljana
END:VEVENT
BEGIN:VEVENT
SUMMARY:Medicinska celična biologija (MCB)\, Vaje (V)\, [M1-01\, M1-02]
DTSTART;TZID=Europe/Ljubljana:20251105T140000
DTEND;TZID=Europe/Ljubljana:20251105T160000
DTSTAMP:20260420T031115Z
UID:mf-AFLABS-URNIK:premaknjeno-srecanje:30194
ATTENDEE:1. LETNIK (EMŠ M)
CATEGORIES:Entry,Standard
COLOR:darkgreen
DESCRIPTION:Predmet: Medicinska celična biologija (MCB)\, Vaje (V)\, [M1-
 01\, M1-02]\nLetniki: 1. LETNIK (EMŠ M)\nIzvajalci: Inštitut za biologij
 o celice IBC\nProstor: Vaj - 1 - IBC
LOCATION:Vrazov trg 2\, Vaj - 1 - IBC
ORGANIZER:Inštitut za biologijo celice IBC
RELATED-TO:mf-AFLABS-URNIK:srecanje:6516
X-WR-TIMEZONE:Europe/Ljubljana
END:VEVENT
BEGIN:VEVENT
SUMMARY:Medicinska celična biologija (MCB)\, Vaje (V)\, [M1-01\, M1-02]
DTSTART;TZID=Europe/Ljubljana:20251112T140000
DTEND;TZID=Europe/Ljubljana:20251112T160000
DTSTAMP:20260420T031115Z
UID:mf-AFLABS-URNIK:premaknjeno-srecanje:30195
ATTENDEE:1. LETNIK (EMŠ M)
CATEGORIES:Entry,Standard
COLOR:darkgreen
DESCRIPTION:Predmet: Medicinska celična biologija (MCB)\, Vaje (V)\, [M1-
 01\, M1-02]\nLetniki: 1. LETNIK (EMŠ M)\nIzvajalci: Inštitut za biologij
 o celice IBC\nProstor: Vaj - 1 - IBC
LOCATION:Vrazov trg 2\, Vaj - 1 - IBC
ORGANIZER:Inštitut za biologijo celice IBC
RELATED-TO:mf-AFLABS-URNIK:srecanje:6516
X-WR-TIMEZONE:Europe/Ljubljana
END:VEVENT
BEGIN:VEVENT
SUMMARY:Medicinska celična biologija (MCB)\, Vaje (V)\, [M1-01\, M1-02]
DTSTART;TZID=Europe/Ljubljana:20251119T140000
DTEND;TZID=Europe/Ljubljana:20251119T160000
DTSTAMP:20260420T031115Z
UID:mf-AFLABS-URNIK:premaknjeno-srecanje:30196
ATTENDEE:1. LETNIK (EMŠ M)
CATEGORIES:Entry,Standard
COLOR:darkgreen
DESCRIPTION:Predmet: Medicinska celična biologija (MCB)\, Vaje (V)\, [M1-
 01\, M1-02]\nLetniki: 1. LETNIK (EMŠ M)\nIzvajalci: Inštitut za biologij
 o celice IBC\nProstor: Vaj - 1 - IBC
LOCATION:Vrazov trg 2\, Vaj - 1 - IBC
ORGANIZER:Inštitut za biologijo celice IBC
RELATED-TO:mf-AFLABS-URNIK:srecanje:6516
X-WR-TIMEZONE:Europe/Ljubljana
END:VEVENT
BEGIN:VEVENT
SUMMARY:Medicinska celična biologija (MCB)\, Vaje (V)\, [M1-01\, M1-02]
DTSTART;TZID=Europe/Ljubljana:20251126T140000
DTEND;TZID=Europe/Ljubljana:20251126T160000
DTSTAMP:20260420T031115Z
UID:mf-AFLABS-URNIK:premaknjeno-srecanje:30197
ATTENDEE:1. LETNIK (EMŠ M)
CATEGORIES:Entry,Standard
COLOR:darkgreen
DESCRIPTION:Predmet: Medicinska celična biologija (MCB)\, Vaje (V)\, [M1-
 01\, M1-02]\nLetniki: 1. LETNIK (EMŠ M)\nIzvajalci: Inštitut za biologij
 o celice IBC\nProstor: Vaj - 1 - IBC
LOCATION:Vrazov trg 2\, Vaj - 1 - IBC
ORGANIZER:Inštitut za biologijo celice IBC
RELATED-TO:mf-AFLABS-URNIK:srecanje:6516
X-WR-TIMEZONE:Europe/Ljubljana
END:VEVENT
BEGIN:VEVENT
SUMMARY:Medicinska celična biologija (MCB)\, Vaje (V)\, [M1-01\, M1-02]
DTSTART;TZID=Europe/Ljubljana:20251203T140000
DTEND;TZID=Europe/Ljubljana:20251203T160000
DTSTAMP:20260420T031115Z
UID:mf-AFLABS-URNIK:premaknjeno-srecanje:30198
ATTENDEE:1. LETNIK (EMŠ M)
CATEGORIES:Entry,Standard
COLOR:darkgreen
DESCRIPTION:Predmet: Medicinska celična biologija (MCB)\, Vaje (V)\, [M1-
 01\, M1-02]\nLetniki: 1. LETNIK (EMŠ M)\nIzvajalci: Inštitut za biologij
 o celice IBC\nProstor: Vaj - 1 - IBC
LOCATION:Vrazov trg 2\, Vaj - 1 - IBC
ORGANIZER:Inštitut za biologijo celice IBC
RELATED-TO:mf-AFLABS-URNIK:srecanje:6516
X-WR-TIMEZONE:Europe/Ljubljana
END:VEVENT
BEGIN:VEVENT
SUMMARY:Medicinska celična biologija (MCB)\, Vaje (V)\, [M1-01\, M1-02]
DTSTART;TZID=Europe/Ljubljana:20251210T140000
DTEND;TZID=Europe/Ljubljana:20251210T160000
DTSTAMP:20260420T031115Z
UID:mf-AFLABS-URNIK:premaknjeno-srecanje:30199
ATTENDEE:1. LETNIK (EMŠ M)
CATEGORIES:Entry,Standard
COLOR:darkgreen
DESCRIPTION:Predmet: Medicinska celična biologija (MCB)\, Vaje (V)\, [M1-
 01\, M1-02]\nLetniki: 1. LETNIK (EMŠ M)\nIzvajalci: Inštitut za biologij
 o celice IBC\nProstor: Vaj - 1 - IBC
LOCATION:Vrazov trg 2\, Vaj - 1 - IBC
ORGANIZER:Inštitut za biologijo celice IBC
RELATED-TO:mf-AFLABS-URNIK:srecanje:6516
X-WR-TIMEZONE:Europe/Ljubljana
END:VEVENT
BEGIN:VEVENT
SUMMARY:Medicinska celična biologija (MCB)\, Doš (Do)\, [M1-01\, M1-02]
DTSTART;TZID=Europe/Ljubljana:20251009T170000
DTEND;TZID=Europe/Ljubljana:20251009T180000
DTSTAMP:20260420T031115Z
UID:mf-AFLABS-URNIK:premaknjeno-srecanje:30252
ATTENDEE:1. LETNIK (EMŠ M)
CATEGORIES:Entry,Standard
COLOR:darkgreen
DESCRIPTION:Predmet: Medicinska celična biologija (MCB)\, Doš (Do)\, [M1
 -01\, M1-02]\nLetniki: 1. LETNIK (EMŠ M)\nIzvajalci: Inštitut za biologi
 jo celice IBC\nProstor: Vaj - 1 - IBC
LOCATION:Vrazov trg 2\, Vaj - 1 - IBC
ORGANIZER:Inštitut za biologijo celice IBC
RELATED-TO:mf-AFLABS-URNIK:srecanje:6522
X-WR-TIMEZONE:Europe/Ljubljana
END:VEVENT
BEGIN:VEVENT
SUMMARY:Medicinska celična biologija (MCB)\, Doš (Do)\, [M1-01\, M1-02]
DTSTART;TZID=Europe/Ljubljana:20251016T170000
DTEND;TZID=Europe/Ljubljana:20251016T180000
DTSTAMP:20260420T031115Z
UID:mf-AFLABS-URNIK:premaknjeno-srecanje:30253
ATTENDEE:1. LETNIK (EMŠ M)
CATEGORIES:Entry,Standard
COLOR:darkgreen
DESCRIPTION:Predmet: Medicinska celična biologija (MCB)\, Doš (Do)\, [M1
 -01\, M1-02]\nLetniki: 1. LETNIK (EMŠ M)\nIzvajalci: Inštitut za biologi
 jo celice IBC\nProstor: Vaj - 1 - IBC
LOCATION:Vrazov trg 2\, Vaj - 1 - IBC
ORGANIZER:Inštitut za biologijo celice IBC
RELATED-TO:mf-AFLABS-URNIK:srecanje:6522
X-WR-TIMEZONE:Europe/Ljubljana
END:VEVENT
BEGIN:VEVENT
SUMMARY:Medicinska celična biologija (MCB)\, Doš (Do)\, [M1-01\, M1-02]
DTSTART;TZID=Europe/Ljubljana:20251023T170000
DTEND;TZID=Europe/Ljubljana:20251023T180000
DTSTAMP:20260420T031115Z
UID:mf-AFLABS-URNIK:premaknjeno-srecanje:30254
ATTENDEE:1. LETNIK (EMŠ M)
CATEGORIES:Entry,Standard
COLOR:darkgreen
DESCRIPTION:Predmet: Medicinska celična biologija (MCB)\, Doš (Do)\, [M1
 -01\, M1-02]\nLetniki: 1. LETNIK (EMŠ M)\nIzvajalci: Inštitut za biologi
 jo celice IBC\nProstor: Vaj - 1 - IBC
LOCATION:Vrazov trg 2\, Vaj - 1 - IBC
ORGANIZER:Inštitut za biologijo celice IBC
RELATED-TO:mf-AFLABS-URNIK:srecanje:6522
X-WR-TIMEZONE:Europe/Ljubljana
END:VEVENT
BEGIN:VEVENT
SUMMARY:Medicinska celična biologija (MCB)\, Doš (Do)\, [M1-01\, M1-02]
DTSTART;TZID=Europe/Ljubljana:20251030T170000
DTEND;TZID=Europe/Ljubljana:20251030T180000
DTSTAMP:20260420T031115Z
UID:mf-AFLABS-URNIK:premaknjeno-srecanje:30255
ATTENDEE:1. LETNIK (EMŠ M)
CATEGORIES:Entry,Standard
COLOR:darkgreen
DESCRIPTION:Predmet: Medicinska celična biologija (MCB)\, Doš (Do)\, [M1
 -01\, M1-02]\nLetniki: 1. LETNIK (EMŠ M)\nIzvajalci: Inštitut za biologi
 jo celice IBC\nProstor: Vaj - 1 - IBC
LOCATION:Vrazov trg 2\, Vaj - 1 - IBC
ORGANIZER:Inštitut za biologijo celice IBC
RELATED-TO:mf-AFLABS-URNIK:srecanje:6522
X-WR-TIMEZONE:Europe/Ljubljana
END:VEVENT
BEGIN:VEVENT
SUMMARY:Medicinska celična biologija (MCB)\, Doš (Do)\, [M1-01\, M1-02]
DTSTART;TZID=Europe/Ljubljana:20251106T170000
DTEND;TZID=Europe/Ljubljana:20251106T180000
DTSTAMP:20260420T031115Z
UID:mf-AFLABS-URNIK:premaknjeno-srecanje:30256
ATTENDEE:1. LETNIK (EMŠ M)
CATEGORIES:Entry,Standard
COLOR:darkgreen
DESCRIPTION:Predmet: Medicinska celična biologija (MCB)\, Doš (Do)\, [M1
 -01\, M1-02]\nLetniki: 1. LETNIK (EMŠ M)\nIzvajalci: Inštitut za biologi
 jo celice IBC\nProstor: Vaj - 1 - IBC
LOCATION:Vrazov trg 2\, Vaj - 1 - IBC
ORGANIZER:Inštitut za biologijo celice IBC
RELATED-TO:mf-AFLABS-URNIK:srecanje:6522
X-WR-TIMEZONE:Europe/Ljubljana
END:VEVENT
BEGIN:VEVENT
SUMMARY:Medicinska celična biologija (MCB)\, Doš (Do)\, [M1-01\, M1-02]
DTSTART;TZID=Europe/Ljubljana:20251113T170000
DTEND;TZID=Europe/Ljubljana:20251113T180000
DTSTAMP:20260420T031115Z
UID:mf-AFLABS-URNIK:premaknjeno-srecanje:30257
ATTENDEE:1. LETNIK (EMŠ M)
CATEGORIES:Entry,Standard
COLOR:darkgreen
DESCRIPTION:Predmet: Medicinska celična biologija (MCB)\, Doš (Do)\, [M1
 -01\, M1-02]\nLetniki: 1. LETNIK (EMŠ M)\nIzvajalci: Inštitut za biologi
 jo celice IBC\nProstor: Vaj - 1 - IBC
LOCATION:Vrazov trg 2\, Vaj - 1 - IBC
ORGANIZER:Inštitut za biologijo celice IBC
RELATED-TO:mf-AFLABS-URNIK:srecanje:6522
X-WR-TIMEZONE:Europe/Ljubljana
END:VEVENT
BEGIN:VEVENT
SUMMARY:Medicinska celična biologija (MCB)\, Doš (Do)\, [M1-01\, M1-02]
DTSTART;TZID=Europe/Ljubljana:20251120T170000
DTEND;TZID=Europe/Ljubljana:20251120T180000
DTSTAMP:20260420T031115Z
UID:mf-AFLABS-URNIK:premaknjeno-srecanje:30258
ATTENDEE:1. LETNIK (EMŠ M)
CATEGORIES:Entry,Standard
COLOR:darkgreen
DESCRIPTION:Predmet: Medicinska celična biologija (MCB)\, Doš (Do)\, [M1
 -01\, M1-02]\nLetniki: 1. LETNIK (EMŠ M)\nIzvajalci: Inštitut za biologi
 jo celice IBC\nProstor: Vaj - 1 - IBC
LOCATION:Vrazov trg 2\, Vaj - 1 - IBC
ORGANIZER:Inštitut za biologijo celice IBC
RELATED-TO:mf-AFLABS-URNIK:srecanje:6522
X-WR-TIMEZONE:Europe/Ljubljana
END:VEVENT
BEGIN:VEVENT
SUMMARY:Medicinska celična biologija (MCB)\, Doš (Do)\, [M1-01\, M1-02]
DTSTART;TZID=Europe/Ljubljana:20251127T170000
DTEND;TZID=Europe/Ljubljana:20251127T180000
DTSTAMP:20260420T031115Z
UID:mf-AFLABS-URNIK:premaknjeno-srecanje:30259
ATTENDEE:1. LETNIK (EMŠ M)
CATEGORIES:Entry,Standard
COLOR:darkgreen
DESCRIPTION:Predmet: Medicinska celična biologija (MCB)\, Doš (Do)\, [M1
 -01\, M1-02]\nLetniki: 1. LETNIK (EMŠ M)\nIzvajalci: Inštitut za biologi
 jo celice IBC\nProstor: Vaj - 1 - IBC
LOCATION:Vrazov trg 2\, Vaj - 1 - IBC
ORGANIZER:Inštitut za biologijo celice IBC
RELATED-TO:mf-AFLABS-URNIK:srecanje:6522
X-WR-TIMEZONE:Europe/Ljubljana
END:VEVENT
BEGIN:VEVENT
SUMMARY:Medicinska celična biologija (MCB)\, Doš (Do)\, [M1-01\, M1-02]
DTSTART;TZID=Europe/Ljubljana:20251204T170000
DTEND;TZID=Europe/Ljubljana:20251204T180000
DTSTAMP:20260420T031115Z
UID:mf-AFLABS-URNIK:premaknjeno-srecanje:30260
ATTENDEE:1. LETNIK (EMŠ M)
CATEGORIES:Entry,Standard
COLOR:darkgreen
DESCRIPTION:Predmet: Medicinska celična biologija (MCB)\, Doš (Do)\, [M1
 -01\, M1-02]\nLetniki: 1. LETNIK (EMŠ M)\nIzvajalci: Inštitut za biologi
 jo celice IBC\nProstor: Vaj - 1 - IBC
LOCATION:Vrazov trg 2\, Vaj - 1 - IBC
ORGANIZER:Inštitut za biologijo celice IBC
RELATED-TO:mf-AFLABS-URNIK:srecanje:6522
X-WR-TIMEZONE:Europe/Ljubljana
END:VEVENT
BEGIN:VEVENT
SUMMARY:Medicinska celična biologija (MCB)\, Doš (Do)\, [M1-01\, M1-02]
DTSTART;TZID=Europe/Ljubljana:20251211T170000
DTEND;TZID=Europe/Ljubljana:20251211T180000
DTSTAMP:20260420T031115Z
UID:mf-AFLABS-URNIK:premaknjeno-srecanje:30261
ATTENDEE:1. LETNIK (EMŠ M)
CATEGORIES:Entry,Standard
COLOR:darkgreen
DESCRIPTION:Predmet: Medicinska celična biologija (MCB)\, Doš (Do)\, [M1
 -01\, M1-02]\nLetniki: 1. LETNIK (EMŠ M)\nIzvajalci: Inštitut za biologi
 jo celice IBC\nProstor: Vaj - 1 - IBC
LOCATION:Vrazov trg 2\, Vaj - 1 - IBC
ORGANIZER:Inštitut za biologijo celice IBC
RELATED-TO:mf-AFLABS-URNIK:srecanje:6522
X-WR-TIMEZONE:Europe/Ljubljana
END:VEVENT
BEGIN:VEVENT
SUMMARY:Medicinska celična biologija (MCB)\, Doš (Do)\, [M1-01\, M1-02]
DTSTART;TZID=Europe/Ljubljana:20251218T170000
DTEND;TZID=Europe/Ljubljana:20251218T180000
DTSTAMP:20260420T031115Z
UID:mf-AFLABS-URNIK:premaknjeno-srecanje:30262
ATTENDEE:1. LETNIK (EMŠ M)
CATEGORIES:Entry,Standard
COLOR:darkgreen
DESCRIPTION:Predmet: Medicinska celična biologija (MCB)\, Doš (Do)\, [M1
 -01\, M1-02]\nLetniki: 1. LETNIK (EMŠ M)\nIzvajalci: Inštitut za biologi
 jo celice IBC\nProstor: Vaj - 1 - IBC
LOCATION:Vrazov trg 2\, Vaj - 1 - IBC
ORGANIZER:Inštitut za biologijo celice IBC
RELATED-TO:mf-AFLABS-URNIK:srecanje:6522
X-WR-TIMEZONE:Europe/Ljubljana
END:VEVENT
BEGIN:VEVENT
SUMMARY:IZPIT (prakt.):Histologija zobnega organa
DTSTART;TZID=Europe/Ljubljana:20260420T100000
DTEND;TZID=Europe/Ljubljana:20260420T120000
DTSTAMP:20260420T031115Z
UID:mf-AFLABS-URNIK:rezervacija:8741
ATTENDEE:2. LETNIK (EMŠ DM)
CATEGORIES:Reservation
COLOR:royalblue
DESCRIPTION:Predmeti: Funkcionalna in klinično-aplikativna morfologija in
  embriologija zobnega organa - Histologija zobnega organa (FKMEZO-HZO)\nLe
 tniki: 2. LETNIK (EMŠ DM)\nIzvajalci: Katedra za zobne bolezni in norm KZ
 BNMZO\nProstori: Vaj - 1 - IBC
LOCATION:Vrazov trg 2\, Vaj - 1 - IBC
ORGANIZER:Katedra za zobne bolezni in norm KZBNMZO
X-WR-TIMEZONE:Europe/Ljubljana
END:VEVENT
BEGIN:VEVENT
SUMMARY:IZPIT (prakt.):Histologija zobnega organa
DTSTART;TZID=Europe/Ljubljana:20260420T120000
DTEND;TZID=Europe/Ljubljana:20260420T140000
DTSTAMP:20260420T031115Z
UID:mf-AFLABS-URNIK:rezervacija:8742
ATTENDEE:2. LETNIK (EMŠ DM)
CATEGORIES:Reservation
COLOR:royalblue
DESCRIPTION:Predmeti: Funkcionalna in klinično-aplikativna morfologija in
  embriologija zobnega organa - Histologija zobnega organa (FKMEZO-HZO)\nLe
 tniki: 2. LETNIK (EMŠ DM)\nIzvajalci: \nProstori: Vaj - 1 - IBC
LOCATION:Vrazov trg 2\, Vaj - 1 - IBC
X-WR-TIMEZONE:Europe/Ljubljana
END:VEVENT
BEGIN:VEVENT
SUMMARY:IZPIT (prakt.):Histologija zobnega organa
DTSTART;TZID=Europe/Ljubljana:20260420T140000
DTEND;TZID=Europe/Ljubljana:20260420T160000
DTSTAMP:20260420T031115Z
UID:mf-AFLABS-URNIK:rezervacija:8743
ATTENDEE:2. LETNIK (EMŠ DM)
CATEGORIES:Reservation
COLOR:royalblue
DESCRIPTION:Predmeti: Funkcionalna in klinično-aplikativna morfologija in
  embriologija zobnega organa - Histologija zobnega organa (FKMEZO-HZO)\nLe
 tniki: 2. LETNIK (EMŠ DM)\nIzvajalci: \nProstori: Vaj - 1 - IBC
LOCATION:Vrazov trg 2\, Vaj - 1 - IBC
X-WR-TIMEZONE:Europe/Ljubljana
END:VEVENT
BEGIN:VEVENT
SUMMARY:KOLOKVIJ Medicinska celična biologija
DTSTART;TZID=Europe/Ljubljana:20251217T120000
DTEND;TZID=Europe/Ljubljana:20251217T180000
DTSTAMP:20260420T031115Z
UID:mf-AFLABS-URNIK:rezervacija:10436
ATTENDEE:1. LETNIK (EMŠ M)
CATEGORIES:Reservation
COLOR:royalblue
DESCRIPTION:Predmeti: Medicinska celična biologija (MCB)\nLetniki: 1. LET
 NIK (EMŠ M)\nIzvajalci: \nProstori: Vaj - 1 - IBC\, Vaj - 2 - IBC
LOCATION:Vrazov trg 2\, Vaj - 1 - IBC\, Vrazov trg 2\, Vaj - 2 - IBC
X-WR-TIMEZONE:Europe/Ljubljana
END:VEVENT
BEGIN:VEVENT
SUMMARY:KOLOKVIJ Medicinska celična biologija
DTSTART;TZID=Europe/Ljubljana:20251218T080000
DTEND;TZID=Europe/Ljubljana:20251218T120000
DTSTAMP:20260420T031115Z
UID:mf-AFLABS-URNIK:rezervacija:10437
ATTENDEE:1. LETNIK (EMŠ M)
CATEGORIES:Reservation
COLOR:royalblue
DESCRIPTION:Predmeti: Medicinska celična biologija (MCB)\nLetniki: 1. LET
 NIK (EMŠ M)\nIzvajalci: \nProstori: Vaj - 1 - IBC\, Vaj - 2 - IBC
LOCATION:Vrazov trg 2\, Vaj - 1 - IBC\, Vrazov trg 2\, Vaj - 2 - IBC
X-WR-TIMEZONE:Europe/Ljubljana
END:VEVENT
BEGIN:VEVENT
SUMMARY:KOLOKVIJ Biologija celice za dentalno medicino
DTSTART;TZID=Europe/Ljubljana:20251218T120000
DTEND;TZID=Europe/Ljubljana:20251218T160000
DTSTAMP:20260420T031115Z
UID:mf-AFLABS-URNIK:rezervacija:10438
ATTENDEE:1. LETNIK (EMŠ DM)
CATEGORIES:Reservation
COLOR:royalblue
DESCRIPTION:Predmeti: Biologija celice za dentalno medicino (BCDM)\nLetnik
 i: 1. LETNIK (EMŠ DM)\nIzvajalci: \nProstori: Vaj - 1 - IBC\, Vaj - 2 - I
 BC
LOCATION:Vrazov trg 2\, Vaj - 1 - IBC\, Vrazov trg 2\, Vaj - 2 - IBC
X-WR-TIMEZONE:Europe/Ljubljana
END:VEVENT
END:VCALENDAR
