BEGIN:VCALENDAR
VERSION:2.0
PRODID:-//AFLabs urnik izvoz - mf//aflabs.si//SI
DTSTAMP:20260420T041333Z
NAME:UL MF urnik
REFRESH-INTERVAL:PT1H
SOURCE:https://afurnik-mf.dev.aflabs.org/en/classroom/54/?export=1&sub_typ
 e=D1-05
URL:https://afurnik-mf.dev.aflabs.org/en/classroom/54/?export=1&sub_type=D
 1-05
X-PUBLISHED-TTL:PT1H
X-WR-CALNAME:UL MF urnik
X-WR-TIMEZONE:Europe/Ljubljana
BEGIN:VTIMEZONE
TZID:Europe/Ljubljana
BEGIN:DAYLIGHT
DTSTART:20260329T020000
RDATE:20260329T020000
RDATE:20270328T020000
TZNAME:CEST
TZOFFSETFROM:+0100
TZOFFSETTO:+0200
END:DAYLIGHT
BEGIN:STANDARD
DTSTART:20261025T030000
RDATE:20261025T030000
RDATE:20271031T030000
TZNAME:CET
TZOFFSETFROM:+0200
TZOFFSETTO:+0100
END:STANDARD
END:VTIMEZONE
BEGIN:VEVENT
SUMMARY:Biologija celice za dentalno medicino (BCDM)\, Vaje (V)\, [D1-05\,
  D1-06]
DTSTART;TZID=Europe/Ljubljana:20251008T080000
DTEND;TZID=Europe/Ljubljana:20251008T100000
DTSTAMP:20260420T041333Z
UID:mf-AFLABS-URNIK:premaknjeno-srecanje:31526
ATTENDEE:1. LETNIK (EMŠ DM)
CATEGORIES:Entry,Standard
COLOR:darkgreen
DESCRIPTION:Predmet: Biologija celice za dentalno medicino (BCDM)\, Vaje (
 V)\, [D1-05\, D1-06]\nLetniki: 1. LETNIK (EMŠ DM)\nIzvajalci: Inštitut z
 a biologijo celice IBC\nProstor: Vaj - 1 - IBC
LOCATION:Vrazov trg 2\, Vaj - 1 - IBC
ORGANIZER:Inštitut za biologijo celice IBC
RELATED-TO:mf-AFLABS-URNIK:srecanje:6826
X-WR-TIMEZONE:Europe/Ljubljana
END:VEVENT
BEGIN:VEVENT
SUMMARY:Biologija celice za dentalno medicino (BCDM)\, Vaje (V)\, [D1-05\,
  D1-06]
DTSTART;TZID=Europe/Ljubljana:20251015T080000
DTEND;TZID=Europe/Ljubljana:20251015T100000
DTSTAMP:20260420T041333Z
UID:mf-AFLABS-URNIK:premaknjeno-srecanje:31527
ATTENDEE:1. LETNIK (EMŠ DM)
CATEGORIES:Entry,Standard
COLOR:darkgreen
DESCRIPTION:Predmet: Biologija celice za dentalno medicino (BCDM)\, Vaje (
 V)\, [D1-05\, D1-06]\nLetniki: 1. LETNIK (EMŠ DM)\nIzvajalci: Inštitut z
 a biologijo celice IBC\nProstor: Vaj - 1 - IBC
LOCATION:Vrazov trg 2\, Vaj - 1 - IBC
ORGANIZER:Inštitut za biologijo celice IBC
RELATED-TO:mf-AFLABS-URNIK:srecanje:6826
X-WR-TIMEZONE:Europe/Ljubljana
END:VEVENT
BEGIN:VEVENT
SUMMARY:Biologija celice za dentalno medicino (BCDM)\, Vaje (V)\, [D1-05\,
  D1-06]
DTSTART;TZID=Europe/Ljubljana:20251022T080000
DTEND;TZID=Europe/Ljubljana:20251022T100000
DTSTAMP:20260420T041333Z
UID:mf-AFLABS-URNIK:premaknjeno-srecanje:31528
ATTENDEE:1. LETNIK (EMŠ DM)
CATEGORIES:Entry,Standard
COLOR:darkgreen
DESCRIPTION:Predmet: Biologija celice za dentalno medicino (BCDM)\, Vaje (
 V)\, [D1-05\, D1-06]\nLetniki: 1. LETNIK (EMŠ DM)\nIzvajalci: Inštitut z
 a biologijo celice IBC\nProstor: Vaj - 1 - IBC
LOCATION:Vrazov trg 2\, Vaj - 1 - IBC
ORGANIZER:Inštitut za biologijo celice IBC
RELATED-TO:mf-AFLABS-URNIK:srecanje:6826
X-WR-TIMEZONE:Europe/Ljubljana
END:VEVENT
BEGIN:VEVENT
SUMMARY:Biologija celice za dentalno medicino (BCDM)\, Vaje (V)\, [D1-05\,
  D1-06]
DTSTART;TZID=Europe/Ljubljana:20251029T080000
DTEND;TZID=Europe/Ljubljana:20251029T100000
DTSTAMP:20260420T041333Z
UID:mf-AFLABS-URNIK:premaknjeno-srecanje:31529
ATTENDEE:1. LETNIK (EMŠ DM)
CATEGORIES:Entry,Standard
COLOR:darkgreen
DESCRIPTION:Predmet: Biologija celice za dentalno medicino (BCDM)\, Vaje (
 V)\, [D1-05\, D1-06]\nLetniki: 1. LETNIK (EMŠ DM)\nIzvajalci: Inštitut z
 a biologijo celice IBC\nProstor: Vaj - 1 - IBC
LOCATION:Vrazov trg 2\, Vaj - 1 - IBC
ORGANIZER:Inštitut za biologijo celice IBC
RELATED-TO:mf-AFLABS-URNIK:srecanje:6826
X-WR-TIMEZONE:Europe/Ljubljana
END:VEVENT
BEGIN:VEVENT
SUMMARY:Biologija celice za dentalno medicino (BCDM)\, Vaje (V)\, [D1-05\,
  D1-06]
DTSTART;TZID=Europe/Ljubljana:20251105T080000
DTEND;TZID=Europe/Ljubljana:20251105T100000
DTSTAMP:20260420T041333Z
UID:mf-AFLABS-URNIK:premaknjeno-srecanje:31530
ATTENDEE:1. LETNIK (EMŠ DM)
CATEGORIES:Entry,Standard
COLOR:darkgreen
DESCRIPTION:Predmet: Biologija celice za dentalno medicino (BCDM)\, Vaje (
 V)\, [D1-05\, D1-06]\nLetniki: 1. LETNIK (EMŠ DM)\nIzvajalci: Inštitut z
 a biologijo celice IBC\nProstor: Vaj - 1 - IBC
LOCATION:Vrazov trg 2\, Vaj - 1 - IBC
ORGANIZER:Inštitut za biologijo celice IBC
RELATED-TO:mf-AFLABS-URNIK:srecanje:6826
X-WR-TIMEZONE:Europe/Ljubljana
END:VEVENT
BEGIN:VEVENT
SUMMARY:Biologija celice za dentalno medicino (BCDM)\, Vaje (V)\, [D1-05\,
  D1-06]
DTSTART;TZID=Europe/Ljubljana:20251112T080000
DTEND;TZID=Europe/Ljubljana:20251112T100000
DTSTAMP:20260420T041333Z
UID:mf-AFLABS-URNIK:premaknjeno-srecanje:31531
ATTENDEE:1. LETNIK (EMŠ DM)
CATEGORIES:Entry,Standard
COLOR:darkgreen
DESCRIPTION:Predmet: Biologija celice za dentalno medicino (BCDM)\, Vaje (
 V)\, [D1-05\, D1-06]\nLetniki: 1. LETNIK (EMŠ DM)\nIzvajalci: Inštitut z
 a biologijo celice IBC\nProstor: Vaj - 1 - IBC
LOCATION:Vrazov trg 2\, Vaj - 1 - IBC
ORGANIZER:Inštitut za biologijo celice IBC
RELATED-TO:mf-AFLABS-URNIK:srecanje:6826
X-WR-TIMEZONE:Europe/Ljubljana
END:VEVENT
BEGIN:VEVENT
SUMMARY:Biologija celice za dentalno medicino (BCDM)\, Vaje (V)\, [D1-05\,
  D1-06]
DTSTART;TZID=Europe/Ljubljana:20251119T080000
DTEND;TZID=Europe/Ljubljana:20251119T100000
DTSTAMP:20260420T041333Z
UID:mf-AFLABS-URNIK:premaknjeno-srecanje:31532
ATTENDEE:1. LETNIK (EMŠ DM)
CATEGORIES:Entry,Standard
COLOR:darkgreen
DESCRIPTION:Predmet: Biologija celice za dentalno medicino (BCDM)\, Vaje (
 V)\, [D1-05\, D1-06]\nLetniki: 1. LETNIK (EMŠ DM)\nIzvajalci: Inštitut z
 a biologijo celice IBC\nProstor: Vaj - 1 - IBC
LOCATION:Vrazov trg 2\, Vaj - 1 - IBC
ORGANIZER:Inštitut za biologijo celice IBC
RELATED-TO:mf-AFLABS-URNIK:srecanje:6826
X-WR-TIMEZONE:Europe/Ljubljana
END:VEVENT
BEGIN:VEVENT
SUMMARY:Biologija celice za dentalno medicino (BCDM)\, Vaje (V)\, [D1-05\,
  D1-06]
DTSTART;TZID=Europe/Ljubljana:20251126T080000
DTEND;TZID=Europe/Ljubljana:20251126T100000
DTSTAMP:20260420T041333Z
UID:mf-AFLABS-URNIK:premaknjeno-srecanje:31533
ATTENDEE:1. LETNIK (EMŠ DM)
CATEGORIES:Entry,Standard
COLOR:darkgreen
DESCRIPTION:Predmet: Biologija celice za dentalno medicino (BCDM)\, Vaje (
 V)\, [D1-05\, D1-06]\nLetniki: 1. LETNIK (EMŠ DM)\nIzvajalci: Inštitut z
 a biologijo celice IBC\nProstor: Vaj - 1 - IBC
LOCATION:Vrazov trg 2\, Vaj - 1 - IBC
ORGANIZER:Inštitut za biologijo celice IBC
RELATED-TO:mf-AFLABS-URNIK:srecanje:6826
X-WR-TIMEZONE:Europe/Ljubljana
END:VEVENT
BEGIN:VEVENT
SUMMARY:Biologija celice za dentalno medicino (BCDM)\, Vaje (V)\, [D1-05\,
  D1-06]
DTSTART;TZID=Europe/Ljubljana:20251203T080000
DTEND;TZID=Europe/Ljubljana:20251203T100000
DTSTAMP:20260420T041333Z
UID:mf-AFLABS-URNIK:premaknjeno-srecanje:31534
ATTENDEE:1. LETNIK (EMŠ DM)
CATEGORIES:Entry,Standard
COLOR:darkgreen
DESCRIPTION:Predmet: Biologija celice za dentalno medicino (BCDM)\, Vaje (
 V)\, [D1-05\, D1-06]\nLetniki: 1. LETNIK (EMŠ DM)\nIzvajalci: Inštitut z
 a biologijo celice IBC\nProstor: Vaj - 1 - IBC
LOCATION:Vrazov trg 2\, Vaj - 1 - IBC
ORGANIZER:Inštitut za biologijo celice IBC
RELATED-TO:mf-AFLABS-URNIK:srecanje:6826
X-WR-TIMEZONE:Europe/Ljubljana
END:VEVENT
BEGIN:VEVENT
SUMMARY:Biologija celice za dentalno medicino (BCDM)\, Vaje (V)\, [D1-05\,
  D1-06]
DTSTART;TZID=Europe/Ljubljana:20251210T080000
DTEND;TZID=Europe/Ljubljana:20251210T100000
DTSTAMP:20260420T041333Z
UID:mf-AFLABS-URNIK:premaknjeno-srecanje:31535
ATTENDEE:1. LETNIK (EMŠ DM)
CATEGORIES:Entry,Standard
COLOR:darkgreen
DESCRIPTION:Predmet: Biologija celice za dentalno medicino (BCDM)\, Vaje (
 V)\, [D1-05\, D1-06]\nLetniki: 1. LETNIK (EMŠ DM)\nIzvajalci: Inštitut z
 a biologijo celice IBC\nProstor: Vaj - 1 - IBC
LOCATION:Vrazov trg 2\, Vaj - 1 - IBC
ORGANIZER:Inštitut za biologijo celice IBC
RELATED-TO:mf-AFLABS-URNIK:srecanje:6826
X-WR-TIMEZONE:Europe/Ljubljana
END:VEVENT
BEGIN:VEVENT
SUMMARY:Biologija celice za dentalno medicino (BCDM)\, Vaje (V)\, [D1-05\,
  D1-06]
DTSTART;TZID=Europe/Ljubljana:20251009T140000
DTEND;TZID=Europe/Ljubljana:20251009T160000
DTSTAMP:20260420T041333Z
UID:mf-AFLABS-URNIK:premaknjeno-srecanje:31566
ATTENDEE:1. LETNIK (EMŠ DM)
CATEGORIES:Entry,Standard
COLOR:darkgreen
DESCRIPTION:Predmet: Biologija celice za dentalno medicino (BCDM)\, Vaje (
 V)\, [D1-05\, D1-06]\nLetniki: 1. LETNIK (EMŠ DM)\nIzvajalci: Inštitut z
 a biologijo celice IBC\nProstor: Vaj - 1 - IBC
LOCATION:Vrazov trg 2\, Vaj - 1 - IBC
ORGANIZER:Inštitut za biologijo celice IBC
RELATED-TO:mf-AFLABS-URNIK:srecanje:6830
X-WR-TIMEZONE:Europe/Ljubljana
END:VEVENT
BEGIN:VEVENT
SUMMARY:Biologija celice za dentalno medicino (BCDM)\, Vaje (V)\, [D1-05\,
  D1-06]
DTSTART;TZID=Europe/Ljubljana:20251016T140000
DTEND;TZID=Europe/Ljubljana:20251016T160000
DTSTAMP:20260420T041333Z
UID:mf-AFLABS-URNIK:premaknjeno-srecanje:31567
ATTENDEE:1. LETNIK (EMŠ DM)
CATEGORIES:Entry,Standard
COLOR:darkgreen
DESCRIPTION:Predmet: Biologija celice za dentalno medicino (BCDM)\, Vaje (
 V)\, [D1-05\, D1-06]\nLetniki: 1. LETNIK (EMŠ DM)\nIzvajalci: Inštitut z
 a biologijo celice IBC\nProstor: Vaj - 1 - IBC
LOCATION:Vrazov trg 2\, Vaj - 1 - IBC
ORGANIZER:Inštitut za biologijo celice IBC
RELATED-TO:mf-AFLABS-URNIK:srecanje:6830
X-WR-TIMEZONE:Europe/Ljubljana
END:VEVENT
BEGIN:VEVENT
SUMMARY:Biologija celice za dentalno medicino (BCDM)\, Vaje (V)\, [D1-05\,
  D1-06]
DTSTART;TZID=Europe/Ljubljana:20251023T140000
DTEND;TZID=Europe/Ljubljana:20251023T160000
DTSTAMP:20260420T041333Z
UID:mf-AFLABS-URNIK:premaknjeno-srecanje:31568
ATTENDEE:1. LETNIK (EMŠ DM)
CATEGORIES:Entry,Standard
COLOR:darkgreen
DESCRIPTION:Predmet: Biologija celice za dentalno medicino (BCDM)\, Vaje (
 V)\, [D1-05\, D1-06]\nLetniki: 1. LETNIK (EMŠ DM)\nIzvajalci: Inštitut z
 a biologijo celice IBC\nProstor: Vaj - 1 - IBC
LOCATION:Vrazov trg 2\, Vaj - 1 - IBC
ORGANIZER:Inštitut za biologijo celice IBC
RELATED-TO:mf-AFLABS-URNIK:srecanje:6830
X-WR-TIMEZONE:Europe/Ljubljana
END:VEVENT
BEGIN:VEVENT
SUMMARY:Biologija celice za dentalno medicino (BCDM)\, Vaje (V)\, [D1-05\,
  D1-06]
DTSTART;TZID=Europe/Ljubljana:20251030T140000
DTEND;TZID=Europe/Ljubljana:20251030T160000
DTSTAMP:20260420T041333Z
UID:mf-AFLABS-URNIK:premaknjeno-srecanje:31569
ATTENDEE:1. LETNIK (EMŠ DM)
CATEGORIES:Entry,Standard
COLOR:darkgreen
DESCRIPTION:Predmet: Biologija celice za dentalno medicino (BCDM)\, Vaje (
 V)\, [D1-05\, D1-06]\nLetniki: 1. LETNIK (EMŠ DM)\nIzvajalci: Inštitut z
 a biologijo celice IBC\nProstor: Vaj - 1 - IBC
LOCATION:Vrazov trg 2\, Vaj - 1 - IBC
ORGANIZER:Inštitut za biologijo celice IBC
RELATED-TO:mf-AFLABS-URNIK:srecanje:6830
X-WR-TIMEZONE:Europe/Ljubljana
END:VEVENT
BEGIN:VEVENT
SUMMARY:Biologija celice za dentalno medicino (BCDM)\, Vaje (V)\, [D1-05\,
  D1-06]
DTSTART;TZID=Europe/Ljubljana:20251106T140000
DTEND;TZID=Europe/Ljubljana:20251106T160000
DTSTAMP:20260420T041333Z
UID:mf-AFLABS-URNIK:premaknjeno-srecanje:31570
ATTENDEE:1. LETNIK (EMŠ DM)
CATEGORIES:Entry,Standard
COLOR:darkgreen
DESCRIPTION:Predmet: Biologija celice za dentalno medicino (BCDM)\, Vaje (
 V)\, [D1-05\, D1-06]\nLetniki: 1. LETNIK (EMŠ DM)\nIzvajalci: Inštitut z
 a biologijo celice IBC\nProstor: Vaj - 1 - IBC
LOCATION:Vrazov trg 2\, Vaj - 1 - IBC
ORGANIZER:Inštitut za biologijo celice IBC
RELATED-TO:mf-AFLABS-URNIK:srecanje:6830
X-WR-TIMEZONE:Europe/Ljubljana
END:VEVENT
BEGIN:VEVENT
SUMMARY:Biologija celice za dentalno medicino (BCDM)\, Vaje (V)\, [D1-05\,
  D1-06]
DTSTART;TZID=Europe/Ljubljana:20251113T140000
DTEND;TZID=Europe/Ljubljana:20251113T160000
DTSTAMP:20260420T041333Z
UID:mf-AFLABS-URNIK:premaknjeno-srecanje:31571
ATTENDEE:1. LETNIK (EMŠ DM)
CATEGORIES:Entry,Standard
COLOR:darkgreen
DESCRIPTION:Predmet: Biologija celice za dentalno medicino (BCDM)\, Vaje (
 V)\, [D1-05\, D1-06]\nLetniki: 1. LETNIK (EMŠ DM)\nIzvajalci: Inštitut z
 a biologijo celice IBC\nProstor: Vaj - 1 - IBC
LOCATION:Vrazov trg 2\, Vaj - 1 - IBC
ORGANIZER:Inštitut za biologijo celice IBC
RELATED-TO:mf-AFLABS-URNIK:srecanje:6830
X-WR-TIMEZONE:Europe/Ljubljana
END:VEVENT
BEGIN:VEVENT
SUMMARY:Biologija celice za dentalno medicino (BCDM)\, Vaje (V)\, [D1-05\,
  D1-06]
DTSTART;TZID=Europe/Ljubljana:20251120T140000
DTEND;TZID=Europe/Ljubljana:20251120T160000
DTSTAMP:20260420T041333Z
UID:mf-AFLABS-URNIK:premaknjeno-srecanje:31572
ATTENDEE:1. LETNIK (EMŠ DM)
CATEGORIES:Entry,Standard
COLOR:darkgreen
DESCRIPTION:Predmet: Biologija celice za dentalno medicino (BCDM)\, Vaje (
 V)\, [D1-05\, D1-06]\nLetniki: 1. LETNIK (EMŠ DM)\nIzvajalci: Inštitut z
 a biologijo celice IBC\nProstor: Vaj - 1 - IBC
LOCATION:Vrazov trg 2\, Vaj - 1 - IBC
ORGANIZER:Inštitut za biologijo celice IBC
RELATED-TO:mf-AFLABS-URNIK:srecanje:6830
X-WR-TIMEZONE:Europe/Ljubljana
END:VEVENT
BEGIN:VEVENT
SUMMARY:Biologija celice za dentalno medicino (BCDM)\, Vaje (V)\, [D1-05\,
  D1-06]
DTSTART;TZID=Europe/Ljubljana:20251127T140000
DTEND;TZID=Europe/Ljubljana:20251127T160000
DTSTAMP:20260420T041333Z
UID:mf-AFLABS-URNIK:premaknjeno-srecanje:31573
ATTENDEE:1. LETNIK (EMŠ DM)
CATEGORIES:Entry,Standard
COLOR:darkgreen
DESCRIPTION:Predmet: Biologija celice za dentalno medicino (BCDM)\, Vaje (
 V)\, [D1-05\, D1-06]\nLetniki: 1. LETNIK (EMŠ DM)\nIzvajalci: Inštitut z
 a biologijo celice IBC\nProstor: Vaj - 1 - IBC
LOCATION:Vrazov trg 2\, Vaj - 1 - IBC
ORGANIZER:Inštitut za biologijo celice IBC
RELATED-TO:mf-AFLABS-URNIK:srecanje:6830
X-WR-TIMEZONE:Europe/Ljubljana
END:VEVENT
BEGIN:VEVENT
SUMMARY:Biologija celice za dentalno medicino (BCDM)\, Vaje (V)\, [D1-05\,
  D1-06]
DTSTART;TZID=Europe/Ljubljana:20251204T140000
DTEND;TZID=Europe/Ljubljana:20251204T160000
DTSTAMP:20260420T041333Z
UID:mf-AFLABS-URNIK:premaknjeno-srecanje:31574
ATTENDEE:1. LETNIK (EMŠ DM)
CATEGORIES:Entry,Standard
COLOR:darkgreen
DESCRIPTION:Predmet: Biologija celice za dentalno medicino (BCDM)\, Vaje (
 V)\, [D1-05\, D1-06]\nLetniki: 1. LETNIK (EMŠ DM)\nIzvajalci: Inštitut z
 a biologijo celice IBC\nProstor: Vaj - 1 - IBC
LOCATION:Vrazov trg 2\, Vaj - 1 - IBC
ORGANIZER:Inštitut za biologijo celice IBC
RELATED-TO:mf-AFLABS-URNIK:srecanje:6830
X-WR-TIMEZONE:Europe/Ljubljana
END:VEVENT
BEGIN:VEVENT
SUMMARY:Biologija celice za dentalno medicino (BCDM)\, Vaje (V)\, [D1-05\,
  D1-06]
DTSTART;TZID=Europe/Ljubljana:20251211T140000
DTEND;TZID=Europe/Ljubljana:20251211T160000
DTSTAMP:20260420T041333Z
UID:mf-AFLABS-URNIK:premaknjeno-srecanje:31575
ATTENDEE:1. LETNIK (EMŠ DM)
CATEGORIES:Entry,Standard
COLOR:darkgreen
DESCRIPTION:Predmet: Biologija celice za dentalno medicino (BCDM)\, Vaje (
 V)\, [D1-05\, D1-06]\nLetniki: 1. LETNIK (EMŠ DM)\nIzvajalci: Inštitut z
 a biologijo celice IBC\nProstor: Vaj - 1 - IBC
LOCATION:Vrazov trg 2\, Vaj - 1 - IBC
ORGANIZER:Inštitut za biologijo celice IBC
RELATED-TO:mf-AFLABS-URNIK:srecanje:6830
X-WR-TIMEZONE:Europe/Ljubljana
END:VEVENT
BEGIN:VEVENT
SUMMARY:Raziskovanje v dentalni medicini 1 (RDM1)\, Seminar (S)\, [D1-05]
DTSTART;TZID=Europe/Ljubljana:20260416T110000
DTEND;TZID=Europe/Ljubljana:20260416T133000
DTSTAMP:20260420T041333Z
UID:mf-AFLABS-URNIK:premaknjeno-srecanje:31888
ATTENDEE:1. LETNIK (EMŠ DM)
CATEGORIES:Entry,Standard
COLOR:darkgreen
DESCRIPTION:Predmet: Raziskovanje v dentalni medicini 1 (RDM1)\, Seminar (
 S)\, [D1-05]\nLetniki: 1. LETNIK (EMŠ DM)\nIzvajalci: Inštitut za biolog
 ijo celice IBC\nProstor: Vaj - 1 - IBC
LOCATION:Vrazov trg 2\, Vaj - 1 - IBC
ORGANIZER:Inštitut za biologijo celice IBC
RELATED-TO:mf-AFLABS-URNIK:srecanje:6919
X-WR-TIMEZONE:Europe/Ljubljana
END:VEVENT
BEGIN:VEVENT
SUMMARY:Raziskovanje v dentalni medicini 1 (RDM1)\, Seminar (S)\, [D1-05]
DTSTART;TZID=Europe/Ljubljana:20260423T110000
DTEND;TZID=Europe/Ljubljana:20260423T133000
DTSTAMP:20260420T041333Z
UID:mf-AFLABS-URNIK:premaknjeno-srecanje:31889
ATTENDEE:1. LETNIK (EMŠ DM)
CATEGORIES:Entry,Standard
COLOR:darkgreen
DESCRIPTION:Predmet: Raziskovanje v dentalni medicini 1 (RDM1)\, Seminar (
 S)\, [D1-05]\nLetniki: 1. LETNIK (EMŠ DM)\nIzvajalci: Inštitut za biolog
 ijo celice IBC\nProstor: Vaj - 1 - IBC
LOCATION:Vrazov trg 2\, Vaj - 1 - IBC
ORGANIZER:Inštitut za biologijo celice IBC
RELATED-TO:mf-AFLABS-URNIK:srecanje:6919
X-WR-TIMEZONE:Europe/Ljubljana
END:VEVENT
BEGIN:VEVENT
SUMMARY:IZPIT (prakt.):Histologija zobnega organa
DTSTART;TZID=Europe/Ljubljana:20260420T100000
DTEND;TZID=Europe/Ljubljana:20260420T120000
DTSTAMP:20260420T041333Z
UID:mf-AFLABS-URNIK:rezervacija:8741
ATTENDEE:2. LETNIK (EMŠ DM)
CATEGORIES:Reservation
COLOR:royalblue
DESCRIPTION:Predmeti: Funkcionalna in klinično-aplikativna morfologija in
  embriologija zobnega organa - Histologija zobnega organa (FKMEZO-HZO)\nLe
 tniki: 2. LETNIK (EMŠ DM)\nIzvajalci: Katedra za zobne bolezni in norm KZ
 BNMZO\nProstori: Vaj - 1 - IBC
LOCATION:Vrazov trg 2\, Vaj - 1 - IBC
ORGANIZER:Katedra za zobne bolezni in norm KZBNMZO
X-WR-TIMEZONE:Europe/Ljubljana
END:VEVENT
BEGIN:VEVENT
SUMMARY:IZPIT (prakt.):Histologija zobnega organa
DTSTART;TZID=Europe/Ljubljana:20260420T120000
DTEND;TZID=Europe/Ljubljana:20260420T140000
DTSTAMP:20260420T041333Z
UID:mf-AFLABS-URNIK:rezervacija:8742
ATTENDEE:2. LETNIK (EMŠ DM)
CATEGORIES:Reservation
COLOR:royalblue
DESCRIPTION:Predmeti: Funkcionalna in klinično-aplikativna morfologija in
  embriologija zobnega organa - Histologija zobnega organa (FKMEZO-HZO)\nLe
 tniki: 2. LETNIK (EMŠ DM)\nIzvajalci: \nProstori: Vaj - 1 - IBC
LOCATION:Vrazov trg 2\, Vaj - 1 - IBC
X-WR-TIMEZONE:Europe/Ljubljana
END:VEVENT
BEGIN:VEVENT
SUMMARY:IZPIT (prakt.):Histologija zobnega organa
DTSTART;TZID=Europe/Ljubljana:20260420T140000
DTEND;TZID=Europe/Ljubljana:20260420T160000
DTSTAMP:20260420T041333Z
UID:mf-AFLABS-URNIK:rezervacija:8743
ATTENDEE:2. LETNIK (EMŠ DM)
CATEGORIES:Reservation
COLOR:royalblue
DESCRIPTION:Predmeti: Funkcionalna in klinično-aplikativna morfologija in
  embriologija zobnega organa - Histologija zobnega organa (FKMEZO-HZO)\nLe
 tniki: 2. LETNIK (EMŠ DM)\nIzvajalci: \nProstori: Vaj - 1 - IBC
LOCATION:Vrazov trg 2\, Vaj - 1 - IBC
X-WR-TIMEZONE:Europe/Ljubljana
END:VEVENT
BEGIN:VEVENT
SUMMARY:KOLOKVIJ Medicinska celična biologija
DTSTART;TZID=Europe/Ljubljana:20251217T120000
DTEND;TZID=Europe/Ljubljana:20251217T180000
DTSTAMP:20260420T041333Z
UID:mf-AFLABS-URNIK:rezervacija:10436
ATTENDEE:1. LETNIK (EMŠ M)
CATEGORIES:Reservation
COLOR:royalblue
DESCRIPTION:Predmeti: Medicinska celična biologija (MCB)\nLetniki: 1. LET
 NIK (EMŠ M)\nIzvajalci: \nProstori: Vaj - 1 - IBC\, Vaj - 2 - IBC
LOCATION:Vrazov trg 2\, Vaj - 1 - IBC\, Vrazov trg 2\, Vaj - 2 - IBC
X-WR-TIMEZONE:Europe/Ljubljana
END:VEVENT
BEGIN:VEVENT
SUMMARY:KOLOKVIJ Medicinska celična biologija
DTSTART;TZID=Europe/Ljubljana:20251218T080000
DTEND;TZID=Europe/Ljubljana:20251218T120000
DTSTAMP:20260420T041333Z
UID:mf-AFLABS-URNIK:rezervacija:10437
ATTENDEE:1. LETNIK (EMŠ M)
CATEGORIES:Reservation
COLOR:royalblue
DESCRIPTION:Predmeti: Medicinska celična biologija (MCB)\nLetniki: 1. LET
 NIK (EMŠ M)\nIzvajalci: \nProstori: Vaj - 1 - IBC\, Vaj - 2 - IBC
LOCATION:Vrazov trg 2\, Vaj - 1 - IBC\, Vrazov trg 2\, Vaj - 2 - IBC
X-WR-TIMEZONE:Europe/Ljubljana
END:VEVENT
BEGIN:VEVENT
SUMMARY:KOLOKVIJ Biologija celice za dentalno medicino
DTSTART;TZID=Europe/Ljubljana:20251218T120000
DTEND;TZID=Europe/Ljubljana:20251218T160000
DTSTAMP:20260420T041333Z
UID:mf-AFLABS-URNIK:rezervacija:10438
ATTENDEE:1. LETNIK (EMŠ DM)
CATEGORIES:Reservation
COLOR:royalblue
DESCRIPTION:Predmeti: Biologija celice za dentalno medicino (BCDM)\nLetnik
 i: 1. LETNIK (EMŠ DM)\nIzvajalci: \nProstori: Vaj - 1 - IBC\, Vaj - 2 - I
 BC
LOCATION:Vrazov trg 2\, Vaj - 1 - IBC\, Vrazov trg 2\, Vaj - 2 - IBC
X-WR-TIMEZONE:Europe/Ljubljana
END:VEVENT
END:VCALENDAR
