BEGIN:VCALENDAR
VERSION:2.0
PRODID:-//AFLabs urnik izvoz - mf//aflabs.si//SI
DTSTAMP:20260420T041334Z
NAME:UL MF urnik
REFRESH-INTERVAL:PT1H
SOURCE:https://afurnik-mf.dev.aflabs.org/en/classroom/54/?export=1&sub_typ
 e=M1-06
URL:https://afurnik-mf.dev.aflabs.org/en/classroom/54/?export=1&sub_type=M
 1-06
X-PUBLISHED-TTL:PT1H
X-WR-CALNAME:UL MF urnik
X-WR-TIMEZONE:Europe/Ljubljana
BEGIN:VTIMEZONE
TZID:Europe/Ljubljana
BEGIN:DAYLIGHT
DTSTART:20260329T020000
RDATE:20260329T020000
RDATE:20270328T020000
TZNAME:CEST
TZOFFSETFROM:+0100
TZOFFSETTO:+0200
END:DAYLIGHT
BEGIN:STANDARD
DTSTART:20261025T030000
RDATE:20261025T030000
RDATE:20271031T030000
TZNAME:CET
TZOFFSETFROM:+0200
TZOFFSETTO:+0100
END:STANDARD
END:VTIMEZONE
BEGIN:VEVENT
SUMMARY:Medicinska celična biologija (MCB)\, Doš (Do)\, [M1-05\, M1-06]
DTSTART;TZID=Europe/Ljubljana:20251007T190000
DTEND;TZID=Europe/Ljubljana:20251007T200000
DTSTAMP:20260420T041334Z
UID:mf-AFLABS-URNIK:premaknjeno-srecanje:30026
ATTENDEE:1. LETNIK (EMŠ M)
CATEGORIES:Entry,Standard
COLOR:darkgreen
DESCRIPTION:Predmet: Medicinska celična biologija (MCB)\, Doš (Do)\, [M1
 -05\, M1-06]\nLetniki: 1. LETNIK (EMŠ M)\nIzvajalci: Inštitut za biologi
 jo celice IBC\nProstor: Vaj - 1 - IBC
LOCATION:Vrazov trg 2\, Vaj - 1 - IBC
ORGANIZER:Inštitut za biologijo celice IBC
RELATED-TO:mf-AFLABS-URNIK:srecanje:6500
X-WR-TIMEZONE:Europe/Ljubljana
END:VEVENT
BEGIN:VEVENT
SUMMARY:Medicinska celična biologija (MCB)\, Doš (Do)\, [M1-05\, M1-06]
DTSTART;TZID=Europe/Ljubljana:20251014T190000
DTEND;TZID=Europe/Ljubljana:20251014T200000
DTSTAMP:20260420T041334Z
UID:mf-AFLABS-URNIK:premaknjeno-srecanje:30027
ATTENDEE:1. LETNIK (EMŠ M)
CATEGORIES:Entry,Standard
COLOR:darkgreen
DESCRIPTION:Predmet: Medicinska celična biologija (MCB)\, Doš (Do)\, [M1
 -05\, M1-06]\nLetniki: 1. LETNIK (EMŠ M)\nIzvajalci: Inštitut za biologi
 jo celice IBC\nProstor: Vaj - 1 - IBC
LOCATION:Vrazov trg 2\, Vaj - 1 - IBC
ORGANIZER:Inštitut za biologijo celice IBC
RELATED-TO:mf-AFLABS-URNIK:srecanje:6500
X-WR-TIMEZONE:Europe/Ljubljana
END:VEVENT
BEGIN:VEVENT
SUMMARY:Medicinska celična biologija (MCB)\, Doš (Do)\, [M1-05\, M1-06]
DTSTART;TZID=Europe/Ljubljana:20251021T190000
DTEND;TZID=Europe/Ljubljana:20251021T200000
DTSTAMP:20260420T041334Z
UID:mf-AFLABS-URNIK:premaknjeno-srecanje:30028
ATTENDEE:1. LETNIK (EMŠ M)
CATEGORIES:Entry,Standard
COLOR:darkgreen
DESCRIPTION:Predmet: Medicinska celična biologija (MCB)\, Doš (Do)\, [M1
 -05\, M1-06]\nLetniki: 1. LETNIK (EMŠ M)\nIzvajalci: Inštitut za biologi
 jo celice IBC\nProstor: Vaj - 1 - IBC
LOCATION:Vrazov trg 2\, Vaj - 1 - IBC
ORGANIZER:Inštitut za biologijo celice IBC
RELATED-TO:mf-AFLABS-URNIK:srecanje:6500
X-WR-TIMEZONE:Europe/Ljubljana
END:VEVENT
BEGIN:VEVENT
SUMMARY:Medicinska celična biologija (MCB)\, Doš (Do)\, [M1-05\, M1-06]
DTSTART;TZID=Europe/Ljubljana:20251028T190000
DTEND;TZID=Europe/Ljubljana:20251028T200000
DTSTAMP:20260420T041334Z
UID:mf-AFLABS-URNIK:premaknjeno-srecanje:30029
ATTENDEE:1. LETNIK (EMŠ M)
CATEGORIES:Entry,Standard
COLOR:darkgreen
DESCRIPTION:Predmet: Medicinska celična biologija (MCB)\, Doš (Do)\, [M1
 -05\, M1-06]\nLetniki: 1. LETNIK (EMŠ M)\nIzvajalci: Inštitut za biologi
 jo celice IBC\nProstor: Vaj - 1 - IBC
LOCATION:Vrazov trg 2\, Vaj - 1 - IBC
ORGANIZER:Inštitut za biologijo celice IBC
RELATED-TO:mf-AFLABS-URNIK:srecanje:6500
X-WR-TIMEZONE:Europe/Ljubljana
END:VEVENT
BEGIN:VEVENT
SUMMARY:Medicinska celična biologija (MCB)\, Doš (Do)\, [M1-05\, M1-06]
DTSTART;TZID=Europe/Ljubljana:20251104T190000
DTEND;TZID=Europe/Ljubljana:20251104T200000
DTSTAMP:20260420T041334Z
UID:mf-AFLABS-URNIK:premaknjeno-srecanje:30030
ATTENDEE:1. LETNIK (EMŠ M)
CATEGORIES:Entry,Standard
COLOR:darkgreen
DESCRIPTION:Predmet: Medicinska celična biologija (MCB)\, Doš (Do)\, [M1
 -05\, M1-06]\nLetniki: 1. LETNIK (EMŠ M)\nIzvajalci: Inštitut za biologi
 jo celice IBC\nProstor: Vaj - 1 - IBC
LOCATION:Vrazov trg 2\, Vaj - 1 - IBC
ORGANIZER:Inštitut za biologijo celice IBC
RELATED-TO:mf-AFLABS-URNIK:srecanje:6500
X-WR-TIMEZONE:Europe/Ljubljana
END:VEVENT
BEGIN:VEVENT
SUMMARY:Medicinska celična biologija (MCB)\, Doš (Do)\, [M1-05\, M1-06]
DTSTART;TZID=Europe/Ljubljana:20251111T190000
DTEND;TZID=Europe/Ljubljana:20251111T200000
DTSTAMP:20260420T041334Z
UID:mf-AFLABS-URNIK:premaknjeno-srecanje:30031
ATTENDEE:1. LETNIK (EMŠ M)
CATEGORIES:Entry,Standard
COLOR:darkgreen
DESCRIPTION:Predmet: Medicinska celična biologija (MCB)\, Doš (Do)\, [M1
 -05\, M1-06]\nLetniki: 1. LETNIK (EMŠ M)\nIzvajalci: Inštitut za biologi
 jo celice IBC\nProstor: Vaj - 1 - IBC
LOCATION:Vrazov trg 2\, Vaj - 1 - IBC
ORGANIZER:Inštitut za biologijo celice IBC
RELATED-TO:mf-AFLABS-URNIK:srecanje:6500
X-WR-TIMEZONE:Europe/Ljubljana
END:VEVENT
BEGIN:VEVENT
SUMMARY:Medicinska celična biologija (MCB)\, Doš (Do)\, [M1-05\, M1-06]
DTSTART;TZID=Europe/Ljubljana:20251118T190000
DTEND;TZID=Europe/Ljubljana:20251118T200000
DTSTAMP:20260420T041334Z
UID:mf-AFLABS-URNIK:premaknjeno-srecanje:30032
ATTENDEE:1. LETNIK (EMŠ M)
CATEGORIES:Entry,Standard
COLOR:darkgreen
DESCRIPTION:Predmet: Medicinska celična biologija (MCB)\, Doš (Do)\, [M1
 -05\, M1-06]\nLetniki: 1. LETNIK (EMŠ M)\nIzvajalci: Inštitut za biologi
 jo celice IBC\nProstor: Vaj - 1 - IBC
LOCATION:Vrazov trg 2\, Vaj - 1 - IBC
ORGANIZER:Inštitut za biologijo celice IBC
RELATED-TO:mf-AFLABS-URNIK:srecanje:6500
X-WR-TIMEZONE:Europe/Ljubljana
END:VEVENT
BEGIN:VEVENT
SUMMARY:Medicinska celična biologija (MCB)\, Doš (Do)\, [M1-05\, M1-06]
DTSTART;TZID=Europe/Ljubljana:20251125T190000
DTEND;TZID=Europe/Ljubljana:20251125T200000
DTSTAMP:20260420T041334Z
UID:mf-AFLABS-URNIK:premaknjeno-srecanje:30033
ATTENDEE:1. LETNIK (EMŠ M)
CATEGORIES:Entry,Standard
COLOR:darkgreen
DESCRIPTION:Predmet: Medicinska celična biologija (MCB)\, Doš (Do)\, [M1
 -05\, M1-06]\nLetniki: 1. LETNIK (EMŠ M)\nIzvajalci: Inštitut za biologi
 jo celice IBC\nProstor: Vaj - 1 - IBC
LOCATION:Vrazov trg 2\, Vaj - 1 - IBC
ORGANIZER:Inštitut za biologijo celice IBC
RELATED-TO:mf-AFLABS-URNIK:srecanje:6500
X-WR-TIMEZONE:Europe/Ljubljana
END:VEVENT
BEGIN:VEVENT
SUMMARY:Medicinska celična biologija (MCB)\, Doš (Do)\, [M1-05\, M1-06]
DTSTART;TZID=Europe/Ljubljana:20251202T190000
DTEND;TZID=Europe/Ljubljana:20251202T200000
DTSTAMP:20260420T041334Z
UID:mf-AFLABS-URNIK:premaknjeno-srecanje:30034
ATTENDEE:1. LETNIK (EMŠ M)
CATEGORIES:Entry,Standard
COLOR:darkgreen
DESCRIPTION:Predmet: Medicinska celična biologija (MCB)\, Doš (Do)\, [M1
 -05\, M1-06]\nLetniki: 1. LETNIK (EMŠ M)\nIzvajalci: Inštitut za biologi
 jo celice IBC\nProstor: Vaj - 1 - IBC
LOCATION:Vrazov trg 2\, Vaj - 1 - IBC
ORGANIZER:Inštitut za biologijo celice IBC
RELATED-TO:mf-AFLABS-URNIK:srecanje:6500
X-WR-TIMEZONE:Europe/Ljubljana
END:VEVENT
BEGIN:VEVENT
SUMMARY:Medicinska celična biologija (MCB)\, Doš (Do)\, [M1-05\, M1-06]
DTSTART;TZID=Europe/Ljubljana:20251209T190000
DTEND;TZID=Europe/Ljubljana:20251209T200000
DTSTAMP:20260420T041334Z
UID:mf-AFLABS-URNIK:premaknjeno-srecanje:30035
ATTENDEE:1. LETNIK (EMŠ M)
CATEGORIES:Entry,Standard
COLOR:darkgreen
DESCRIPTION:Predmet: Medicinska celična biologija (MCB)\, Doš (Do)\, [M1
 -05\, M1-06]\nLetniki: 1. LETNIK (EMŠ M)\nIzvajalci: Inštitut za biologi
 jo celice IBC\nProstor: Vaj - 1 - IBC
LOCATION:Vrazov trg 2\, Vaj - 1 - IBC
ORGANIZER:Inštitut za biologijo celice IBC
RELATED-TO:mf-AFLABS-URNIK:srecanje:6500
X-WR-TIMEZONE:Europe/Ljubljana
END:VEVENT
BEGIN:VEVENT
SUMMARY:Medicinska celična biologija (MCB)\, Doš (Do)\, [M1-05\, M1-06]
DTSTART;TZID=Europe/Ljubljana:20251216T190000
DTEND;TZID=Europe/Ljubljana:20251216T200000
DTSTAMP:20260420T041334Z
UID:mf-AFLABS-URNIK:premaknjeno-srecanje:30036
ATTENDEE:1. LETNIK (EMŠ M)
CATEGORIES:Entry,Standard
COLOR:darkgreen
DESCRIPTION:Predmet: Medicinska celična biologija (MCB)\, Doš (Do)\, [M1
 -05\, M1-06]\nLetniki: 1. LETNIK (EMŠ M)\nIzvajalci: Inštitut za biologi
 jo celice IBC\nProstor: Vaj - 1 - IBC
LOCATION:Vrazov trg 2\, Vaj - 1 - IBC
ORGANIZER:Inštitut za biologijo celice IBC
RELATED-TO:mf-AFLABS-URNIK:srecanje:6500
X-WR-TIMEZONE:Europe/Ljubljana
END:VEVENT
BEGIN:VEVENT
SUMMARY:Medicinska celična biologija (MCB)\, Vaje (V)\, [M1-05\, M1-06]
DTSTART;TZID=Europe/Ljubljana:20251007T160000
DTEND;TZID=Europe/Ljubljana:20251007T180000
DTSTAMP:20260420T041334Z
UID:mf-AFLABS-URNIK:premaknjeno-srecanje:30108
ATTENDEE:1. LETNIK (EMŠ M)
CATEGORIES:Entry,Standard
COLOR:darkgreen
DESCRIPTION:Predmet: Medicinska celična biologija (MCB)\, Vaje (V)\, [M1-
 05\, M1-06]\nLetniki: 1. LETNIK (EMŠ M)\nIzvajalci: Inštitut za biologij
 o celice IBC\nProstor: Vaj - 1 - IBC
LOCATION:Vrazov trg 2\, Vaj - 1 - IBC
ORGANIZER:Inštitut za biologijo celice IBC
RELATED-TO:mf-AFLABS-URNIK:srecanje:6508
X-WR-TIMEZONE:Europe/Ljubljana
END:VEVENT
BEGIN:VEVENT
SUMMARY:Medicinska celična biologija (MCB)\, Vaje (V)\, [M1-05\, M1-06]
DTSTART;TZID=Europe/Ljubljana:20251014T160000
DTEND;TZID=Europe/Ljubljana:20251014T180000
DTSTAMP:20260420T041334Z
UID:mf-AFLABS-URNIK:premaknjeno-srecanje:30109
ATTENDEE:1. LETNIK (EMŠ M)
CATEGORIES:Entry,Standard
COLOR:darkgreen
DESCRIPTION:Predmet: Medicinska celična biologija (MCB)\, Vaje (V)\, [M1-
 05\, M1-06]\nLetniki: 1. LETNIK (EMŠ M)\nIzvajalci: Inštitut za biologij
 o celice IBC\nProstor: Vaj - 1 - IBC
LOCATION:Vrazov trg 2\, Vaj - 1 - IBC
ORGANIZER:Inštitut za biologijo celice IBC
RELATED-TO:mf-AFLABS-URNIK:srecanje:6508
X-WR-TIMEZONE:Europe/Ljubljana
END:VEVENT
BEGIN:VEVENT
SUMMARY:Medicinska celična biologija (MCB)\, Vaje (V)\, [M1-05\, M1-06]
DTSTART;TZID=Europe/Ljubljana:20251021T160000
DTEND;TZID=Europe/Ljubljana:20251021T180000
DTSTAMP:20260420T041334Z
UID:mf-AFLABS-URNIK:premaknjeno-srecanje:30110
ATTENDEE:1. LETNIK (EMŠ M)
CATEGORIES:Entry,Standard
COLOR:darkgreen
DESCRIPTION:Predmet: Medicinska celična biologija (MCB)\, Vaje (V)\, [M1-
 05\, M1-06]\nLetniki: 1. LETNIK (EMŠ M)\nIzvajalci: Inštitut za biologij
 o celice IBC\nProstor: Vaj - 1 - IBC
LOCATION:Vrazov trg 2\, Vaj - 1 - IBC
ORGANIZER:Inštitut za biologijo celice IBC
RELATED-TO:mf-AFLABS-URNIK:srecanje:6508
X-WR-TIMEZONE:Europe/Ljubljana
END:VEVENT
BEGIN:VEVENT
SUMMARY:Medicinska celična biologija (MCB)\, Vaje (V)\, [M1-05\, M1-06]
DTSTART;TZID=Europe/Ljubljana:20251028T160000
DTEND;TZID=Europe/Ljubljana:20251028T180000
DTSTAMP:20260420T041334Z
UID:mf-AFLABS-URNIK:premaknjeno-srecanje:30111
ATTENDEE:1. LETNIK (EMŠ M)
CATEGORIES:Entry,Standard
COLOR:darkgreen
DESCRIPTION:Predmet: Medicinska celična biologija (MCB)\, Vaje (V)\, [M1-
 05\, M1-06]\nLetniki: 1. LETNIK (EMŠ M)\nIzvajalci: Inštitut za biologij
 o celice IBC\nProstor: Vaj - 1 - IBC
LOCATION:Vrazov trg 2\, Vaj - 1 - IBC
ORGANIZER:Inštitut za biologijo celice IBC
RELATED-TO:mf-AFLABS-URNIK:srecanje:6508
X-WR-TIMEZONE:Europe/Ljubljana
END:VEVENT
BEGIN:VEVENT
SUMMARY:Medicinska celična biologija (MCB)\, Vaje (V)\, [M1-05\, M1-06]
DTSTART;TZID=Europe/Ljubljana:20251104T160000
DTEND;TZID=Europe/Ljubljana:20251104T180000
DTSTAMP:20260420T041334Z
UID:mf-AFLABS-URNIK:premaknjeno-srecanje:30112
ATTENDEE:1. LETNIK (EMŠ M)
CATEGORIES:Entry,Standard
COLOR:darkgreen
DESCRIPTION:Predmet: Medicinska celična biologija (MCB)\, Vaje (V)\, [M1-
 05\, M1-06]\nLetniki: 1. LETNIK (EMŠ M)\nIzvajalci: Inštitut za biologij
 o celice IBC\nProstor: Vaj - 1 - IBC
LOCATION:Vrazov trg 2\, Vaj - 1 - IBC
ORGANIZER:Inštitut za biologijo celice IBC
RELATED-TO:mf-AFLABS-URNIK:srecanje:6508
X-WR-TIMEZONE:Europe/Ljubljana
END:VEVENT
BEGIN:VEVENT
SUMMARY:Medicinska celična biologija (MCB)\, Vaje (V)\, [M1-05\, M1-06]
DTSTART;TZID=Europe/Ljubljana:20251111T160000
DTEND;TZID=Europe/Ljubljana:20251111T180000
DTSTAMP:20260420T041334Z
UID:mf-AFLABS-URNIK:premaknjeno-srecanje:30113
ATTENDEE:1. LETNIK (EMŠ M)
CATEGORIES:Entry,Standard
COLOR:darkgreen
DESCRIPTION:Predmet: Medicinska celična biologija (MCB)\, Vaje (V)\, [M1-
 05\, M1-06]\nLetniki: 1. LETNIK (EMŠ M)\nIzvajalci: Inštitut za biologij
 o celice IBC\nProstor: Vaj - 1 - IBC
LOCATION:Vrazov trg 2\, Vaj - 1 - IBC
ORGANIZER:Inštitut za biologijo celice IBC
RELATED-TO:mf-AFLABS-URNIK:srecanje:6508
X-WR-TIMEZONE:Europe/Ljubljana
END:VEVENT
BEGIN:VEVENT
SUMMARY:Medicinska celična biologija (MCB)\, Vaje (V)\, [M1-05\, M1-06]
DTSTART;TZID=Europe/Ljubljana:20251118T160000
DTEND;TZID=Europe/Ljubljana:20251118T180000
DTSTAMP:20260420T041334Z
UID:mf-AFLABS-URNIK:premaknjeno-srecanje:30114
ATTENDEE:1. LETNIK (EMŠ M)
CATEGORIES:Entry,Standard
COLOR:darkgreen
DESCRIPTION:Predmet: Medicinska celična biologija (MCB)\, Vaje (V)\, [M1-
 05\, M1-06]\nLetniki: 1. LETNIK (EMŠ M)\nIzvajalci: Inštitut za biologij
 o celice IBC\nProstor: Vaj - 1 - IBC
LOCATION:Vrazov trg 2\, Vaj - 1 - IBC
ORGANIZER:Inštitut za biologijo celice IBC
RELATED-TO:mf-AFLABS-URNIK:srecanje:6508
X-WR-TIMEZONE:Europe/Ljubljana
END:VEVENT
BEGIN:VEVENT
SUMMARY:Medicinska celična biologija (MCB)\, Vaje (V)\, [M1-05\, M1-06]
DTSTART;TZID=Europe/Ljubljana:20251125T160000
DTEND;TZID=Europe/Ljubljana:20251125T180000
DTSTAMP:20260420T041334Z
UID:mf-AFLABS-URNIK:premaknjeno-srecanje:30115
ATTENDEE:1. LETNIK (EMŠ M)
CATEGORIES:Entry,Standard
COLOR:darkgreen
DESCRIPTION:Predmet: Medicinska celična biologija (MCB)\, Vaje (V)\, [M1-
 05\, M1-06]\nLetniki: 1. LETNIK (EMŠ M)\nIzvajalci: Inštitut za biologij
 o celice IBC\nProstor: Vaj - 1 - IBC
LOCATION:Vrazov trg 2\, Vaj - 1 - IBC
ORGANIZER:Inštitut za biologijo celice IBC
RELATED-TO:mf-AFLABS-URNIK:srecanje:6508
X-WR-TIMEZONE:Europe/Ljubljana
END:VEVENT
BEGIN:VEVENT
SUMMARY:Medicinska celična biologija (MCB)\, Vaje (V)\, [M1-05\, M1-06]
DTSTART;TZID=Europe/Ljubljana:20251202T160000
DTEND;TZID=Europe/Ljubljana:20251202T180000
DTSTAMP:20260420T041334Z
UID:mf-AFLABS-URNIK:premaknjeno-srecanje:30116
ATTENDEE:1. LETNIK (EMŠ M)
CATEGORIES:Entry,Standard
COLOR:darkgreen
DESCRIPTION:Predmet: Medicinska celična biologija (MCB)\, Vaje (V)\, [M1-
 05\, M1-06]\nLetniki: 1. LETNIK (EMŠ M)\nIzvajalci: Inštitut za biologij
 o celice IBC\nProstor: Vaj - 1 - IBC
LOCATION:Vrazov trg 2\, Vaj - 1 - IBC
ORGANIZER:Inštitut za biologijo celice IBC
RELATED-TO:mf-AFLABS-URNIK:srecanje:6508
X-WR-TIMEZONE:Europe/Ljubljana
END:VEVENT
BEGIN:VEVENT
SUMMARY:Medicinska celična biologija (MCB)\, Vaje (V)\, [M1-05\, M1-06]
DTSTART;TZID=Europe/Ljubljana:20251209T160000
DTEND;TZID=Europe/Ljubljana:20251209T180000
DTSTAMP:20260420T041334Z
UID:mf-AFLABS-URNIK:premaknjeno-srecanje:30117
ATTENDEE:1. LETNIK (EMŠ M)
CATEGORIES:Entry,Standard
COLOR:darkgreen
DESCRIPTION:Predmet: Medicinska celična biologija (MCB)\, Vaje (V)\, [M1-
 05\, M1-06]\nLetniki: 1. LETNIK (EMŠ M)\nIzvajalci: Inštitut za biologij
 o celice IBC\nProstor: Vaj - 1 - IBC
LOCATION:Vrazov trg 2\, Vaj - 1 - IBC
ORGANIZER:Inštitut za biologijo celice IBC
RELATED-TO:mf-AFLABS-URNIK:srecanje:6508
X-WR-TIMEZONE:Europe/Ljubljana
END:VEVENT
BEGIN:VEVENT
SUMMARY:Medicinska celična biologija (MCB)\, Vaje (V)\, [M1-05\, M1-06]
DTSTART;TZID=Europe/Ljubljana:20251009T100000
DTEND;TZID=Europe/Ljubljana:20251009T120000
DTSTAMP:20260420T041334Z
UID:mf-AFLABS-URNIK:premaknjeno-srecanje:30274
ATTENDEE:1. LETNIK (EMŠ M)
CATEGORIES:Entry,Standard
COLOR:darkgreen
DESCRIPTION:Predmet: Medicinska celična biologija (MCB)\, Vaje (V)\, [M1-
 05\, M1-06]\nLetniki: 1. LETNIK (EMŠ M)\nIzvajalci: Inštitut za biologij
 o celice IBC\nProstor: Vaj - 1 - IBC
LOCATION:Vrazov trg 2\, Vaj - 1 - IBC
ORGANIZER:Inštitut za biologijo celice IBC
RELATED-TO:mf-AFLABS-URNIK:srecanje:6524
X-WR-TIMEZONE:Europe/Ljubljana
END:VEVENT
BEGIN:VEVENT
SUMMARY:Medicinska celična biologija (MCB)\, Vaje (V)\, [M1-05\, M1-06]
DTSTART;TZID=Europe/Ljubljana:20251016T100000
DTEND;TZID=Europe/Ljubljana:20251016T120000
DTSTAMP:20260420T041334Z
UID:mf-AFLABS-URNIK:premaknjeno-srecanje:30275
ATTENDEE:1. LETNIK (EMŠ M)
CATEGORIES:Entry,Standard
COLOR:darkgreen
DESCRIPTION:Predmet: Medicinska celična biologija (MCB)\, Vaje (V)\, [M1-
 05\, M1-06]\nLetniki: 1. LETNIK (EMŠ M)\nIzvajalci: Inštitut za biologij
 o celice IBC\nProstor: Vaj - 1 - IBC
LOCATION:Vrazov trg 2\, Vaj - 1 - IBC
ORGANIZER:Inštitut za biologijo celice IBC
RELATED-TO:mf-AFLABS-URNIK:srecanje:6524
X-WR-TIMEZONE:Europe/Ljubljana
END:VEVENT
BEGIN:VEVENT
SUMMARY:Medicinska celična biologija (MCB)\, Vaje (V)\, [M1-05\, M1-06]
DTSTART;TZID=Europe/Ljubljana:20251023T100000
DTEND;TZID=Europe/Ljubljana:20251023T120000
DTSTAMP:20260420T041334Z
UID:mf-AFLABS-URNIK:premaknjeno-srecanje:30276
ATTENDEE:1. LETNIK (EMŠ M)
CATEGORIES:Entry,Standard
COLOR:darkgreen
DESCRIPTION:Predmet: Medicinska celična biologija (MCB)\, Vaje (V)\, [M1-
 05\, M1-06]\nLetniki: 1. LETNIK (EMŠ M)\nIzvajalci: Inštitut za biologij
 o celice IBC\nProstor: Vaj - 1 - IBC
LOCATION:Vrazov trg 2\, Vaj - 1 - IBC
ORGANIZER:Inštitut za biologijo celice IBC
RELATED-TO:mf-AFLABS-URNIK:srecanje:6524
X-WR-TIMEZONE:Europe/Ljubljana
END:VEVENT
BEGIN:VEVENT
SUMMARY:Medicinska celična biologija (MCB)\, Vaje (V)\, [M1-05\, M1-06]
DTSTART;TZID=Europe/Ljubljana:20251030T100000
DTEND;TZID=Europe/Ljubljana:20251030T120000
DTSTAMP:20260420T041334Z
UID:mf-AFLABS-URNIK:premaknjeno-srecanje:30277
ATTENDEE:1. LETNIK (EMŠ M)
CATEGORIES:Entry,Standard
COLOR:darkgreen
DESCRIPTION:Predmet: Medicinska celična biologija (MCB)\, Vaje (V)\, [M1-
 05\, M1-06]\nLetniki: 1. LETNIK (EMŠ M)\nIzvajalci: Inštitut za biologij
 o celice IBC\nProstor: Vaj - 1 - IBC
LOCATION:Vrazov trg 2\, Vaj - 1 - IBC
ORGANIZER:Inštitut za biologijo celice IBC
RELATED-TO:mf-AFLABS-URNIK:srecanje:6524
X-WR-TIMEZONE:Europe/Ljubljana
END:VEVENT
BEGIN:VEVENT
SUMMARY:Medicinska celična biologija (MCB)\, Vaje (V)\, [M1-05\, M1-06]
DTSTART;TZID=Europe/Ljubljana:20251106T100000
DTEND;TZID=Europe/Ljubljana:20251106T120000
DTSTAMP:20260420T041334Z
UID:mf-AFLABS-URNIK:premaknjeno-srecanje:30278
ATTENDEE:1. LETNIK (EMŠ M)
CATEGORIES:Entry,Standard
COLOR:darkgreen
DESCRIPTION:Predmet: Medicinska celična biologija (MCB)\, Vaje (V)\, [M1-
 05\, M1-06]\nLetniki: 1. LETNIK (EMŠ M)\nIzvajalci: Inštitut za biologij
 o celice IBC\nProstor: Vaj - 1 - IBC
LOCATION:Vrazov trg 2\, Vaj - 1 - IBC
ORGANIZER:Inštitut za biologijo celice IBC
RELATED-TO:mf-AFLABS-URNIK:srecanje:6524
X-WR-TIMEZONE:Europe/Ljubljana
END:VEVENT
BEGIN:VEVENT
SUMMARY:Medicinska celična biologija (MCB)\, Vaje (V)\, [M1-05\, M1-06]
DTSTART;TZID=Europe/Ljubljana:20251113T100000
DTEND;TZID=Europe/Ljubljana:20251113T120000
DTSTAMP:20260420T041334Z
UID:mf-AFLABS-URNIK:premaknjeno-srecanje:30279
ATTENDEE:1. LETNIK (EMŠ M)
CATEGORIES:Entry,Standard
COLOR:darkgreen
DESCRIPTION:Predmet: Medicinska celična biologija (MCB)\, Vaje (V)\, [M1-
 05\, M1-06]\nLetniki: 1. LETNIK (EMŠ M)\nIzvajalci: Inštitut za biologij
 o celice IBC\nProstor: Vaj - 1 - IBC
LOCATION:Vrazov trg 2\, Vaj - 1 - IBC
ORGANIZER:Inštitut za biologijo celice IBC
RELATED-TO:mf-AFLABS-URNIK:srecanje:6524
X-WR-TIMEZONE:Europe/Ljubljana
END:VEVENT
BEGIN:VEVENT
SUMMARY:Medicinska celična biologija (MCB)\, Vaje (V)\, [M1-05\, M1-06]
DTSTART;TZID=Europe/Ljubljana:20251120T100000
DTEND;TZID=Europe/Ljubljana:20251120T120000
DTSTAMP:20260420T041334Z
UID:mf-AFLABS-URNIK:premaknjeno-srecanje:30280
ATTENDEE:1. LETNIK (EMŠ M)
CATEGORIES:Entry,Standard
COLOR:darkgreen
DESCRIPTION:Predmet: Medicinska celična biologija (MCB)\, Vaje (V)\, [M1-
 05\, M1-06]\nLetniki: 1. LETNIK (EMŠ M)\nIzvajalci: Inštitut za biologij
 o celice IBC\nProstor: Vaj - 1 - IBC
LOCATION:Vrazov trg 2\, Vaj - 1 - IBC
ORGANIZER:Inštitut za biologijo celice IBC
RELATED-TO:mf-AFLABS-URNIK:srecanje:6524
X-WR-TIMEZONE:Europe/Ljubljana
END:VEVENT
BEGIN:VEVENT
SUMMARY:Medicinska celična biologija (MCB)\, Vaje (V)\, [M1-05\, M1-06]
DTSTART;TZID=Europe/Ljubljana:20251127T100000
DTEND;TZID=Europe/Ljubljana:20251127T120000
DTSTAMP:20260420T041334Z
UID:mf-AFLABS-URNIK:premaknjeno-srecanje:30281
ATTENDEE:1. LETNIK (EMŠ M)
CATEGORIES:Entry,Standard
COLOR:darkgreen
DESCRIPTION:Predmet: Medicinska celična biologija (MCB)\, Vaje (V)\, [M1-
 05\, M1-06]\nLetniki: 1. LETNIK (EMŠ M)\nIzvajalci: Inštitut za biologij
 o celice IBC\nProstor: Vaj - 1 - IBC
LOCATION:Vrazov trg 2\, Vaj - 1 - IBC
ORGANIZER:Inštitut za biologijo celice IBC
RELATED-TO:mf-AFLABS-URNIK:srecanje:6524
X-WR-TIMEZONE:Europe/Ljubljana
END:VEVENT
BEGIN:VEVENT
SUMMARY:Medicinska celična biologija (MCB)\, Vaje (V)\, [M1-05\, M1-06]
DTSTART;TZID=Europe/Ljubljana:20251204T100000
DTEND;TZID=Europe/Ljubljana:20251204T120000
DTSTAMP:20260420T041334Z
UID:mf-AFLABS-URNIK:premaknjeno-srecanje:30282
ATTENDEE:1. LETNIK (EMŠ M)
CATEGORIES:Entry,Standard
COLOR:darkgreen
DESCRIPTION:Predmet: Medicinska celična biologija (MCB)\, Vaje (V)\, [M1-
 05\, M1-06]\nLetniki: 1. LETNIK (EMŠ M)\nIzvajalci: Inštitut za biologij
 o celice IBC\nProstor: Vaj - 1 - IBC
LOCATION:Vrazov trg 2\, Vaj - 1 - IBC
ORGANIZER:Inštitut za biologijo celice IBC
RELATED-TO:mf-AFLABS-URNIK:srecanje:6524
X-WR-TIMEZONE:Europe/Ljubljana
END:VEVENT
BEGIN:VEVENT
SUMMARY:Medicinska celična biologija (MCB)\, Vaje (V)\, [M1-05\, M1-06]
DTSTART;TZID=Europe/Ljubljana:20251211T100000
DTEND;TZID=Europe/Ljubljana:20251211T120000
DTSTAMP:20260420T041334Z
UID:mf-AFLABS-URNIK:premaknjeno-srecanje:30283
ATTENDEE:1. LETNIK (EMŠ M)
CATEGORIES:Entry,Standard
COLOR:darkgreen
DESCRIPTION:Predmet: Medicinska celična biologija (MCB)\, Vaje (V)\, [M1-
 05\, M1-06]\nLetniki: 1. LETNIK (EMŠ M)\nIzvajalci: Inštitut za biologij
 o celice IBC\nProstor: Vaj - 1 - IBC
LOCATION:Vrazov trg 2\, Vaj - 1 - IBC
ORGANIZER:Inštitut za biologijo celice IBC
RELATED-TO:mf-AFLABS-URNIK:srecanje:6524
X-WR-TIMEZONE:Europe/Ljubljana
END:VEVENT
BEGIN:VEVENT
SUMMARY:IZPIT (prakt.):Histologija zobnega organa
DTSTART;TZID=Europe/Ljubljana:20260420T100000
DTEND;TZID=Europe/Ljubljana:20260420T120000
DTSTAMP:20260420T041334Z
UID:mf-AFLABS-URNIK:rezervacija:8741
ATTENDEE:2. LETNIK (EMŠ DM)
CATEGORIES:Reservation
COLOR:royalblue
DESCRIPTION:Predmeti: Funkcionalna in klinično-aplikativna morfologija in
  embriologija zobnega organa - Histologija zobnega organa (FKMEZO-HZO)\nLe
 tniki: 2. LETNIK (EMŠ DM)\nIzvajalci: Katedra za zobne bolezni in norm KZ
 BNMZO\nProstori: Vaj - 1 - IBC
LOCATION:Vrazov trg 2\, Vaj - 1 - IBC
ORGANIZER:Katedra za zobne bolezni in norm KZBNMZO
X-WR-TIMEZONE:Europe/Ljubljana
END:VEVENT
BEGIN:VEVENT
SUMMARY:IZPIT (prakt.):Histologija zobnega organa
DTSTART;TZID=Europe/Ljubljana:20260420T120000
DTEND;TZID=Europe/Ljubljana:20260420T140000
DTSTAMP:20260420T041334Z
UID:mf-AFLABS-URNIK:rezervacija:8742
ATTENDEE:2. LETNIK (EMŠ DM)
CATEGORIES:Reservation
COLOR:royalblue
DESCRIPTION:Predmeti: Funkcionalna in klinično-aplikativna morfologija in
  embriologija zobnega organa - Histologija zobnega organa (FKMEZO-HZO)\nLe
 tniki: 2. LETNIK (EMŠ DM)\nIzvajalci: \nProstori: Vaj - 1 - IBC
LOCATION:Vrazov trg 2\, Vaj - 1 - IBC
X-WR-TIMEZONE:Europe/Ljubljana
END:VEVENT
BEGIN:VEVENT
SUMMARY:IZPIT (prakt.):Histologija zobnega organa
DTSTART;TZID=Europe/Ljubljana:20260420T140000
DTEND;TZID=Europe/Ljubljana:20260420T160000
DTSTAMP:20260420T041334Z
UID:mf-AFLABS-URNIK:rezervacija:8743
ATTENDEE:2. LETNIK (EMŠ DM)
CATEGORIES:Reservation
COLOR:royalblue
DESCRIPTION:Predmeti: Funkcionalna in klinično-aplikativna morfologija in
  embriologija zobnega organa - Histologija zobnega organa (FKMEZO-HZO)\nLe
 tniki: 2. LETNIK (EMŠ DM)\nIzvajalci: \nProstori: Vaj - 1 - IBC
LOCATION:Vrazov trg 2\, Vaj - 1 - IBC
X-WR-TIMEZONE:Europe/Ljubljana
END:VEVENT
BEGIN:VEVENT
SUMMARY:KOLOKVIJ Medicinska celična biologija
DTSTART;TZID=Europe/Ljubljana:20251217T120000
DTEND;TZID=Europe/Ljubljana:20251217T180000
DTSTAMP:20260420T041334Z
UID:mf-AFLABS-URNIK:rezervacija:10436
ATTENDEE:1. LETNIK (EMŠ M)
CATEGORIES:Reservation
COLOR:royalblue
DESCRIPTION:Predmeti: Medicinska celična biologija (MCB)\nLetniki: 1. LET
 NIK (EMŠ M)\nIzvajalci: \nProstori: Vaj - 1 - IBC\, Vaj - 2 - IBC
LOCATION:Vrazov trg 2\, Vaj - 1 - IBC\, Vrazov trg 2\, Vaj - 2 - IBC
X-WR-TIMEZONE:Europe/Ljubljana
END:VEVENT
BEGIN:VEVENT
SUMMARY:KOLOKVIJ Medicinska celična biologija
DTSTART;TZID=Europe/Ljubljana:20251218T080000
DTEND;TZID=Europe/Ljubljana:20251218T120000
DTSTAMP:20260420T041334Z
UID:mf-AFLABS-URNIK:rezervacija:10437
ATTENDEE:1. LETNIK (EMŠ M)
CATEGORIES:Reservation
COLOR:royalblue
DESCRIPTION:Predmeti: Medicinska celična biologija (MCB)\nLetniki: 1. LET
 NIK (EMŠ M)\nIzvajalci: \nProstori: Vaj - 1 - IBC\, Vaj - 2 - IBC
LOCATION:Vrazov trg 2\, Vaj - 1 - IBC\, Vrazov trg 2\, Vaj - 2 - IBC
X-WR-TIMEZONE:Europe/Ljubljana
END:VEVENT
BEGIN:VEVENT
SUMMARY:KOLOKVIJ Biologija celice za dentalno medicino
DTSTART;TZID=Europe/Ljubljana:20251218T120000
DTEND;TZID=Europe/Ljubljana:20251218T160000
DTSTAMP:20260420T041334Z
UID:mf-AFLABS-URNIK:rezervacija:10438
ATTENDEE:1. LETNIK (EMŠ DM)
CATEGORIES:Reservation
COLOR:royalblue
DESCRIPTION:Predmeti: Biologija celice za dentalno medicino (BCDM)\nLetnik
 i: 1. LETNIK (EMŠ DM)\nIzvajalci: \nProstori: Vaj - 1 - IBC\, Vaj - 2 - I
 BC
LOCATION:Vrazov trg 2\, Vaj - 1 - IBC\, Vrazov trg 2\, Vaj - 2 - IBC
X-WR-TIMEZONE:Europe/Ljubljana
END:VEVENT
END:VCALENDAR
