BEGIN:VCALENDAR
VERSION:2.0
PRODID:-//AFLabs urnik izvoz - mf//aflabs.si//SI
DTSTAMP:20260420T041344Z
NAME:UL MF urnik
REFRESH-INTERVAL:PT1H
SOURCE:https://afurnik-mf.dev.aflabs.org/en/classroom/54/?export=1&sub_typ
 e=M1-09
URL:https://afurnik-mf.dev.aflabs.org/en/classroom/54/?export=1&sub_type=M
 1-09
X-PUBLISHED-TTL:PT1H
X-WR-CALNAME:UL MF urnik
X-WR-TIMEZONE:Europe/Ljubljana
BEGIN:VTIMEZONE
TZID:Europe/Ljubljana
BEGIN:DAYLIGHT
DTSTART:20260329T020000
RDATE:20260329T020000
RDATE:20270328T020000
TZNAME:CEST
TZOFFSETFROM:+0100
TZOFFSETTO:+0200
END:DAYLIGHT
BEGIN:STANDARD
DTSTART:20261025T030000
RDATE:20261025T030000
RDATE:20271031T030000
TZNAME:CET
TZOFFSETFROM:+0200
TZOFFSETTO:+0100
END:STANDARD
END:VTIMEZONE
BEGIN:VEVENT
SUMMARY:Medicinska celična biologija (MCB)\, Vaje (V)\, [M1-09\, M1-10]
DTSTART;TZID=Europe/Ljubljana:20251007T120000
DTEND;TZID=Europe/Ljubljana:20251007T140000
DTSTAMP:20260420T041344Z
UID:mf-AFLABS-URNIK:premaknjeno-srecanje:30068
ATTENDEE:1. LETNIK (EMŠ M)
CATEGORIES:Entry,Standard
COLOR:darkgreen
DESCRIPTION:Predmet: Medicinska celična biologija (MCB)\, Vaje (V)\, [M1-
 09\, M1-10]\nLetniki: 1. LETNIK (EMŠ M)\nIzvajalci: Inštitut za biologij
 o celice IBC\nProstor: Vaj - 1 - IBC
LOCATION:Vrazov trg 2\, Vaj - 1 - IBC
ORGANIZER:Inštitut za biologijo celice IBC
RELATED-TO:mf-AFLABS-URNIK:srecanje:6504
X-WR-TIMEZONE:Europe/Ljubljana
END:VEVENT
BEGIN:VEVENT
SUMMARY:Medicinska celična biologija (MCB)\, Vaje (V)\, [M1-09\, M1-10]
DTSTART;TZID=Europe/Ljubljana:20251014T120000
DTEND;TZID=Europe/Ljubljana:20251014T140000
DTSTAMP:20260420T041344Z
UID:mf-AFLABS-URNIK:premaknjeno-srecanje:30069
ATTENDEE:1. LETNIK (EMŠ M)
CATEGORIES:Entry,Standard
COLOR:darkgreen
DESCRIPTION:Predmet: Medicinska celična biologija (MCB)\, Vaje (V)\, [M1-
 09\, M1-10]\nLetniki: 1. LETNIK (EMŠ M)\nIzvajalci: Inštitut za biologij
 o celice IBC\nProstor: Vaj - 1 - IBC
LOCATION:Vrazov trg 2\, Vaj - 1 - IBC
ORGANIZER:Inštitut za biologijo celice IBC
RELATED-TO:mf-AFLABS-URNIK:srecanje:6504
X-WR-TIMEZONE:Europe/Ljubljana
END:VEVENT
BEGIN:VEVENT
SUMMARY:Medicinska celična biologija (MCB)\, Vaje (V)\, [M1-09\, M1-10]
DTSTART;TZID=Europe/Ljubljana:20251021T120000
DTEND;TZID=Europe/Ljubljana:20251021T140000
DTSTAMP:20260420T041344Z
UID:mf-AFLABS-URNIK:premaknjeno-srecanje:30070
ATTENDEE:1. LETNIK (EMŠ M)
CATEGORIES:Entry,Standard
COLOR:darkgreen
DESCRIPTION:Predmet: Medicinska celična biologija (MCB)\, Vaje (V)\, [M1-
 09\, M1-10]\nLetniki: 1. LETNIK (EMŠ M)\nIzvajalci: Inštitut za biologij
 o celice IBC\nProstor: Vaj - 1 - IBC
LOCATION:Vrazov trg 2\, Vaj - 1 - IBC
ORGANIZER:Inštitut za biologijo celice IBC
RELATED-TO:mf-AFLABS-URNIK:srecanje:6504
X-WR-TIMEZONE:Europe/Ljubljana
END:VEVENT
BEGIN:VEVENT
SUMMARY:Medicinska celična biologija (MCB)\, Vaje (V)\, [M1-09\, M1-10]
DTSTART;TZID=Europe/Ljubljana:20251028T120000
DTEND;TZID=Europe/Ljubljana:20251028T140000
DTSTAMP:20260420T041344Z
UID:mf-AFLABS-URNIK:premaknjeno-srecanje:30071
ATTENDEE:1. LETNIK (EMŠ M)
CATEGORIES:Entry,Standard
COLOR:darkgreen
DESCRIPTION:Predmet: Medicinska celična biologija (MCB)\, Vaje (V)\, [M1-
 09\, M1-10]\nLetniki: 1. LETNIK (EMŠ M)\nIzvajalci: Inštitut za biologij
 o celice IBC\nProstor: Vaj - 1 - IBC
LOCATION:Vrazov trg 2\, Vaj - 1 - IBC
ORGANIZER:Inštitut za biologijo celice IBC
RELATED-TO:mf-AFLABS-URNIK:srecanje:6504
X-WR-TIMEZONE:Europe/Ljubljana
END:VEVENT
BEGIN:VEVENT
SUMMARY:Medicinska celična biologija (MCB)\, Vaje (V)\, [M1-09\, M1-10]
DTSTART;TZID=Europe/Ljubljana:20251104T120000
DTEND;TZID=Europe/Ljubljana:20251104T140000
DTSTAMP:20260420T041344Z
UID:mf-AFLABS-URNIK:premaknjeno-srecanje:30072
ATTENDEE:1. LETNIK (EMŠ M)
CATEGORIES:Entry,Standard
COLOR:darkgreen
DESCRIPTION:Predmet: Medicinska celična biologija (MCB)\, Vaje (V)\, [M1-
 09\, M1-10]\nLetniki: 1. LETNIK (EMŠ M)\nIzvajalci: Inštitut za biologij
 o celice IBC\nProstor: Vaj - 1 - IBC
LOCATION:Vrazov trg 2\, Vaj - 1 - IBC
ORGANIZER:Inštitut za biologijo celice IBC
RELATED-TO:mf-AFLABS-URNIK:srecanje:6504
X-WR-TIMEZONE:Europe/Ljubljana
END:VEVENT
BEGIN:VEVENT
SUMMARY:Medicinska celična biologija (MCB)\, Vaje (V)\, [M1-09\, M1-10]
DTSTART;TZID=Europe/Ljubljana:20251111T120000
DTEND;TZID=Europe/Ljubljana:20251111T140000
DTSTAMP:20260420T041344Z
UID:mf-AFLABS-URNIK:premaknjeno-srecanje:30073
ATTENDEE:1. LETNIK (EMŠ M)
CATEGORIES:Entry,Standard
COLOR:darkgreen
DESCRIPTION:Predmet: Medicinska celična biologija (MCB)\, Vaje (V)\, [M1-
 09\, M1-10]\nLetniki: 1. LETNIK (EMŠ M)\nIzvajalci: Inštitut za biologij
 o celice IBC\nProstor: Vaj - 1 - IBC
LOCATION:Vrazov trg 2\, Vaj - 1 - IBC
ORGANIZER:Inštitut za biologijo celice IBC
RELATED-TO:mf-AFLABS-URNIK:srecanje:6504
X-WR-TIMEZONE:Europe/Ljubljana
END:VEVENT
BEGIN:VEVENT
SUMMARY:Medicinska celična biologija (MCB)\, Vaje (V)\, [M1-09\, M1-10]
DTSTART;TZID=Europe/Ljubljana:20251118T120000
DTEND;TZID=Europe/Ljubljana:20251118T140000
DTSTAMP:20260420T041344Z
UID:mf-AFLABS-URNIK:premaknjeno-srecanje:30074
ATTENDEE:1. LETNIK (EMŠ M)
CATEGORIES:Entry,Standard
COLOR:darkgreen
DESCRIPTION:Predmet: Medicinska celična biologija (MCB)\, Vaje (V)\, [M1-
 09\, M1-10]\nLetniki: 1. LETNIK (EMŠ M)\nIzvajalci: Inštitut za biologij
 o celice IBC\nProstor: Vaj - 1 - IBC
LOCATION:Vrazov trg 2\, Vaj - 1 - IBC
ORGANIZER:Inštitut za biologijo celice IBC
RELATED-TO:mf-AFLABS-URNIK:srecanje:6504
X-WR-TIMEZONE:Europe/Ljubljana
END:VEVENT
BEGIN:VEVENT
SUMMARY:Medicinska celična biologija (MCB)\, Vaje (V)\, [M1-09\, M1-10]
DTSTART;TZID=Europe/Ljubljana:20251125T120000
DTEND;TZID=Europe/Ljubljana:20251125T140000
DTSTAMP:20260420T041344Z
UID:mf-AFLABS-URNIK:premaknjeno-srecanje:30075
ATTENDEE:1. LETNIK (EMŠ M)
CATEGORIES:Entry,Standard
COLOR:darkgreen
DESCRIPTION:Predmet: Medicinska celična biologija (MCB)\, Vaje (V)\, [M1-
 09\, M1-10]\nLetniki: 1. LETNIK (EMŠ M)\nIzvajalci: Inštitut za biologij
 o celice IBC\nProstor: Vaj - 1 - IBC
LOCATION:Vrazov trg 2\, Vaj - 1 - IBC
ORGANIZER:Inštitut za biologijo celice IBC
RELATED-TO:mf-AFLABS-URNIK:srecanje:6504
X-WR-TIMEZONE:Europe/Ljubljana
END:VEVENT
BEGIN:VEVENT
SUMMARY:Medicinska celična biologija (MCB)\, Vaje (V)\, [M1-09\, M1-10]
DTSTART;TZID=Europe/Ljubljana:20251202T120000
DTEND;TZID=Europe/Ljubljana:20251202T140000
DTSTAMP:20260420T041344Z
UID:mf-AFLABS-URNIK:premaknjeno-srecanje:30076
ATTENDEE:1. LETNIK (EMŠ M)
CATEGORIES:Entry,Standard
COLOR:darkgreen
DESCRIPTION:Predmet: Medicinska celična biologija (MCB)\, Vaje (V)\, [M1-
 09\, M1-10]\nLetniki: 1. LETNIK (EMŠ M)\nIzvajalci: Inštitut za biologij
 o celice IBC\nProstor: Vaj - 1 - IBC
LOCATION:Vrazov trg 2\, Vaj - 1 - IBC
ORGANIZER:Inštitut za biologijo celice IBC
RELATED-TO:mf-AFLABS-URNIK:srecanje:6504
X-WR-TIMEZONE:Europe/Ljubljana
END:VEVENT
BEGIN:VEVENT
SUMMARY:Medicinska celična biologija (MCB)\, Vaje (V)\, [M1-09\, M1-10]
DTSTART;TZID=Europe/Ljubljana:20251209T120000
DTEND;TZID=Europe/Ljubljana:20251209T140000
DTSTAMP:20260420T041344Z
UID:mf-AFLABS-URNIK:premaknjeno-srecanje:30077
ATTENDEE:1. LETNIK (EMŠ M)
CATEGORIES:Entry,Standard
COLOR:darkgreen
DESCRIPTION:Predmet: Medicinska celična biologija (MCB)\, Vaje (V)\, [M1-
 09\, M1-10]\nLetniki: 1. LETNIK (EMŠ M)\nIzvajalci: Inštitut za biologij
 o celice IBC\nProstor: Vaj - 1 - IBC
LOCATION:Vrazov trg 2\, Vaj - 1 - IBC
ORGANIZER:Inštitut za biologijo celice IBC
RELATED-TO:mf-AFLABS-URNIK:srecanje:6504
X-WR-TIMEZONE:Europe/Ljubljana
END:VEVENT
BEGIN:VEVENT
SUMMARY:Medicinska celična biologija (MCB)\, Doš (Do)\, [M1-09\, M1-10]
DTSTART;TZID=Europe/Ljubljana:20251008T180000
DTEND;TZID=Europe/Ljubljana:20251008T190000
DTSTAMP:20260420T041344Z
UID:mf-AFLABS-URNIK:premaknjeno-srecanje:30148
ATTENDEE:1. LETNIK (EMŠ M)
CATEGORIES:Entry,Standard
COLOR:darkgreen
DESCRIPTION:Predmet: Medicinska celična biologija (MCB)\, Doš (Do)\, [M1
 -09\, M1-10]\nLetniki: 1. LETNIK (EMŠ M)\nIzvajalci: Inštitut za biologi
 jo celice IBC\nProstor: Vaj - 1 - IBC
LOCATION:Vrazov trg 2\, Vaj - 1 - IBC
ORGANIZER:Inštitut za biologijo celice IBC
RELATED-TO:mf-AFLABS-URNIK:srecanje:6512
X-WR-TIMEZONE:Europe/Ljubljana
END:VEVENT
BEGIN:VEVENT
SUMMARY:Medicinska celična biologija (MCB)\, Doš (Do)\, [M1-09\, M1-10]
DTSTART;TZID=Europe/Ljubljana:20251015T180000
DTEND;TZID=Europe/Ljubljana:20251015T190000
DTSTAMP:20260420T041344Z
UID:mf-AFLABS-URNIK:premaknjeno-srecanje:30149
ATTENDEE:1. LETNIK (EMŠ M)
CATEGORIES:Entry,Standard
COLOR:darkgreen
DESCRIPTION:Predmet: Medicinska celična biologija (MCB)\, Doš (Do)\, [M1
 -09\, M1-10]\nLetniki: 1. LETNIK (EMŠ M)\nIzvajalci: Inštitut za biologi
 jo celice IBC\nProstor: Vaj - 1 - IBC
LOCATION:Vrazov trg 2\, Vaj - 1 - IBC
ORGANIZER:Inštitut za biologijo celice IBC
RELATED-TO:mf-AFLABS-URNIK:srecanje:6512
X-WR-TIMEZONE:Europe/Ljubljana
END:VEVENT
BEGIN:VEVENT
SUMMARY:Medicinska celična biologija (MCB)\, Doš (Do)\, [M1-09\, M1-10]
DTSTART;TZID=Europe/Ljubljana:20251022T180000
DTEND;TZID=Europe/Ljubljana:20251022T190000
DTSTAMP:20260420T041344Z
UID:mf-AFLABS-URNIK:premaknjeno-srecanje:30150
ATTENDEE:1. LETNIK (EMŠ M)
CATEGORIES:Entry,Standard
COLOR:darkgreen
DESCRIPTION:Predmet: Medicinska celična biologija (MCB)\, Doš (Do)\, [M1
 -09\, M1-10]\nLetniki: 1. LETNIK (EMŠ M)\nIzvajalci: Inštitut za biologi
 jo celice IBC\nProstor: Vaj - 1 - IBC
LOCATION:Vrazov trg 2\, Vaj - 1 - IBC
ORGANIZER:Inštitut za biologijo celice IBC
RELATED-TO:mf-AFLABS-URNIK:srecanje:6512
X-WR-TIMEZONE:Europe/Ljubljana
END:VEVENT
BEGIN:VEVENT
SUMMARY:Medicinska celična biologija (MCB)\, Doš (Do)\, [M1-09\, M1-10]
DTSTART;TZID=Europe/Ljubljana:20251029T180000
DTEND;TZID=Europe/Ljubljana:20251029T190000
DTSTAMP:20260420T041344Z
UID:mf-AFLABS-URNIK:premaknjeno-srecanje:30151
ATTENDEE:1. LETNIK (EMŠ M)
CATEGORIES:Entry,Standard
COLOR:darkgreen
DESCRIPTION:Predmet: Medicinska celična biologija (MCB)\, Doš (Do)\, [M1
 -09\, M1-10]\nLetniki: 1. LETNIK (EMŠ M)\nIzvajalci: Inštitut za biologi
 jo celice IBC\nProstor: Vaj - 1 - IBC
LOCATION:Vrazov trg 2\, Vaj - 1 - IBC
ORGANIZER:Inštitut za biologijo celice IBC
RELATED-TO:mf-AFLABS-URNIK:srecanje:6512
X-WR-TIMEZONE:Europe/Ljubljana
END:VEVENT
BEGIN:VEVENT
SUMMARY:Medicinska celična biologija (MCB)\, Doš (Do)\, [M1-09\, M1-10]
DTSTART;TZID=Europe/Ljubljana:20251105T180000
DTEND;TZID=Europe/Ljubljana:20251105T190000
DTSTAMP:20260420T041344Z
UID:mf-AFLABS-URNIK:premaknjeno-srecanje:30152
ATTENDEE:1. LETNIK (EMŠ M)
CATEGORIES:Entry,Standard
COLOR:darkgreen
DESCRIPTION:Predmet: Medicinska celična biologija (MCB)\, Doš (Do)\, [M1
 -09\, M1-10]\nLetniki: 1. LETNIK (EMŠ M)\nIzvajalci: Inštitut za biologi
 jo celice IBC\nProstor: Vaj - 1 - IBC
LOCATION:Vrazov trg 2\, Vaj - 1 - IBC
ORGANIZER:Inštitut za biologijo celice IBC
RELATED-TO:mf-AFLABS-URNIK:srecanje:6512
X-WR-TIMEZONE:Europe/Ljubljana
END:VEVENT
BEGIN:VEVENT
SUMMARY:Medicinska celična biologija (MCB)\, Doš (Do)\, [M1-09\, M1-10]
DTSTART;TZID=Europe/Ljubljana:20251112T180000
DTEND;TZID=Europe/Ljubljana:20251112T190000
DTSTAMP:20260420T041344Z
UID:mf-AFLABS-URNIK:premaknjeno-srecanje:30153
ATTENDEE:1. LETNIK (EMŠ M)
CATEGORIES:Entry,Standard
COLOR:darkgreen
DESCRIPTION:Predmet: Medicinska celična biologija (MCB)\, Doš (Do)\, [M1
 -09\, M1-10]\nLetniki: 1. LETNIK (EMŠ M)\nIzvajalci: Inštitut za biologi
 jo celice IBC\nProstor: Vaj - 1 - IBC
LOCATION:Vrazov trg 2\, Vaj - 1 - IBC
ORGANIZER:Inštitut za biologijo celice IBC
RELATED-TO:mf-AFLABS-URNIK:srecanje:6512
X-WR-TIMEZONE:Europe/Ljubljana
END:VEVENT
BEGIN:VEVENT
SUMMARY:Medicinska celična biologija (MCB)\, Doš (Do)\, [M1-09\, M1-10]
DTSTART;TZID=Europe/Ljubljana:20251119T180000
DTEND;TZID=Europe/Ljubljana:20251119T190000
DTSTAMP:20260420T041344Z
UID:mf-AFLABS-URNIK:premaknjeno-srecanje:30154
ATTENDEE:1. LETNIK (EMŠ M)
CATEGORIES:Entry,Standard
COLOR:darkgreen
DESCRIPTION:Predmet: Medicinska celična biologija (MCB)\, Doš (Do)\, [M1
 -09\, M1-10]\nLetniki: 1. LETNIK (EMŠ M)\nIzvajalci: Inštitut za biologi
 jo celice IBC\nProstor: Vaj - 1 - IBC
LOCATION:Vrazov trg 2\, Vaj - 1 - IBC
ORGANIZER:Inštitut za biologijo celice IBC
RELATED-TO:mf-AFLABS-URNIK:srecanje:6512
X-WR-TIMEZONE:Europe/Ljubljana
END:VEVENT
BEGIN:VEVENT
SUMMARY:Medicinska celična biologija (MCB)\, Doš (Do)\, [M1-09\, M1-10]
DTSTART;TZID=Europe/Ljubljana:20251126T180000
DTEND;TZID=Europe/Ljubljana:20251126T190000
DTSTAMP:20260420T041344Z
UID:mf-AFLABS-URNIK:premaknjeno-srecanje:30155
ATTENDEE:1. LETNIK (EMŠ M)
CATEGORIES:Entry,Standard
COLOR:darkgreen
DESCRIPTION:Predmet: Medicinska celična biologija (MCB)\, Doš (Do)\, [M1
 -09\, M1-10]\nLetniki: 1. LETNIK (EMŠ M)\nIzvajalci: Inštitut za biologi
 jo celice IBC\nProstor: Vaj - 1 - IBC
LOCATION:Vrazov trg 2\, Vaj - 1 - IBC
ORGANIZER:Inštitut za biologijo celice IBC
RELATED-TO:mf-AFLABS-URNIK:srecanje:6512
X-WR-TIMEZONE:Europe/Ljubljana
END:VEVENT
BEGIN:VEVENT
SUMMARY:Medicinska celična biologija (MCB)\, Doš (Do)\, [M1-09\, M1-10]
DTSTART;TZID=Europe/Ljubljana:20251203T180000
DTEND;TZID=Europe/Ljubljana:20251203T190000
DTSTAMP:20260420T041344Z
UID:mf-AFLABS-URNIK:premaknjeno-srecanje:30156
ATTENDEE:1. LETNIK (EMŠ M)
CATEGORIES:Entry,Standard
COLOR:darkgreen
DESCRIPTION:Predmet: Medicinska celična biologija (MCB)\, Doš (Do)\, [M1
 -09\, M1-10]\nLetniki: 1. LETNIK (EMŠ M)\nIzvajalci: Inštitut za biologi
 jo celice IBC\nProstor: Vaj - 1 - IBC
LOCATION:Vrazov trg 2\, Vaj - 1 - IBC
ORGANIZER:Inštitut za biologijo celice IBC
RELATED-TO:mf-AFLABS-URNIK:srecanje:6512
X-WR-TIMEZONE:Europe/Ljubljana
END:VEVENT
BEGIN:VEVENT
SUMMARY:Medicinska celična biologija (MCB)\, Doš (Do)\, [M1-09\, M1-10]
DTSTART;TZID=Europe/Ljubljana:20251210T180000
DTEND;TZID=Europe/Ljubljana:20251210T190000
DTSTAMP:20260420T041344Z
UID:mf-AFLABS-URNIK:premaknjeno-srecanje:30157
ATTENDEE:1. LETNIK (EMŠ M)
CATEGORIES:Entry,Standard
COLOR:darkgreen
DESCRIPTION:Predmet: Medicinska celična biologija (MCB)\, Doš (Do)\, [M1
 -09\, M1-10]\nLetniki: 1. LETNIK (EMŠ M)\nIzvajalci: Inštitut za biologi
 jo celice IBC\nProstor: Vaj - 1 - IBC
LOCATION:Vrazov trg 2\, Vaj - 1 - IBC
ORGANIZER:Inštitut za biologijo celice IBC
RELATED-TO:mf-AFLABS-URNIK:srecanje:6512
X-WR-TIMEZONE:Europe/Ljubljana
END:VEVENT
BEGIN:VEVENT
SUMMARY:Medicinska celična biologija (MCB)\, Doš (Do)\, [M1-09\, M1-10]
DTSTART;TZID=Europe/Ljubljana:20251217T180000
DTEND;TZID=Europe/Ljubljana:20251217T190000
DTSTAMP:20260420T041344Z
UID:mf-AFLABS-URNIK:premaknjeno-srecanje:30158
ATTENDEE:1. LETNIK (EMŠ M)
CATEGORIES:Entry,Standard
COLOR:darkgreen
DESCRIPTION:Predmet: Medicinska celična biologija (MCB)\, Doš (Do)\, [M1
 -09\, M1-10]\nLetniki: 1. LETNIK (EMŠ M)\nIzvajalci: Inštitut za biologi
 jo celice IBC\nProstor: Vaj - 1 - IBC
LOCATION:Vrazov trg 2\, Vaj - 1 - IBC
ORGANIZER:Inštitut za biologijo celice IBC
RELATED-TO:mf-AFLABS-URNIK:srecanje:6512
X-WR-TIMEZONE:Europe/Ljubljana
END:VEVENT
BEGIN:VEVENT
SUMMARY:Medicinska celična biologija (MCB)\, Vaje (V)\, [M1-09\, M1-10]
DTSTART;TZID=Europe/Ljubljana:20251008T120000
DTEND;TZID=Europe/Ljubljana:20251008T140000
DTSTAMP:20260420T041344Z
UID:mf-AFLABS-URNIK:premaknjeno-srecanje:30170
ATTENDEE:1. LETNIK (EMŠ M)
CATEGORIES:Entry,Standard
COLOR:darkgreen
DESCRIPTION:Predmet: Medicinska celična biologija (MCB)\, Vaje (V)\, [M1-
 09\, M1-10]\nLetniki: 1. LETNIK (EMŠ M)\nIzvajalci: Inštitut za biologij
 o celice IBC\nProstor: Vaj - 1 - IBC
LOCATION:Vrazov trg 2\, Vaj - 1 - IBC
ORGANIZER:Inštitut za biologijo celice IBC
RELATED-TO:mf-AFLABS-URNIK:srecanje:6514
X-WR-TIMEZONE:Europe/Ljubljana
END:VEVENT
BEGIN:VEVENT
SUMMARY:Medicinska celična biologija (MCB)\, Vaje (V)\, [M1-09\, M1-10]
DTSTART;TZID=Europe/Ljubljana:20251015T120000
DTEND;TZID=Europe/Ljubljana:20251015T140000
DTSTAMP:20260420T041344Z
UID:mf-AFLABS-URNIK:premaknjeno-srecanje:30171
ATTENDEE:1. LETNIK (EMŠ M)
CATEGORIES:Entry,Standard
COLOR:darkgreen
DESCRIPTION:Predmet: Medicinska celična biologija (MCB)\, Vaje (V)\, [M1-
 09\, M1-10]\nLetniki: 1. LETNIK (EMŠ M)\nIzvajalci: Inštitut za biologij
 o celice IBC\nProstor: Vaj - 1 - IBC
LOCATION:Vrazov trg 2\, Vaj - 1 - IBC
ORGANIZER:Inštitut za biologijo celice IBC
RELATED-TO:mf-AFLABS-URNIK:srecanje:6514
X-WR-TIMEZONE:Europe/Ljubljana
END:VEVENT
BEGIN:VEVENT
SUMMARY:Medicinska celična biologija (MCB)\, Vaje (V)\, [M1-09\, M1-10]
DTSTART;TZID=Europe/Ljubljana:20251022T120000
DTEND;TZID=Europe/Ljubljana:20251022T140000
DTSTAMP:20260420T041344Z
UID:mf-AFLABS-URNIK:premaknjeno-srecanje:30172
ATTENDEE:1. LETNIK (EMŠ M)
CATEGORIES:Entry,Standard
COLOR:darkgreen
DESCRIPTION:Predmet: Medicinska celična biologija (MCB)\, Vaje (V)\, [M1-
 09\, M1-10]\nLetniki: 1. LETNIK (EMŠ M)\nIzvajalci: Inštitut za biologij
 o celice IBC\nProstor: Vaj - 1 - IBC
LOCATION:Vrazov trg 2\, Vaj - 1 - IBC
ORGANIZER:Inštitut za biologijo celice IBC
RELATED-TO:mf-AFLABS-URNIK:srecanje:6514
X-WR-TIMEZONE:Europe/Ljubljana
END:VEVENT
BEGIN:VEVENT
SUMMARY:Medicinska celična biologija (MCB)\, Vaje (V)\, [M1-09\, M1-10]
DTSTART;TZID=Europe/Ljubljana:20251029T120000
DTEND;TZID=Europe/Ljubljana:20251029T140000
DTSTAMP:20260420T041344Z
UID:mf-AFLABS-URNIK:premaknjeno-srecanje:30173
ATTENDEE:1. LETNIK (EMŠ M)
CATEGORIES:Entry,Standard
COLOR:darkgreen
DESCRIPTION:Predmet: Medicinska celična biologija (MCB)\, Vaje (V)\, [M1-
 09\, M1-10]\nLetniki: 1. LETNIK (EMŠ M)\nIzvajalci: Inštitut za biologij
 o celice IBC\nProstor: Vaj - 1 - IBC
LOCATION:Vrazov trg 2\, Vaj - 1 - IBC
ORGANIZER:Inštitut za biologijo celice IBC
RELATED-TO:mf-AFLABS-URNIK:srecanje:6514
X-WR-TIMEZONE:Europe/Ljubljana
END:VEVENT
BEGIN:VEVENT
SUMMARY:Medicinska celična biologija (MCB)\, Vaje (V)\, [M1-09\, M1-10]
DTSTART;TZID=Europe/Ljubljana:20251105T120000
DTEND;TZID=Europe/Ljubljana:20251105T140000
DTSTAMP:20260420T041344Z
UID:mf-AFLABS-URNIK:premaknjeno-srecanje:30174
ATTENDEE:1. LETNIK (EMŠ M)
CATEGORIES:Entry,Standard
COLOR:darkgreen
DESCRIPTION:Predmet: Medicinska celična biologija (MCB)\, Vaje (V)\, [M1-
 09\, M1-10]\nLetniki: 1. LETNIK (EMŠ M)\nIzvajalci: Inštitut za biologij
 o celice IBC\nProstor: Vaj - 1 - IBC
LOCATION:Vrazov trg 2\, Vaj - 1 - IBC
ORGANIZER:Inštitut za biologijo celice IBC
RELATED-TO:mf-AFLABS-URNIK:srecanje:6514
X-WR-TIMEZONE:Europe/Ljubljana
END:VEVENT
BEGIN:VEVENT
SUMMARY:Medicinska celična biologija (MCB)\, Vaje (V)\, [M1-09\, M1-10]
DTSTART;TZID=Europe/Ljubljana:20251112T120000
DTEND;TZID=Europe/Ljubljana:20251112T140000
DTSTAMP:20260420T041344Z
UID:mf-AFLABS-URNIK:premaknjeno-srecanje:30175
ATTENDEE:1. LETNIK (EMŠ M)
CATEGORIES:Entry,Standard
COLOR:darkgreen
DESCRIPTION:Predmet: Medicinska celična biologija (MCB)\, Vaje (V)\, [M1-
 09\, M1-10]\nLetniki: 1. LETNIK (EMŠ M)\nIzvajalci: Inštitut za biologij
 o celice IBC\nProstor: Vaj - 1 - IBC
LOCATION:Vrazov trg 2\, Vaj - 1 - IBC
ORGANIZER:Inštitut za biologijo celice IBC
RELATED-TO:mf-AFLABS-URNIK:srecanje:6514
X-WR-TIMEZONE:Europe/Ljubljana
END:VEVENT
BEGIN:VEVENT
SUMMARY:Medicinska celična biologija (MCB)\, Vaje (V)\, [M1-09\, M1-10]
DTSTART;TZID=Europe/Ljubljana:20251119T120000
DTEND;TZID=Europe/Ljubljana:20251119T140000
DTSTAMP:20260420T041344Z
UID:mf-AFLABS-URNIK:premaknjeno-srecanje:30176
ATTENDEE:1. LETNIK (EMŠ M)
CATEGORIES:Entry,Standard
COLOR:darkgreen
DESCRIPTION:Predmet: Medicinska celična biologija (MCB)\, Vaje (V)\, [M1-
 09\, M1-10]\nLetniki: 1. LETNIK (EMŠ M)\nIzvajalci: Inštitut za biologij
 o celice IBC\nProstor: Vaj - 1 - IBC
LOCATION:Vrazov trg 2\, Vaj - 1 - IBC
ORGANIZER:Inštitut za biologijo celice IBC
RELATED-TO:mf-AFLABS-URNIK:srecanje:6514
X-WR-TIMEZONE:Europe/Ljubljana
END:VEVENT
BEGIN:VEVENT
SUMMARY:Medicinska celična biologija (MCB)\, Vaje (V)\, [M1-09\, M1-10]
DTSTART;TZID=Europe/Ljubljana:20251126T120000
DTEND;TZID=Europe/Ljubljana:20251126T140000
DTSTAMP:20260420T041344Z
UID:mf-AFLABS-URNIK:premaknjeno-srecanje:30177
ATTENDEE:1. LETNIK (EMŠ M)
CATEGORIES:Entry,Standard
COLOR:darkgreen
DESCRIPTION:Predmet: Medicinska celična biologija (MCB)\, Vaje (V)\, [M1-
 09\, M1-10]\nLetniki: 1. LETNIK (EMŠ M)\nIzvajalci: Inštitut za biologij
 o celice IBC\nProstor: Vaj - 1 - IBC
LOCATION:Vrazov trg 2\, Vaj - 1 - IBC
ORGANIZER:Inštitut za biologijo celice IBC
RELATED-TO:mf-AFLABS-URNIK:srecanje:6514
X-WR-TIMEZONE:Europe/Ljubljana
END:VEVENT
BEGIN:VEVENT
SUMMARY:Medicinska celična biologija (MCB)\, Vaje (V)\, [M1-09\, M1-10]
DTSTART;TZID=Europe/Ljubljana:20251203T120000
DTEND;TZID=Europe/Ljubljana:20251203T140000
DTSTAMP:20260420T041344Z
UID:mf-AFLABS-URNIK:premaknjeno-srecanje:30178
ATTENDEE:1. LETNIK (EMŠ M)
CATEGORIES:Entry,Standard
COLOR:darkgreen
DESCRIPTION:Predmet: Medicinska celična biologija (MCB)\, Vaje (V)\, [M1-
 09\, M1-10]\nLetniki: 1. LETNIK (EMŠ M)\nIzvajalci: Inštitut za biologij
 o celice IBC\nProstor: Vaj - 1 - IBC
LOCATION:Vrazov trg 2\, Vaj - 1 - IBC
ORGANIZER:Inštitut za biologijo celice IBC
RELATED-TO:mf-AFLABS-URNIK:srecanje:6514
X-WR-TIMEZONE:Europe/Ljubljana
END:VEVENT
BEGIN:VEVENT
SUMMARY:Medicinska celična biologija (MCB)\, Vaje (V)\, [M1-09\, M1-10]
DTSTART;TZID=Europe/Ljubljana:20251210T120000
DTEND;TZID=Europe/Ljubljana:20251210T140000
DTSTAMP:20260420T041344Z
UID:mf-AFLABS-URNIK:premaknjeno-srecanje:30179
ATTENDEE:1. LETNIK (EMŠ M)
CATEGORIES:Entry,Standard
COLOR:darkgreen
DESCRIPTION:Predmet: Medicinska celična biologija (MCB)\, Vaje (V)\, [M1-
 09\, M1-10]\nLetniki: 1. LETNIK (EMŠ M)\nIzvajalci: Inštitut za biologij
 o celice IBC\nProstor: Vaj - 1 - IBC
LOCATION:Vrazov trg 2\, Vaj - 1 - IBC
ORGANIZER:Inštitut za biologijo celice IBC
RELATED-TO:mf-AFLABS-URNIK:srecanje:6514
X-WR-TIMEZONE:Europe/Ljubljana
END:VEVENT
BEGIN:VEVENT
SUMMARY:Raziskovanje v medicini 1 (RM1)\, Seminar (S)\, [M1-09]
DTSTART;TZID=Europe/Ljubljana:20260415T103000
DTEND;TZID=Europe/Ljubljana:20260415T124500
DTSTAMP:20260420T041344Z
UID:mf-AFLABS-URNIK:premaknjeno-srecanje:31052
ATTENDEE:1. LETNIK (EMŠ M)
CATEGORIES:Entry,Standard
COLOR:darkgreen
DESCRIPTION:Predmet: Raziskovanje v medicini 1 (RM1)\, Seminar (S)\, [M1-0
 9]\nLetniki: 1. LETNIK (EMŠ M)\nIzvajalci: Inštitut za biologijo celice 
 IBC\nProstor: Vaj - 1 - IBC
LOCATION:Vrazov trg 2\, Vaj - 1 - IBC
ORGANIZER:Inštitut za biologijo celice IBC
RELATED-TO:mf-AFLABS-URNIK:srecanje:6720
X-WR-TIMEZONE:Europe/Ljubljana
END:VEVENT
BEGIN:VEVENT
SUMMARY:Raziskovanje v medicini 1 (RM1)\, Seminar (S)\, [M1-09]
DTSTART;TZID=Europe/Ljubljana:20260422T103000
DTEND;TZID=Europe/Ljubljana:20260422T124500
DTSTAMP:20260420T041344Z
UID:mf-AFLABS-URNIK:premaknjeno-srecanje:31053
ATTENDEE:1. LETNIK (EMŠ M)
CATEGORIES:Entry,Standard
COLOR:darkgreen
DESCRIPTION:Predmet: Raziskovanje v medicini 1 (RM1)\, Seminar (S)\, [M1-0
 9]\nLetniki: 1. LETNIK (EMŠ M)\nIzvajalci: Inštitut za biologijo celice 
 IBC\nProstor: Vaj - 1 - IBC
LOCATION:Vrazov trg 2\, Vaj - 1 - IBC
ORGANIZER:Inštitut za biologijo celice IBC
RELATED-TO:mf-AFLABS-URNIK:srecanje:6720
X-WR-TIMEZONE:Europe/Ljubljana
END:VEVENT
BEGIN:VEVENT
SUMMARY:IZPIT (prakt.):Histologija zobnega organa
DTSTART;TZID=Europe/Ljubljana:20260420T100000
DTEND;TZID=Europe/Ljubljana:20260420T120000
DTSTAMP:20260420T041344Z
UID:mf-AFLABS-URNIK:rezervacija:8741
ATTENDEE:2. LETNIK (EMŠ DM)
CATEGORIES:Reservation
COLOR:royalblue
DESCRIPTION:Predmeti: Funkcionalna in klinično-aplikativna morfologija in
  embriologija zobnega organa - Histologija zobnega organa (FKMEZO-HZO)\nLe
 tniki: 2. LETNIK (EMŠ DM)\nIzvajalci: Katedra za zobne bolezni in norm KZ
 BNMZO\nProstori: Vaj - 1 - IBC
LOCATION:Vrazov trg 2\, Vaj - 1 - IBC
ORGANIZER:Katedra za zobne bolezni in norm KZBNMZO
X-WR-TIMEZONE:Europe/Ljubljana
END:VEVENT
BEGIN:VEVENT
SUMMARY:IZPIT (prakt.):Histologija zobnega organa
DTSTART;TZID=Europe/Ljubljana:20260420T120000
DTEND;TZID=Europe/Ljubljana:20260420T140000
DTSTAMP:20260420T041344Z
UID:mf-AFLABS-URNIK:rezervacija:8742
ATTENDEE:2. LETNIK (EMŠ DM)
CATEGORIES:Reservation
COLOR:royalblue
DESCRIPTION:Predmeti: Funkcionalna in klinično-aplikativna morfologija in
  embriologija zobnega organa - Histologija zobnega organa (FKMEZO-HZO)\nLe
 tniki: 2. LETNIK (EMŠ DM)\nIzvajalci: \nProstori: Vaj - 1 - IBC
LOCATION:Vrazov trg 2\, Vaj - 1 - IBC
X-WR-TIMEZONE:Europe/Ljubljana
END:VEVENT
BEGIN:VEVENT
SUMMARY:IZPIT (prakt.):Histologija zobnega organa
DTSTART;TZID=Europe/Ljubljana:20260420T140000
DTEND;TZID=Europe/Ljubljana:20260420T160000
DTSTAMP:20260420T041344Z
UID:mf-AFLABS-URNIK:rezervacija:8743
ATTENDEE:2. LETNIK (EMŠ DM)
CATEGORIES:Reservation
COLOR:royalblue
DESCRIPTION:Predmeti: Funkcionalna in klinično-aplikativna morfologija in
  embriologija zobnega organa - Histologija zobnega organa (FKMEZO-HZO)\nLe
 tniki: 2. LETNIK (EMŠ DM)\nIzvajalci: \nProstori: Vaj - 1 - IBC
LOCATION:Vrazov trg 2\, Vaj - 1 - IBC
X-WR-TIMEZONE:Europe/Ljubljana
END:VEVENT
BEGIN:VEVENT
SUMMARY:KOLOKVIJ Medicinska celična biologija
DTSTART;TZID=Europe/Ljubljana:20251217T120000
DTEND;TZID=Europe/Ljubljana:20251217T180000
DTSTAMP:20260420T041344Z
UID:mf-AFLABS-URNIK:rezervacija:10436
ATTENDEE:1. LETNIK (EMŠ M)
CATEGORIES:Reservation
COLOR:royalblue
DESCRIPTION:Predmeti: Medicinska celična biologija (MCB)\nLetniki: 1. LET
 NIK (EMŠ M)\nIzvajalci: \nProstori: Vaj - 1 - IBC\, Vaj - 2 - IBC
LOCATION:Vrazov trg 2\, Vaj - 1 - IBC\, Vrazov trg 2\, Vaj - 2 - IBC
X-WR-TIMEZONE:Europe/Ljubljana
END:VEVENT
BEGIN:VEVENT
SUMMARY:KOLOKVIJ Medicinska celična biologija
DTSTART;TZID=Europe/Ljubljana:20251218T080000
DTEND;TZID=Europe/Ljubljana:20251218T120000
DTSTAMP:20260420T041344Z
UID:mf-AFLABS-URNIK:rezervacija:10437
ATTENDEE:1. LETNIK (EMŠ M)
CATEGORIES:Reservation
COLOR:royalblue
DESCRIPTION:Predmeti: Medicinska celična biologija (MCB)\nLetniki: 1. LET
 NIK (EMŠ M)\nIzvajalci: \nProstori: Vaj - 1 - IBC\, Vaj - 2 - IBC
LOCATION:Vrazov trg 2\, Vaj - 1 - IBC\, Vrazov trg 2\, Vaj - 2 - IBC
X-WR-TIMEZONE:Europe/Ljubljana
END:VEVENT
BEGIN:VEVENT
SUMMARY:KOLOKVIJ Biologija celice za dentalno medicino
DTSTART;TZID=Europe/Ljubljana:20251218T120000
DTEND;TZID=Europe/Ljubljana:20251218T160000
DTSTAMP:20260420T041344Z
UID:mf-AFLABS-URNIK:rezervacija:10438
ATTENDEE:1. LETNIK (EMŠ DM)
CATEGORIES:Reservation
COLOR:royalblue
DESCRIPTION:Predmeti: Biologija celice za dentalno medicino (BCDM)\nLetnik
 i: 1. LETNIK (EMŠ DM)\nIzvajalci: \nProstori: Vaj - 1 - IBC\, Vaj - 2 - I
 BC
LOCATION:Vrazov trg 2\, Vaj - 1 - IBC\, Vrazov trg 2\, Vaj - 2 - IBC
X-WR-TIMEZONE:Europe/Ljubljana
END:VEVENT
END:VCALENDAR
