BEGIN:VCALENDAR
VERSION:2.0
PRODID:-//AFLabs urnik izvoz - mf//aflabs.si//SI
DTSTAMP:20260420T104758Z
NAME:UL MF urnik
REFRESH-INTERVAL:PT1H
SOURCE:https://afurnik-mf.dev.aflabs.org/en/teacher/11?day=2026-10-12&expo
 rt=1
URL:https://afurnik-mf.dev.aflabs.org/en/teacher/11?day=2026-10-12&export=
 1
X-PUBLISHED-TTL:PT1H
X-WR-CALNAME:UL MF urnik
X-WR-TIMEZONE:Europe/Ljubljana
BEGIN:VTIMEZONE
TZID:Europe/Ljubljana
BEGIN:DAYLIGHT
DTSTART:20260329T020000
RDATE:20260329T020000
RDATE:20270328T020000
TZNAME:CEST
TZOFFSETFROM:+0100
TZOFFSETTO:+0200
END:DAYLIGHT
BEGIN:STANDARD
DTSTART:20261025T030000
RDATE:20261025T030000
RDATE:20271031T030000
TZNAME:CET
TZOFFSETFROM:+0200
TZOFFSETTO:+0100
END:STANDARD
END:VTIMEZONE
BEGIN:VEVENT
SUMMARY:IZPIT:Nujna medicinska pomoč
DTSTART;TZID=Europe/Ljubljana:20260911T070000
DTEND;TZID=Europe/Ljubljana:20260911T080000
DTSTAMP:20260420T104758Z
UID:mf-AFLABS-URNIK:rezervacija:8832
ATTENDEE:1. LETNIK (EMŠ M)
CATEGORIES:Reservation
COLOR:royalblue
DESCRIPTION:Predmeti: UKM1-Nujna medicinska pomoč (UKM1-NMP)\nLetniki: 1.
  LETNIK (EMŠ M)\nIzvajalci: Katedra za anesteziologijo z rea KAR\nProstor
 i: Pred - Srednja - MF
LOCATION:Korytkova 2\, Pred - Srednja - MF
ORGANIZER:Katedra za anesteziologijo z rea KAR
X-WR-TIMEZONE:Europe/Ljubljana
END:VEVENT
BEGIN:VEVENT
SUMMARY:IZPIT:Nujna medicinska pomoč
DTSTART;TZID=Europe/Ljubljana:20260911T070000
DTEND;TZID=Europe/Ljubljana:20260911T080000
DTSTAMP:20260420T104758Z
UID:mf-AFLABS-URNIK:rezervacija:8900
ATTENDEE:1. LETNIK (EMŠ DM)
CATEGORIES:Reservation
COLOR:royalblue
DESCRIPTION:Predmeti: UKDM1-Nujna medicinska pomoč (UKDM1-NMP)\nLetniki: 
 1. LETNIK (EMŠ DM)\nIzvajalci: Katedra za anesteziologijo z rea KAR\nPros
 tori: Pred - Srednja - MF
LOCATION:Korytkova 2\, Pred - Srednja - MF
ORGANIZER:Katedra za anesteziologijo z rea KAR
X-WR-TIMEZONE:Europe/Ljubljana
END:VEVENT
END:VCALENDAR
