BEGIN:VCALENDAR
VERSION:2.0
PRODID:-//AFLabs urnik izvoz - mf//aflabs.si//SI
DTSTAMP:20260420T142607Z
NAME:UL MF urnik
REFRESH-INTERVAL:PT1H
SOURCE:https://afurnik-mf.dev.aflabs.org/en/teacher/12?day=2024-07-29&expo
 rt=1
URL:https://afurnik-mf.dev.aflabs.org/en/teacher/12?day=2024-07-29&export=
 1
X-PUBLISHED-TTL:PT1H
X-WR-CALNAME:UL MF urnik
X-WR-TIMEZONE:Europe/Ljubljana
BEGIN:VTIMEZONE
TZID:Europe/Ljubljana
BEGIN:DAYLIGHT
DTSTART:20260329T020000
RDATE:20260329T020000
RDATE:20270328T020000
TZNAME:CEST
TZOFFSETFROM:+0100
TZOFFSETTO:+0200
END:DAYLIGHT
BEGIN:STANDARD
DTSTART:20261025T030000
RDATE:20261025T030000
RDATE:20271031T030000
TZNAME:CET
TZOFFSETFROM:+0200
TZOFFSETTO:+0100
END:STANDARD
END:VTIMEZONE
BEGIN:VEVENT
SUMMARY:Čeljustna in zobna ortopedija 3 (ČZO3)\, klinične vaje (kv)\, [
 D6-05]
DTSTART;TZID=Europe/Ljubljana:20241001T073000
DTEND;TZID=Europe/Ljubljana:20241001T090000
DTSTAMP:20260420T142607Z
UID:mf-AFLABS-URNIK:premaknjeno-srecanje:15054
ATTENDEE:6. LETNIK (EMŠ DM)
CATEGORIES:Entry,Special
COLOR:forestgreen
DESCRIPTION:Predmet: Čeljustna in zobna ortopedija 3 (ČZO3)\, klinične 
 vaje (kv)\, [D6-05]\nLetniki: 6. LETNIK (EMŠ DM)\nIzvajalci: Katedra za 
 čeljustno in zobno or KČZO\nProstor: Vaj - KCZO - 23 - Stoma - UKC
LOCATION:Hrvatski trg 6\, Vaj - KCZO - 23 - Stoma - UKC
ORGANIZER:Katedra za čeljustno in zobno or KČZO
RELATED-TO:mf-AFLABS-URNIK:srecanje:2645
X-WR-TIMEZONE:Europe/Ljubljana
END:VEVENT
BEGIN:VEVENT
SUMMARY:Čeljustna in zobna ortopedija 3 (ČZO3)\, klinične vaje (kv)\, [
 D6-06]
DTSTART;TZID=Europe/Ljubljana:20241001T091500
DTEND;TZID=Europe/Ljubljana:20241001T104500
DTSTAMP:20260420T142607Z
UID:mf-AFLABS-URNIK:premaknjeno-srecanje:15069
ATTENDEE:6. LETNIK (EMŠ DM)
CATEGORIES:Entry,Special
COLOR:forestgreen
DESCRIPTION:Predmet: Čeljustna in zobna ortopedija 3 (ČZO3)\, klinične 
 vaje (kv)\, [D6-06]\nLetniki: 6. LETNIK (EMŠ DM)\nIzvajalci: Katedra za 
 čeljustno in zobno or KČZO\nProstor: Vaj - KCZO - 23 - Stoma - UKC
LOCATION:Hrvatski trg 6\, Vaj - KCZO - 23 - Stoma - UKC
ORGANIZER:Katedra za čeljustno in zobno or KČZO
RELATED-TO:mf-AFLABS-URNIK:srecanje:2646
X-WR-TIMEZONE:Europe/Ljubljana
END:VEVENT
BEGIN:VEVENT
SUMMARY:Čeljustna in zobna ortopedija 3 (ČZO3)\, klinične vaje (kv)\, [
 D6-04]
DTSTART;TZID=Europe/Ljubljana:20241001T110000
DTEND;TZID=Europe/Ljubljana:20241001T123000
DTSTAMP:20260420T142607Z
UID:mf-AFLABS-URNIK:premaknjeno-srecanje:15084
ATTENDEE:6. LETNIK (EMŠ DM)
CATEGORIES:Entry,Special
COLOR:forestgreen
DESCRIPTION:Predmet: Čeljustna in zobna ortopedija 3 (ČZO3)\, klinične 
 vaje (kv)\, [D6-04]\nLetniki: 6. LETNIK (EMŠ DM)\nIzvajalci: Katedra za 
 čeljustno in zobno or KČZO\nProstor: Vaj - KCZO - 23 - Stoma - UKC
LOCATION:Hrvatski trg 6\, Vaj - KCZO - 23 - Stoma - UKC
ORGANIZER:Katedra za čeljustno in zobno or KČZO
RELATED-TO:mf-AFLABS-URNIK:srecanje:2647
X-WR-TIMEZONE:Europe/Ljubljana
END:VEVENT
END:VCALENDAR
