BEGIN:VCALENDAR
VERSION:2.0
PRODID:-//AFLabs urnik izvoz - mf//aflabs.si//SI
DTSTAMP:20260421T041358Z
NAME:UL MF urnik
REFRESH-INTERVAL:PT1H
SOURCE:https://afurnik-mf.dev.aflabs.org/en/teacher/12?day=2024-09-28&expo
 rt=1
URL:https://afurnik-mf.dev.aflabs.org/en/teacher/12?day=2024-09-28&export=
 1
X-PUBLISHED-TTL:PT1H
X-WR-CALNAME:UL MF urnik
X-WR-TIMEZONE:Europe/Ljubljana
BEGIN:VTIMEZONE
TZID:Europe/Ljubljana
BEGIN:DAYLIGHT
DTSTART:20260329T020000
RDATE:20260329T020000
RDATE:20270328T020000
TZNAME:CEST
TZOFFSETFROM:+0100
TZOFFSETTO:+0200
END:DAYLIGHT
BEGIN:STANDARD
DTSTART:20261025T030000
RDATE:20261025T030000
RDATE:20271031T030000
TZNAME:CET
TZOFFSETFROM:+0200
TZOFFSETTO:+0100
END:STANDARD
END:VTIMEZONE
BEGIN:VEVENT
SUMMARY:Čeljustna in zobna ortopedija 3 (ČZO3)\, klinične vaje (kv)\, [
 D6-05]
DTSTART;TZID=Europe/Ljubljana:20241001T073000
DTEND;TZID=Europe/Ljubljana:20241001T090000
DTSTAMP:20260421T041358Z
UID:mf-AFLABS-URNIK:premaknjeno-srecanje:15054
ATTENDEE:6. LETNIK (EMŠ DM)
CATEGORIES:Entry,Special
COLOR:forestgreen
DESCRIPTION:Predmet: Čeljustna in zobna ortopedija 3 (ČZO3)\, klinične 
 vaje (kv)\, [D6-05]\nLetniki: 6. LETNIK (EMŠ DM)\nIzvajalci: Katedra za 
 čeljustno in zobno or KČZO\nProstor: Vaj - KCZO - 23 - Stoma - UKC
LOCATION:Hrvatski trg 6\, Vaj - KCZO - 23 - Stoma - UKC
ORGANIZER:Katedra za čeljustno in zobno or KČZO
RELATED-TO:mf-AFLABS-URNIK:srecanje:2645
X-WR-TIMEZONE:Europe/Ljubljana
END:VEVENT
BEGIN:VEVENT
SUMMARY:Čeljustna in zobna ortopedija 3 (ČZO3)\, klinične vaje (kv)\, [
 D6-05]
DTSTART;TZID=Europe/Ljubljana:20241008T073000
DTEND;TZID=Europe/Ljubljana:20241008T090000
DTSTAMP:20260421T041358Z
UID:mf-AFLABS-URNIK:premaknjeno-srecanje:15055
ATTENDEE:6. LETNIK (EMŠ DM)
CATEGORIES:Entry,Special
COLOR:forestgreen
DESCRIPTION:Predmet: Čeljustna in zobna ortopedija 3 (ČZO3)\, klinične 
 vaje (kv)\, [D6-05]\nLetniki: 6. LETNIK (EMŠ DM)\nIzvajalci: Katedra za 
 čeljustno in zobno or KČZO\nProstor: Vaj - KCZO - 23 - Stoma - UKC
LOCATION:Hrvatski trg 6\, Vaj - KCZO - 23 - Stoma - UKC
ORGANIZER:Katedra za čeljustno in zobno or KČZO
RELATED-TO:mf-AFLABS-URNIK:srecanje:2645
X-WR-TIMEZONE:Europe/Ljubljana
END:VEVENT
BEGIN:VEVENT
SUMMARY:Čeljustna in zobna ortopedija 3 (ČZO3)\, klinične vaje (kv)\, [
 D6-05]
DTSTART;TZID=Europe/Ljubljana:20241015T073000
DTEND;TZID=Europe/Ljubljana:20241015T090000
DTSTAMP:20260421T041358Z
UID:mf-AFLABS-URNIK:premaknjeno-srecanje:15056
ATTENDEE:6. LETNIK (EMŠ DM)
CATEGORIES:Entry,Special
COLOR:forestgreen
DESCRIPTION:Predmet: Čeljustna in zobna ortopedija 3 (ČZO3)\, klinične 
 vaje (kv)\, [D6-05]\nLetniki: 6. LETNIK (EMŠ DM)\nIzvajalci: Katedra za 
 čeljustno in zobno or KČZO\nProstor: Vaj - KCZO - 23 - Stoma - UKC
LOCATION:Hrvatski trg 6\, Vaj - KCZO - 23 - Stoma - UKC
ORGANIZER:Katedra za čeljustno in zobno or KČZO
RELATED-TO:mf-AFLABS-URNIK:srecanje:2645
X-WR-TIMEZONE:Europe/Ljubljana
END:VEVENT
BEGIN:VEVENT
SUMMARY:Čeljustna in zobna ortopedija 3 (ČZO3)\, klinične vaje (kv)\, [
 D6-05]
DTSTART;TZID=Europe/Ljubljana:20241022T073000
DTEND;TZID=Europe/Ljubljana:20241022T090000
DTSTAMP:20260421T041358Z
UID:mf-AFLABS-URNIK:premaknjeno-srecanje:15057
ATTENDEE:6. LETNIK (EMŠ DM)
CATEGORIES:Entry,Special
COLOR:forestgreen
DESCRIPTION:Predmet: Čeljustna in zobna ortopedija 3 (ČZO3)\, klinične 
 vaje (kv)\, [D6-05]\nLetniki: 6. LETNIK (EMŠ DM)\nIzvajalci: Katedra za 
 čeljustno in zobno or KČZO\nProstor: Vaj - KCZO - 23 - Stoma - UKC
LOCATION:Hrvatski trg 6\, Vaj - KCZO - 23 - Stoma - UKC
ORGANIZER:Katedra za čeljustno in zobno or KČZO
RELATED-TO:mf-AFLABS-URNIK:srecanje:2645
X-WR-TIMEZONE:Europe/Ljubljana
END:VEVENT
BEGIN:VEVENT
SUMMARY:Čeljustna in zobna ortopedija 3 (ČZO3)\, klinične vaje (kv)\, [
 D6-05]
DTSTART;TZID=Europe/Ljubljana:20241029T073000
DTEND;TZID=Europe/Ljubljana:20241029T090000
DTSTAMP:20260421T041358Z
UID:mf-AFLABS-URNIK:premaknjeno-srecanje:15058
ATTENDEE:6. LETNIK (EMŠ DM)
CATEGORIES:Entry,Special
COLOR:forestgreen
DESCRIPTION:Predmet: Čeljustna in zobna ortopedija 3 (ČZO3)\, klinične 
 vaje (kv)\, [D6-05]\nLetniki: 6. LETNIK (EMŠ DM)\nIzvajalci: Katedra za 
 čeljustno in zobno or KČZO\nProstor: Vaj - KCZO - 23 - Stoma - UKC
LOCATION:Hrvatski trg 6\, Vaj - KCZO - 23 - Stoma - UKC
ORGANIZER:Katedra za čeljustno in zobno or KČZO
RELATED-TO:mf-AFLABS-URNIK:srecanje:2645
X-WR-TIMEZONE:Europe/Ljubljana
END:VEVENT
BEGIN:VEVENT
SUMMARY:Čeljustna in zobna ortopedija 3 (ČZO3)\, klinične vaje (kv)\, [
 D6-06]
DTSTART;TZID=Europe/Ljubljana:20241001T091500
DTEND;TZID=Europe/Ljubljana:20241001T104500
DTSTAMP:20260421T041358Z
UID:mf-AFLABS-URNIK:premaknjeno-srecanje:15069
ATTENDEE:6. LETNIK (EMŠ DM)
CATEGORIES:Entry,Special
COLOR:forestgreen
DESCRIPTION:Predmet: Čeljustna in zobna ortopedija 3 (ČZO3)\, klinične 
 vaje (kv)\, [D6-06]\nLetniki: 6. LETNIK (EMŠ DM)\nIzvajalci: Katedra za 
 čeljustno in zobno or KČZO\nProstor: Vaj - KCZO - 23 - Stoma - UKC
LOCATION:Hrvatski trg 6\, Vaj - KCZO - 23 - Stoma - UKC
ORGANIZER:Katedra za čeljustno in zobno or KČZO
RELATED-TO:mf-AFLABS-URNIK:srecanje:2646
X-WR-TIMEZONE:Europe/Ljubljana
END:VEVENT
BEGIN:VEVENT
SUMMARY:Čeljustna in zobna ortopedija 3 (ČZO3)\, klinične vaje (kv)\, [
 D6-06]
DTSTART;TZID=Europe/Ljubljana:20241008T091500
DTEND;TZID=Europe/Ljubljana:20241008T104500
DTSTAMP:20260421T041358Z
UID:mf-AFLABS-URNIK:premaknjeno-srecanje:15070
ATTENDEE:6. LETNIK (EMŠ DM)
CATEGORIES:Entry,Special
COLOR:forestgreen
DESCRIPTION:Predmet: Čeljustna in zobna ortopedija 3 (ČZO3)\, klinične 
 vaje (kv)\, [D6-06]\nLetniki: 6. LETNIK (EMŠ DM)\nIzvajalci: Katedra za 
 čeljustno in zobno or KČZO\nProstor: Vaj - KCZO - 23 - Stoma - UKC
LOCATION:Hrvatski trg 6\, Vaj - KCZO - 23 - Stoma - UKC
ORGANIZER:Katedra za čeljustno in zobno or KČZO
RELATED-TO:mf-AFLABS-URNIK:srecanje:2646
X-WR-TIMEZONE:Europe/Ljubljana
END:VEVENT
BEGIN:VEVENT
SUMMARY:Čeljustna in zobna ortopedija 3 (ČZO3)\, klinične vaje (kv)\, [
 D6-06]
DTSTART;TZID=Europe/Ljubljana:20241015T091500
DTEND;TZID=Europe/Ljubljana:20241015T104500
DTSTAMP:20260421T041358Z
UID:mf-AFLABS-URNIK:premaknjeno-srecanje:15071
ATTENDEE:6. LETNIK (EMŠ DM)
CATEGORIES:Entry,Special
COLOR:forestgreen
DESCRIPTION:Predmet: Čeljustna in zobna ortopedija 3 (ČZO3)\, klinične 
 vaje (kv)\, [D6-06]\nLetniki: 6. LETNIK (EMŠ DM)\nIzvajalci: Katedra za 
 čeljustno in zobno or KČZO\nProstor: Vaj - KCZO - 23 - Stoma - UKC
LOCATION:Hrvatski trg 6\, Vaj - KCZO - 23 - Stoma - UKC
ORGANIZER:Katedra za čeljustno in zobno or KČZO
RELATED-TO:mf-AFLABS-URNIK:srecanje:2646
X-WR-TIMEZONE:Europe/Ljubljana
END:VEVENT
BEGIN:VEVENT
SUMMARY:Čeljustna in zobna ortopedija 3 (ČZO3)\, klinične vaje (kv)\, [
 D6-06]
DTSTART;TZID=Europe/Ljubljana:20241022T091500
DTEND;TZID=Europe/Ljubljana:20241022T104500
DTSTAMP:20260421T041358Z
UID:mf-AFLABS-URNIK:premaknjeno-srecanje:15072
ATTENDEE:6. LETNIK (EMŠ DM)
CATEGORIES:Entry,Special
COLOR:forestgreen
DESCRIPTION:Predmet: Čeljustna in zobna ortopedija 3 (ČZO3)\, klinične 
 vaje (kv)\, [D6-06]\nLetniki: 6. LETNIK (EMŠ DM)\nIzvajalci: Katedra za 
 čeljustno in zobno or KČZO\nProstor: Vaj - KCZO - 23 - Stoma - UKC
LOCATION:Hrvatski trg 6\, Vaj - KCZO - 23 - Stoma - UKC
ORGANIZER:Katedra za čeljustno in zobno or KČZO
RELATED-TO:mf-AFLABS-URNIK:srecanje:2646
X-WR-TIMEZONE:Europe/Ljubljana
END:VEVENT
BEGIN:VEVENT
SUMMARY:Čeljustna in zobna ortopedija 3 (ČZO3)\, klinične vaje (kv)\, [
 D6-06]
DTSTART;TZID=Europe/Ljubljana:20241029T091500
DTEND;TZID=Europe/Ljubljana:20241029T104500
DTSTAMP:20260421T041358Z
UID:mf-AFLABS-URNIK:premaknjeno-srecanje:15073
ATTENDEE:6. LETNIK (EMŠ DM)
CATEGORIES:Entry,Special
COLOR:forestgreen
DESCRIPTION:Predmet: Čeljustna in zobna ortopedija 3 (ČZO3)\, klinične 
 vaje (kv)\, [D6-06]\nLetniki: 6. LETNIK (EMŠ DM)\nIzvajalci: Katedra za 
 čeljustno in zobno or KČZO\nProstor: Vaj - KCZO - 23 - Stoma - UKC
LOCATION:Hrvatski trg 6\, Vaj - KCZO - 23 - Stoma - UKC
ORGANIZER:Katedra za čeljustno in zobno or KČZO
RELATED-TO:mf-AFLABS-URNIK:srecanje:2646
X-WR-TIMEZONE:Europe/Ljubljana
END:VEVENT
BEGIN:VEVENT
SUMMARY:Čeljustna in zobna ortopedija 3 (ČZO3)\, klinične vaje (kv)\, [
 D6-04]
DTSTART;TZID=Europe/Ljubljana:20241001T110000
DTEND;TZID=Europe/Ljubljana:20241001T123000
DTSTAMP:20260421T041358Z
UID:mf-AFLABS-URNIK:premaknjeno-srecanje:15084
ATTENDEE:6. LETNIK (EMŠ DM)
CATEGORIES:Entry,Special
COLOR:forestgreen
DESCRIPTION:Predmet: Čeljustna in zobna ortopedija 3 (ČZO3)\, klinične 
 vaje (kv)\, [D6-04]\nLetniki: 6. LETNIK (EMŠ DM)\nIzvajalci: Katedra za 
 čeljustno in zobno or KČZO\nProstor: Vaj - KCZO - 23 - Stoma - UKC
LOCATION:Hrvatski trg 6\, Vaj - KCZO - 23 - Stoma - UKC
ORGANIZER:Katedra za čeljustno in zobno or KČZO
RELATED-TO:mf-AFLABS-URNIK:srecanje:2647
X-WR-TIMEZONE:Europe/Ljubljana
END:VEVENT
BEGIN:VEVENT
SUMMARY:Čeljustna in zobna ortopedija 3 (ČZO3)\, klinične vaje (kv)\, [
 D6-04]
DTSTART;TZID=Europe/Ljubljana:20241008T110000
DTEND;TZID=Europe/Ljubljana:20241008T123000
DTSTAMP:20260421T041358Z
UID:mf-AFLABS-URNIK:premaknjeno-srecanje:15085
ATTENDEE:6. LETNIK (EMŠ DM)
CATEGORIES:Entry,Special
COLOR:forestgreen
DESCRIPTION:Predmet: Čeljustna in zobna ortopedija 3 (ČZO3)\, klinične 
 vaje (kv)\, [D6-04]\nLetniki: 6. LETNIK (EMŠ DM)\nIzvajalci: Katedra za 
 čeljustno in zobno or KČZO\nProstor: Vaj - KCZO - 23 - Stoma - UKC
LOCATION:Hrvatski trg 6\, Vaj - KCZO - 23 - Stoma - UKC
ORGANIZER:Katedra za čeljustno in zobno or KČZO
RELATED-TO:mf-AFLABS-URNIK:srecanje:2647
X-WR-TIMEZONE:Europe/Ljubljana
END:VEVENT
BEGIN:VEVENT
SUMMARY:Čeljustna in zobna ortopedija 3 (ČZO3)\, klinične vaje (kv)\, [
 D6-04]
DTSTART;TZID=Europe/Ljubljana:20241015T110000
DTEND;TZID=Europe/Ljubljana:20241015T123000
DTSTAMP:20260421T041358Z
UID:mf-AFLABS-URNIK:premaknjeno-srecanje:15086
ATTENDEE:6. LETNIK (EMŠ DM)
CATEGORIES:Entry,Special
COLOR:forestgreen
DESCRIPTION:Predmet: Čeljustna in zobna ortopedija 3 (ČZO3)\, klinične 
 vaje (kv)\, [D6-04]\nLetniki: 6. LETNIK (EMŠ DM)\nIzvajalci: Katedra za 
 čeljustno in zobno or KČZO\nProstor: Vaj - KCZO - 23 - Stoma - UKC
LOCATION:Hrvatski trg 6\, Vaj - KCZO - 23 - Stoma - UKC
ORGANIZER:Katedra za čeljustno in zobno or KČZO
RELATED-TO:mf-AFLABS-URNIK:srecanje:2647
X-WR-TIMEZONE:Europe/Ljubljana
END:VEVENT
BEGIN:VEVENT
SUMMARY:Čeljustna in zobna ortopedija 3 (ČZO3)\, klinične vaje (kv)\, [
 D6-04]
DTSTART;TZID=Europe/Ljubljana:20241022T110000
DTEND;TZID=Europe/Ljubljana:20241022T123000
DTSTAMP:20260421T041358Z
UID:mf-AFLABS-URNIK:premaknjeno-srecanje:15087
ATTENDEE:6. LETNIK (EMŠ DM)
CATEGORIES:Entry,Special
COLOR:forestgreen
DESCRIPTION:Predmet: Čeljustna in zobna ortopedija 3 (ČZO3)\, klinične 
 vaje (kv)\, [D6-04]\nLetniki: 6. LETNIK (EMŠ DM)\nIzvajalci: Katedra za 
 čeljustno in zobno or KČZO\nProstor: Vaj - KCZO - 23 - Stoma - UKC
LOCATION:Hrvatski trg 6\, Vaj - KCZO - 23 - Stoma - UKC
ORGANIZER:Katedra za čeljustno in zobno or KČZO
RELATED-TO:mf-AFLABS-URNIK:srecanje:2647
X-WR-TIMEZONE:Europe/Ljubljana
END:VEVENT
BEGIN:VEVENT
SUMMARY:Čeljustna in zobna ortopedija 3 (ČZO3)\, klinične vaje (kv)\, [
 D6-04]
DTSTART;TZID=Europe/Ljubljana:20241029T110000
DTEND;TZID=Europe/Ljubljana:20241029T123000
DTSTAMP:20260421T041358Z
UID:mf-AFLABS-URNIK:premaknjeno-srecanje:15088
ATTENDEE:6. LETNIK (EMŠ DM)
CATEGORIES:Entry,Special
COLOR:forestgreen
DESCRIPTION:Predmet: Čeljustna in zobna ortopedija 3 (ČZO3)\, klinične 
 vaje (kv)\, [D6-04]\nLetniki: 6. LETNIK (EMŠ DM)\nIzvajalci: Katedra za 
 čeljustno in zobno or KČZO\nProstor: Vaj - KCZO - 23 - Stoma - UKC
LOCATION:Hrvatski trg 6\, Vaj - KCZO - 23 - Stoma - UKC
ORGANIZER:Katedra za čeljustno in zobno or KČZO
RELATED-TO:mf-AFLABS-URNIK:srecanje:2647
X-WR-TIMEZONE:Europe/Ljubljana
END:VEVENT
BEGIN:VEVENT
SUMMARY:Čeljustna in zobna ortopedija 3 (ČZO3)\, klinične vaje (kv)\, [
 D6-02]
DTSTART;TZID=Europe/Ljubljana:20241002T073000
DTEND;TZID=Europe/Ljubljana:20241002T090000
DTSTAMP:20260421T041358Z
UID:mf-AFLABS-URNIK:premaknjeno-srecanje:15099
ATTENDEE:6. LETNIK (EMŠ DM)
CATEGORIES:Entry,Special
COLOR:forestgreen
DESCRIPTION:Predmet: Čeljustna in zobna ortopedija 3 (ČZO3)\, klinične 
 vaje (kv)\, [D6-02]\nLetniki: 6. LETNIK (EMŠ DM)\nIzvajalci: Katedra za 
 čeljustno in zobno or KČZO\nProstor: Vaj - KCZO - 23 - Stoma - UKC
LOCATION:Hrvatski trg 6\, Vaj - KCZO - 23 - Stoma - UKC
ORGANIZER:Katedra za čeljustno in zobno or KČZO
RELATED-TO:mf-AFLABS-URNIK:srecanje:2648
X-WR-TIMEZONE:Europe/Ljubljana
END:VEVENT
BEGIN:VEVENT
SUMMARY:Čeljustna in zobna ortopedija 3 (ČZO3)\, klinične vaje (kv)\, [
 D6-02]
DTSTART;TZID=Europe/Ljubljana:20241009T073000
DTEND;TZID=Europe/Ljubljana:20241009T090000
DTSTAMP:20260421T041358Z
UID:mf-AFLABS-URNIK:premaknjeno-srecanje:15100
ATTENDEE:6. LETNIK (EMŠ DM)
CATEGORIES:Entry,Special
COLOR:forestgreen
DESCRIPTION:Predmet: Čeljustna in zobna ortopedija 3 (ČZO3)\, klinične 
 vaje (kv)\, [D6-02]\nLetniki: 6. LETNIK (EMŠ DM)\nIzvajalci: Katedra za 
 čeljustno in zobno or KČZO\nProstor: Vaj - KCZO - 23 - Stoma - UKC
LOCATION:Hrvatski trg 6\, Vaj - KCZO - 23 - Stoma - UKC
ORGANIZER:Katedra za čeljustno in zobno or KČZO
RELATED-TO:mf-AFLABS-URNIK:srecanje:2648
X-WR-TIMEZONE:Europe/Ljubljana
END:VEVENT
BEGIN:VEVENT
SUMMARY:Čeljustna in zobna ortopedija 3 (ČZO3)\, klinične vaje (kv)\, [
 D6-02]
DTSTART;TZID=Europe/Ljubljana:20241016T073000
DTEND;TZID=Europe/Ljubljana:20241016T090000
DTSTAMP:20260421T041358Z
UID:mf-AFLABS-URNIK:premaknjeno-srecanje:15101
ATTENDEE:6. LETNIK (EMŠ DM)
CATEGORIES:Entry,Special
COLOR:forestgreen
DESCRIPTION:Predmet: Čeljustna in zobna ortopedija 3 (ČZO3)\, klinične 
 vaje (kv)\, [D6-02]\nLetniki: 6. LETNIK (EMŠ DM)\nIzvajalci: Katedra za 
 čeljustno in zobno or KČZO\nProstor: Vaj - KCZO - 23 - Stoma - UKC
LOCATION:Hrvatski trg 6\, Vaj - KCZO - 23 - Stoma - UKC
ORGANIZER:Katedra za čeljustno in zobno or KČZO
RELATED-TO:mf-AFLABS-URNIK:srecanje:2648
X-WR-TIMEZONE:Europe/Ljubljana
END:VEVENT
BEGIN:VEVENT
SUMMARY:Čeljustna in zobna ortopedija 3 (ČZO3)\, klinične vaje (kv)\, [
 D6-02]
DTSTART;TZID=Europe/Ljubljana:20241023T073000
DTEND;TZID=Europe/Ljubljana:20241023T090000
DTSTAMP:20260421T041358Z
UID:mf-AFLABS-URNIK:premaknjeno-srecanje:15102
ATTENDEE:6. LETNIK (EMŠ DM)
CATEGORIES:Entry,Special
COLOR:forestgreen
DESCRIPTION:Predmet: Čeljustna in zobna ortopedija 3 (ČZO3)\, klinične 
 vaje (kv)\, [D6-02]\nLetniki: 6. LETNIK (EMŠ DM)\nIzvajalci: Katedra za 
 čeljustno in zobno or KČZO\nProstor: Vaj - KCZO - 23 - Stoma - UKC
LOCATION:Hrvatski trg 6\, Vaj - KCZO - 23 - Stoma - UKC
ORGANIZER:Katedra za čeljustno in zobno or KČZO
RELATED-TO:mf-AFLABS-URNIK:srecanje:2648
X-WR-TIMEZONE:Europe/Ljubljana
END:VEVENT
BEGIN:VEVENT
SUMMARY:Čeljustna in zobna ortopedija 3 (ČZO3)\, klinične vaje (kv)\, [
 D6-02]
DTSTART;TZID=Europe/Ljubljana:20241030T073000
DTEND;TZID=Europe/Ljubljana:20241030T090000
DTSTAMP:20260421T041358Z
UID:mf-AFLABS-URNIK:premaknjeno-srecanje:15103
ATTENDEE:6. LETNIK (EMŠ DM)
CATEGORIES:Entry,Special
COLOR:forestgreen
DESCRIPTION:Predmet: Čeljustna in zobna ortopedija 3 (ČZO3)\, klinične 
 vaje (kv)\, [D6-02]\nLetniki: 6. LETNIK (EMŠ DM)\nIzvajalci: Katedra za 
 čeljustno in zobno or KČZO\nProstor: Vaj - KCZO - 23 - Stoma - UKC
LOCATION:Hrvatski trg 6\, Vaj - KCZO - 23 - Stoma - UKC
ORGANIZER:Katedra za čeljustno in zobno or KČZO
RELATED-TO:mf-AFLABS-URNIK:srecanje:2648
X-WR-TIMEZONE:Europe/Ljubljana
END:VEVENT
BEGIN:VEVENT
SUMMARY:Čeljustna in zobna ortopedija 3 (ČZO3)\, klinične vaje (kv)\, [
 D6-03]
DTSTART;TZID=Europe/Ljubljana:20241002T091500
DTEND;TZID=Europe/Ljubljana:20241002T104500
DTSTAMP:20260421T041358Z
UID:mf-AFLABS-URNIK:premaknjeno-srecanje:15113
ATTENDEE:6. LETNIK (EMŠ DM)
CATEGORIES:Entry,Special
COLOR:forestgreen
DESCRIPTION:Predmet: Čeljustna in zobna ortopedija 3 (ČZO3)\, klinične 
 vaje (kv)\, [D6-03]\nLetniki: 6. LETNIK (EMŠ DM)\nIzvajalci: Katedra za 
 čeljustno in zobno or KČZO\nProstor: Vaj - KCZO - 23 - Stoma - UKC
LOCATION:Hrvatski trg 6\, Vaj - KCZO - 23 - Stoma - UKC
ORGANIZER:Katedra za čeljustno in zobno or KČZO
RELATED-TO:mf-AFLABS-URNIK:srecanje:2649
X-WR-TIMEZONE:Europe/Ljubljana
END:VEVENT
BEGIN:VEVENT
SUMMARY:Čeljustna in zobna ortopedija 3 (ČZO3)\, klinične vaje (kv)\, [
 D6-03]
DTSTART;TZID=Europe/Ljubljana:20241009T091500
DTEND;TZID=Europe/Ljubljana:20241009T104500
DTSTAMP:20260421T041358Z
UID:mf-AFLABS-URNIK:premaknjeno-srecanje:15114
ATTENDEE:6. LETNIK (EMŠ DM)
CATEGORIES:Entry,Special
COLOR:forestgreen
DESCRIPTION:Predmet: Čeljustna in zobna ortopedija 3 (ČZO3)\, klinične 
 vaje (kv)\, [D6-03]\nLetniki: 6. LETNIK (EMŠ DM)\nIzvajalci: Katedra za 
 čeljustno in zobno or KČZO\nProstor: Vaj - KCZO - 23 - Stoma - UKC
LOCATION:Hrvatski trg 6\, Vaj - KCZO - 23 - Stoma - UKC
ORGANIZER:Katedra za čeljustno in zobno or KČZO
RELATED-TO:mf-AFLABS-URNIK:srecanje:2649
X-WR-TIMEZONE:Europe/Ljubljana
END:VEVENT
BEGIN:VEVENT
SUMMARY:Čeljustna in zobna ortopedija 3 (ČZO3)\, klinične vaje (kv)\, [
 D6-03]
DTSTART;TZID=Europe/Ljubljana:20241016T091500
DTEND;TZID=Europe/Ljubljana:20241016T104500
DTSTAMP:20260421T041358Z
UID:mf-AFLABS-URNIK:premaknjeno-srecanje:15115
ATTENDEE:6. LETNIK (EMŠ DM)
CATEGORIES:Entry,Special
COLOR:forestgreen
DESCRIPTION:Predmet: Čeljustna in zobna ortopedija 3 (ČZO3)\, klinične 
 vaje (kv)\, [D6-03]\nLetniki: 6. LETNIK (EMŠ DM)\nIzvajalci: Katedra za 
 čeljustno in zobno or KČZO\nProstor: Vaj - KCZO - 23 - Stoma - UKC
LOCATION:Hrvatski trg 6\, Vaj - KCZO - 23 - Stoma - UKC
ORGANIZER:Katedra za čeljustno in zobno or KČZO
RELATED-TO:mf-AFLABS-URNIK:srecanje:2649
X-WR-TIMEZONE:Europe/Ljubljana
END:VEVENT
BEGIN:VEVENT
SUMMARY:Čeljustna in zobna ortopedija 3 (ČZO3)\, klinične vaje (kv)\, [
 D6-03]
DTSTART;TZID=Europe/Ljubljana:20241023T091500
DTEND;TZID=Europe/Ljubljana:20241023T104500
DTSTAMP:20260421T041358Z
UID:mf-AFLABS-URNIK:premaknjeno-srecanje:15116
ATTENDEE:6. LETNIK (EMŠ DM)
CATEGORIES:Entry,Special
COLOR:forestgreen
DESCRIPTION:Predmet: Čeljustna in zobna ortopedija 3 (ČZO3)\, klinične 
 vaje (kv)\, [D6-03]\nLetniki: 6. LETNIK (EMŠ DM)\nIzvajalci: Katedra za 
 čeljustno in zobno or KČZO\nProstor: Vaj - KCZO - 23 - Stoma - UKC
LOCATION:Hrvatski trg 6\, Vaj - KCZO - 23 - Stoma - UKC
ORGANIZER:Katedra za čeljustno in zobno or KČZO
RELATED-TO:mf-AFLABS-URNIK:srecanje:2649
X-WR-TIMEZONE:Europe/Ljubljana
END:VEVENT
BEGIN:VEVENT
SUMMARY:Čeljustna in zobna ortopedija 3 (ČZO3)\, klinične vaje (kv)\, [
 D6-03]
DTSTART;TZID=Europe/Ljubljana:20241030T091500
DTEND;TZID=Europe/Ljubljana:20241030T104500
DTSTAMP:20260421T041358Z
UID:mf-AFLABS-URNIK:premaknjeno-srecanje:15117
ATTENDEE:6. LETNIK (EMŠ DM)
CATEGORIES:Entry,Special
COLOR:forestgreen
DESCRIPTION:Predmet: Čeljustna in zobna ortopedija 3 (ČZO3)\, klinične 
 vaje (kv)\, [D6-03]\nLetniki: 6. LETNIK (EMŠ DM)\nIzvajalci: Katedra za 
 čeljustno in zobno or KČZO\nProstor: Vaj - KCZO - 23 - Stoma - UKC
LOCATION:Hrvatski trg 6\, Vaj - KCZO - 23 - Stoma - UKC
ORGANIZER:Katedra za čeljustno in zobno or KČZO
RELATED-TO:mf-AFLABS-URNIK:srecanje:2649
X-WR-TIMEZONE:Europe/Ljubljana
END:VEVENT
BEGIN:VEVENT
SUMMARY:Čeljustna in zobna ortopedija 3 (ČZO3)\, klinične vaje (kv)\, [
 D6-01]
DTSTART;TZID=Europe/Ljubljana:20241002T110000
DTEND;TZID=Europe/Ljubljana:20241002T123000
DTSTAMP:20260421T041358Z
UID:mf-AFLABS-URNIK:premaknjeno-srecanje:15127
ATTENDEE:6. LETNIK (EMŠ DM)
CATEGORIES:Entry,Special
COLOR:forestgreen
DESCRIPTION:Predmet: Čeljustna in zobna ortopedija 3 (ČZO3)\, klinične 
 vaje (kv)\, [D6-01]\nLetniki: 6. LETNIK (EMŠ DM)\nIzvajalci: Katedra za 
 čeljustno in zobno or KČZO\nProstor: Vaj - KCZO - 23 - Stoma - UKC
LOCATION:Hrvatski trg 6\, Vaj - KCZO - 23 - Stoma - UKC
ORGANIZER:Katedra za čeljustno in zobno or KČZO
RELATED-TO:mf-AFLABS-URNIK:srecanje:2650
X-WR-TIMEZONE:Europe/Ljubljana
END:VEVENT
BEGIN:VEVENT
SUMMARY:Čeljustna in zobna ortopedija 3 (ČZO3)\, klinične vaje (kv)\, [
 D6-01]
DTSTART;TZID=Europe/Ljubljana:20241009T110000
DTEND;TZID=Europe/Ljubljana:20241009T123000
DTSTAMP:20260421T041358Z
UID:mf-AFLABS-URNIK:premaknjeno-srecanje:15128
ATTENDEE:6. LETNIK (EMŠ DM)
CATEGORIES:Entry,Special
COLOR:forestgreen
DESCRIPTION:Predmet: Čeljustna in zobna ortopedija 3 (ČZO3)\, klinične 
 vaje (kv)\, [D6-01]\nLetniki: 6. LETNIK (EMŠ DM)\nIzvajalci: Katedra za 
 čeljustno in zobno or KČZO\nProstor: Vaj - KCZO - 23 - Stoma - UKC
LOCATION:Hrvatski trg 6\, Vaj - KCZO - 23 - Stoma - UKC
ORGANIZER:Katedra za čeljustno in zobno or KČZO
RELATED-TO:mf-AFLABS-URNIK:srecanje:2650
X-WR-TIMEZONE:Europe/Ljubljana
END:VEVENT
BEGIN:VEVENT
SUMMARY:Čeljustna in zobna ortopedija 3 (ČZO3)\, klinične vaje (kv)\, [
 D6-01]
DTSTART;TZID=Europe/Ljubljana:20241016T110000
DTEND;TZID=Europe/Ljubljana:20241016T123000
DTSTAMP:20260421T041358Z
UID:mf-AFLABS-URNIK:premaknjeno-srecanje:15129
ATTENDEE:6. LETNIK (EMŠ DM)
CATEGORIES:Entry,Special
COLOR:forestgreen
DESCRIPTION:Predmet: Čeljustna in zobna ortopedija 3 (ČZO3)\, klinične 
 vaje (kv)\, [D6-01]\nLetniki: 6. LETNIK (EMŠ DM)\nIzvajalci: Katedra za 
 čeljustno in zobno or KČZO\nProstor: Vaj - KCZO - 23 - Stoma - UKC
LOCATION:Hrvatski trg 6\, Vaj - KCZO - 23 - Stoma - UKC
ORGANIZER:Katedra za čeljustno in zobno or KČZO
RELATED-TO:mf-AFLABS-URNIK:srecanje:2650
X-WR-TIMEZONE:Europe/Ljubljana
END:VEVENT
BEGIN:VEVENT
SUMMARY:Čeljustna in zobna ortopedija 3 (ČZO3)\, klinične vaje (kv)\, [
 D6-01]
DTSTART;TZID=Europe/Ljubljana:20241023T110000
DTEND;TZID=Europe/Ljubljana:20241023T123000
DTSTAMP:20260421T041358Z
UID:mf-AFLABS-URNIK:premaknjeno-srecanje:15130
ATTENDEE:6. LETNIK (EMŠ DM)
CATEGORIES:Entry,Special
COLOR:forestgreen
DESCRIPTION:Predmet: Čeljustna in zobna ortopedija 3 (ČZO3)\, klinične 
 vaje (kv)\, [D6-01]\nLetniki: 6. LETNIK (EMŠ DM)\nIzvajalci: Katedra za 
 čeljustno in zobno or KČZO\nProstor: Vaj - KCZO - 23 - Stoma - UKC
LOCATION:Hrvatski trg 6\, Vaj - KCZO - 23 - Stoma - UKC
ORGANIZER:Katedra za čeljustno in zobno or KČZO
RELATED-TO:mf-AFLABS-URNIK:srecanje:2650
X-WR-TIMEZONE:Europe/Ljubljana
END:VEVENT
BEGIN:VEVENT
SUMMARY:Čeljustna in zobna ortopedija 3 (ČZO3)\, klinične vaje (kv)\, [
 D6-01]
DTSTART;TZID=Europe/Ljubljana:20241030T110000
DTEND;TZID=Europe/Ljubljana:20241030T123000
DTSTAMP:20260421T041358Z
UID:mf-AFLABS-URNIK:premaknjeno-srecanje:15131
ATTENDEE:6. LETNIK (EMŠ DM)
CATEGORIES:Entry,Special
COLOR:forestgreen
DESCRIPTION:Predmet: Čeljustna in zobna ortopedija 3 (ČZO3)\, klinične 
 vaje (kv)\, [D6-01]\nLetniki: 6. LETNIK (EMŠ DM)\nIzvajalci: Katedra za 
 čeljustno in zobno or KČZO\nProstor: Vaj - KCZO - 23 - Stoma - UKC
LOCATION:Hrvatski trg 6\, Vaj - KCZO - 23 - Stoma - UKC
ORGANIZER:Katedra za čeljustno in zobno or KČZO
RELATED-TO:mf-AFLABS-URNIK:srecanje:2650
X-WR-TIMEZONE:Europe/Ljubljana
END:VEVENT
BEGIN:VEVENT
SUMMARY:Čeljustna in zobna ortopedija 3 (ČZO3)\, Predavanje (P)
DTSTART;TZID=Europe/Ljubljana:20241007T100000
DTEND;TZID=Europe/Ljubljana:20241007T110000
DTSTAMP:20260421T041358Z
UID:mf-AFLABS-URNIK:premaknjeno-srecanje:15026
ATTENDEE:6. LETNIK (EMŠ DM)
CATEGORIES:Entry,Special
COLOR:forestgreen
DESCRIPTION:Predmet: Čeljustna in zobna ortopedija 3 (ČZO3)\, Predavanje
  (P)\nLetniki: 6. LETNIK (EMŠ DM)\nIzvajalci: Katedra za čeljustno in zo
 bno or KČZO\nProstor: Pred - Stoma
LOCATION:Hrvatski trg 6\, Pred - Stoma
ORGANIZER:Katedra za čeljustno in zobno or KČZO
RELATED-TO:mf-AFLABS-URNIK:srecanje:2643
X-WR-TIMEZONE:Europe/Ljubljana
END:VEVENT
BEGIN:VEVENT
SUMMARY:Čeljustna in zobna ortopedija 3 (ČZO3)\, Predavanje (P)
DTSTART;TZID=Europe/Ljubljana:20241014T100000
DTEND;TZID=Europe/Ljubljana:20241014T110000
DTSTAMP:20260421T041358Z
UID:mf-AFLABS-URNIK:premaknjeno-srecanje:15027
ATTENDEE:6. LETNIK (EMŠ DM)
CATEGORIES:Entry,Special
COLOR:forestgreen
DESCRIPTION:Predmet: Čeljustna in zobna ortopedija 3 (ČZO3)\, Predavanje
  (P)\nLetniki: 6. LETNIK (EMŠ DM)\nIzvajalci: Katedra za čeljustno in zo
 bno or KČZO\nProstor: Pred - Stoma
LOCATION:Hrvatski trg 6\, Pred - Stoma
ORGANIZER:Katedra za čeljustno in zobno or KČZO
RELATED-TO:mf-AFLABS-URNIK:srecanje:2643
X-WR-TIMEZONE:Europe/Ljubljana
END:VEVENT
BEGIN:VEVENT
SUMMARY:Čeljustna in zobna ortopedija 3 (ČZO3)\, Predavanje (P)
DTSTART;TZID=Europe/Ljubljana:20241021T100000
DTEND;TZID=Europe/Ljubljana:20241021T110000
DTSTAMP:20260421T041358Z
UID:mf-AFLABS-URNIK:premaknjeno-srecanje:15028
ATTENDEE:6. LETNIK (EMŠ DM)
CATEGORIES:Entry,Special
COLOR:forestgreen
DESCRIPTION:Predmet: Čeljustna in zobna ortopedija 3 (ČZO3)\, Predavanje
  (P)\nLetniki: 6. LETNIK (EMŠ DM)\nIzvajalci: Katedra za čeljustno in zo
 bno or KČZO\nProstor: Pred - Stoma
LOCATION:Hrvatski trg 6\, Pred - Stoma
ORGANIZER:Katedra za čeljustno in zobno or KČZO
RELATED-TO:mf-AFLABS-URNIK:srecanje:2643
X-WR-TIMEZONE:Europe/Ljubljana
END:VEVENT
BEGIN:VEVENT
SUMMARY:Čeljustna in zobna ortopedija 3 (ČZO3)\, Predavanje (P)
DTSTART;TZID=Europe/Ljubljana:20241028T100000
DTEND;TZID=Europe/Ljubljana:20241028T110000
DTSTAMP:20260421T041358Z
UID:mf-AFLABS-URNIK:premaknjeno-srecanje:15029
ATTENDEE:6. LETNIK (EMŠ DM)
CATEGORIES:Entry,Special
COLOR:forestgreen
DESCRIPTION:Predmet: Čeljustna in zobna ortopedija 3 (ČZO3)\, Predavanje
  (P)\nLetniki: 6. LETNIK (EMŠ DM)\nIzvajalci: Katedra za čeljustno in zo
 bno or KČZO\nProstor: Pred - Stoma
LOCATION:Hrvatski trg 6\, Pred - Stoma
ORGANIZER:Katedra za čeljustno in zobno or KČZO
RELATED-TO:mf-AFLABS-URNIK:srecanje:2643
X-WR-TIMEZONE:Europe/Ljubljana
END:VEVENT
BEGIN:VEVENT
SUMMARY:Čeljustna in zobna ortopedija 3 (ČZO3)\, Seminar (S)
DTSTART;TZID=Europe/Ljubljana:20241007T110000
DTEND;TZID=Europe/Ljubljana:20241007T120000
DTSTAMP:20260421T041358Z
UID:mf-AFLABS-URNIK:premaknjeno-srecanje:15040
ATTENDEE:6. LETNIK (EMŠ DM)
CATEGORIES:Entry,Special
COLOR:forestgreen
DESCRIPTION:Predmet: Čeljustna in zobna ortopedija 3 (ČZO3)\, Seminar (S
 )\nLetniki: 6. LETNIK (EMŠ DM)\nIzvajalci: Katedra za čeljustno in zobno
  or KČZO\nProstor: Pred - Stoma
LOCATION:Hrvatski trg 6\, Pred - Stoma
ORGANIZER:Katedra za čeljustno in zobno or KČZO
RELATED-TO:mf-AFLABS-URNIK:srecanje:2644
X-WR-TIMEZONE:Europe/Ljubljana
END:VEVENT
BEGIN:VEVENT
SUMMARY:Čeljustna in zobna ortopedija 3 (ČZO3)\, Seminar (S)
DTSTART;TZID=Europe/Ljubljana:20241014T110000
DTEND;TZID=Europe/Ljubljana:20241014T120000
DTSTAMP:20260421T041358Z
UID:mf-AFLABS-URNIK:premaknjeno-srecanje:15041
ATTENDEE:6. LETNIK (EMŠ DM)
CATEGORIES:Entry,Special
COLOR:forestgreen
DESCRIPTION:Predmet: Čeljustna in zobna ortopedija 3 (ČZO3)\, Seminar (S
 )\nLetniki: 6. LETNIK (EMŠ DM)\nIzvajalci: Katedra za čeljustno in zobno
  or KČZO\nProstor: Pred - Stoma
LOCATION:Hrvatski trg 6\, Pred - Stoma
ORGANIZER:Katedra za čeljustno in zobno or KČZO
RELATED-TO:mf-AFLABS-URNIK:srecanje:2644
X-WR-TIMEZONE:Europe/Ljubljana
END:VEVENT
BEGIN:VEVENT
SUMMARY:Čeljustna in zobna ortopedija 3 (ČZO3)\, Seminar (S)
DTSTART;TZID=Europe/Ljubljana:20241021T110000
DTEND;TZID=Europe/Ljubljana:20241021T120000
DTSTAMP:20260421T041358Z
UID:mf-AFLABS-URNIK:premaknjeno-srecanje:15042
ATTENDEE:6. LETNIK (EMŠ DM)
CATEGORIES:Entry,Special
COLOR:forestgreen
DESCRIPTION:Predmet: Čeljustna in zobna ortopedija 3 (ČZO3)\, Seminar (S
 )\nLetniki: 6. LETNIK (EMŠ DM)\nIzvajalci: Katedra za čeljustno in zobno
  or KČZO\nProstor: Pred - Stoma
LOCATION:Hrvatski trg 6\, Pred - Stoma
ORGANIZER:Katedra za čeljustno in zobno or KČZO
RELATED-TO:mf-AFLABS-URNIK:srecanje:2644
X-WR-TIMEZONE:Europe/Ljubljana
END:VEVENT
BEGIN:VEVENT
SUMMARY:Čeljustna in zobna ortopedija 3 (ČZO3)\, Seminar (S)
DTSTART;TZID=Europe/Ljubljana:20241028T110000
DTEND;TZID=Europe/Ljubljana:20241028T120000
DTSTAMP:20260421T041358Z
UID:mf-AFLABS-URNIK:premaknjeno-srecanje:15043
ATTENDEE:6. LETNIK (EMŠ DM)
CATEGORIES:Entry,Special
COLOR:forestgreen
DESCRIPTION:Predmet: Čeljustna in zobna ortopedija 3 (ČZO3)\, Seminar (S
 )\nLetniki: 6. LETNIK (EMŠ DM)\nIzvajalci: Katedra za čeljustno in zobno
  or KČZO\nProstor: Pred - Stoma
LOCATION:Hrvatski trg 6\, Pred - Stoma
ORGANIZER:Katedra za čeljustno in zobno or KČZO
RELATED-TO:mf-AFLABS-URNIK:srecanje:2644
X-WR-TIMEZONE:Europe/Ljubljana
END:VEVENT
END:VCALENDAR
