BEGIN:VCALENDAR
VERSION:2.0
PRODID:-//AFLabs urnik izvoz - mf//aflabs.si//SI
DTSTAMP:20260420T130737Z
NAME:UL MF urnik
REFRESH-INTERVAL:PT1H
SOURCE:https://afurnik-mf.dev.aflabs.org/en/teacher/14?day=2024-09-24&expo
 rt=1
URL:https://afurnik-mf.dev.aflabs.org/en/teacher/14?day=2024-09-24&export=
 1
X-PUBLISHED-TTL:PT1H
X-WR-CALNAME:UL MF urnik
X-WR-TIMEZONE:Europe/Ljubljana
BEGIN:VTIMEZONE
TZID:Europe/Ljubljana
BEGIN:DAYLIGHT
DTSTART:20260329T020000
RDATE:20260329T020000
RDATE:20270328T020000
TZNAME:CEST
TZOFFSETFROM:+0100
TZOFFSETTO:+0200
END:DAYLIGHT
BEGIN:STANDARD
DTSTART:20261025T030000
RDATE:20261025T030000
RDATE:20271031T030000
TZNAME:CET
TZOFFSETFROM:+0200
TZOFFSETTO:+0100
END:STANDARD
END:VTIMEZONE
BEGIN:VEVENT
SUMMARY:Uvod v klinično dentalno medicino 2 (UKDM2)\, Predavanje (P)\, [D
 2-01\, D2-02\, D2-03\, D2-04\, D2-05\, D2-06]
DTSTART;TZID=Europe/Ljubljana:20241001T171500
DTEND;TZID=Europe/Ljubljana:20241001T191500
DTSTAMP:20260420T130737Z
UID:mf-AFLABS-URNIK:premaknjeno-srecanje:19888
ATTENDEE:2. LETNIK (EMŠ DM)
CATEGORIES:Entry,Special
COLOR:forestgreen
DESCRIPTION:Predmet: Uvod v klinično dentalno medicino 2 (UKDM2)\, Predav
 anje (P)\, [D2-01\, D2-02\, D2-03\, D2-04\, D2-05\, D2-06]\nLetniki: 2. LE
 TNIK (EMŠ DM)\nIzvajalci: Katedra za družinsko medicino KDM\nProstor: Pr
 ed - Velika - MF
LOCATION:Korytkova 2\, Pred - Velika - MF
ORGANIZER:Katedra za družinsko medicino KDM
RELATED-TO:mf-AFLABS-URNIK:srecanje:3330
X-WR-TIMEZONE:Europe/Ljubljana
END:VEVENT
BEGIN:VEVENT
SUMMARY:Uvod v klinično dentalno medicino 2 (UKDM2)\, Predavanje (P)\, [D
 2-01\, D2-02\, D2-03\, D2-04\, D2-05\, D2-06]
DTSTART;TZID=Europe/Ljubljana:20241008T171500
DTEND;TZID=Europe/Ljubljana:20241008T191500
DTSTAMP:20260420T130737Z
UID:mf-AFLABS-URNIK:premaknjeno-srecanje:19889
ATTENDEE:2. LETNIK (EMŠ DM)
CATEGORIES:Entry,Special
COLOR:forestgreen
DESCRIPTION:Predmet: Uvod v klinično dentalno medicino 2 (UKDM2)\, Predav
 anje (P)\, [D2-01\, D2-02\, D2-03\, D2-04\, D2-05\, D2-06]\nLetniki: 2. LE
 TNIK (EMŠ DM)\nIzvajalci: Katedra za družinsko medicino KDM\nProstor: Pr
 ed - Velika - MF
LOCATION:Korytkova 2\, Pred - Velika - MF
ORGANIZER:Katedra za družinsko medicino KDM
RELATED-TO:mf-AFLABS-URNIK:srecanje:3330
X-WR-TIMEZONE:Europe/Ljubljana
END:VEVENT
BEGIN:VEVENT
SUMMARY:Uvod v klinično dentalno medicino 2 (UKDM2)\, Predavanje (P)\, [D
 2-01\, D2-02\, D2-03\, D2-04\, D2-05\, D2-06]
DTSTART;TZID=Europe/Ljubljana:20241015T171500
DTEND;TZID=Europe/Ljubljana:20241015T191500
DTSTAMP:20260420T130737Z
UID:mf-AFLABS-URNIK:premaknjeno-srecanje:19890
ATTENDEE:2. LETNIK (EMŠ DM)
CATEGORIES:Entry,Special
COLOR:forestgreen
DESCRIPTION:Predmet: Uvod v klinično dentalno medicino 2 (UKDM2)\, Predav
 anje (P)\, [D2-01\, D2-02\, D2-03\, D2-04\, D2-05\, D2-06]\nLetniki: 2. LE
 TNIK (EMŠ DM)\nIzvajalci: Katedra za družinsko medicino KDM\nProstor: Pr
 ed - Velika - MF
LOCATION:Korytkova 2\, Pred - Velika - MF
ORGANIZER:Katedra za družinsko medicino KDM
RELATED-TO:mf-AFLABS-URNIK:srecanje:3330
X-WR-TIMEZONE:Europe/Ljubljana
END:VEVENT
BEGIN:VEVENT
SUMMARY:Geriatrija 6M (GER-6M)\, Seminar (S)
DTSTART;TZID=Europe/Ljubljana:20241017T140000
DTEND;TZID=Europe/Ljubljana:20241017T170000
DTSTAMP:20260420T130737Z
UID:mf-AFLABS-URNIK:premaknjeno-srecanje:21767
ATTENDEE:6. LETNIK (EMŠ M)
CATEGORIES:Entry,Standard
COLOR:darkgreen
DESCRIPTION:Predmet: Geriatrija 6M (GER-6M)\, Seminar (S)\nLetniki: 6. LET
 NIK (EMŠ M)\nIzvajalci: Katedra za družinsko medicino KDM\nProstor: Sem 
 - 1 - Katedra za javno zdravje
LOCATION:Zaloška 4\, Sem - 1 - Katedra za javno zdravje
ORGANIZER:Katedra za družinsko medicino KDM
RELATED-TO:mf-AFLABS-URNIK:srecanje:4308
X-WR-TIMEZONE:Europe/Ljubljana
END:VEVENT
BEGIN:VEVENT
SUMMARY:Geriatrija 6M (GER-6M)\, Seminar (S)
DTSTART;TZID=Europe/Ljubljana:20241017T140000
DTEND;TZID=Europe/Ljubljana:20241017T170000
DTSTAMP:20260420T130737Z
UID:mf-AFLABS-URNIK:premaknjeno-srecanje:21771
ATTENDEE:6. LETNIK (EMŠ M)
CATEGORIES:Entry,Standard
COLOR:darkgreen
DESCRIPTION:Predmet: Geriatrija 6M (GER-6M)\, Seminar (S)\nLetniki: 6. LET
 NIK (EMŠ M)\nIzvajalci: Katedra za družinsko medicino KDM\nProstor: Sem 
 - 3 - Katedra za javno zdravje
LOCATION:Zaloška 4\, Sem - 3 - Katedra za javno zdravje
ORGANIZER:Katedra za družinsko medicino KDM
RELATED-TO:mf-AFLABS-URNIK:srecanje:4309
X-WR-TIMEZONE:Europe/Ljubljana
END:VEVENT
BEGIN:VEVENT
SUMMARY:Uvod v klinično dentalno medicino 2 (UKDM2)\, Predavanje (P)\, [D
 2-01\, D2-02\, D2-03\, D2-04\, D2-05\, D2-06]
DTSTART;TZID=Europe/Ljubljana:20241022T164500
DTEND;TZID=Europe/Ljubljana:20241022T184500
DTSTAMP:20260420T130737Z
UID:mf-AFLABS-URNIK:premaknjeno-srecanje:19891
ATTENDEE:2. LETNIK (EMŠ DM)
CATEGORIES:Entry,Special
COLOR:forestgreen
DESCRIPTION:Predmet: Uvod v klinično dentalno medicino 2 (UKDM2)\, Predav
 anje (P)\, [D2-01\, D2-02\, D2-03\, D2-04\, D2-05\, D2-06]\nLetniki: 2. LE
 TNIK (EMŠ DM)\nIzvajalci: Katedra za družinsko medicino KDM\nProstor: Pr
 ed - Velika - MF
LOCATION:Korytkova 2\, Pred - Velika - MF
ORGANIZER:Katedra za družinsko medicino KDM
RELATED-TO:mf-AFLABS-URNIK:srecanje:3331
X-WR-TIMEZONE:Europe/Ljubljana
END:VEVENT
BEGIN:VEVENT
SUMMARY:Uvod v klinično dentalno medicino 2 (UKDM2)\, Predavanje (P)\, [D
 2-01\, D2-02\, D2-03\, D2-04\, D2-05\, D2-06]
DTSTART;TZID=Europe/Ljubljana:20241029T164500
DTEND;TZID=Europe/Ljubljana:20241029T184500
DTSTAMP:20260420T130737Z
UID:mf-AFLABS-URNIK:premaknjeno-srecanje:19892
ATTENDEE:2. LETNIK (EMŠ DM)
CATEGORIES:Entry,Special
COLOR:forestgreen
DESCRIPTION:Predmet: Uvod v klinično dentalno medicino 2 (UKDM2)\, Predav
 anje (P)\, [D2-01\, D2-02\, D2-03\, D2-04\, D2-05\, D2-06]\nLetniki: 2. LE
 TNIK (EMŠ DM)\nIzvajalci: Katedra za družinsko medicino KDM\nProstor: Pr
 ed - Velika - MF
LOCATION:Korytkova 2\, Pred - Velika - MF
ORGANIZER:Katedra za družinsko medicino KDM
RELATED-TO:mf-AFLABS-URNIK:srecanje:3331
X-WR-TIMEZONE:Europe/Ljubljana
END:VEVENT
END:VCALENDAR
