BEGIN:VCALENDAR
VERSION:2.0
PRODID:-//AFLabs urnik izvoz - mf//aflabs.si//SI
DTSTAMP:20260420T104725Z
NAME:UL MF urnik
REFRESH-INTERVAL:PT1H
SOURCE:https://afurnik-mf.dev.aflabs.org/en/teacher/22?day=2026-10-12&expo
 rt=1
URL:https://afurnik-mf.dev.aflabs.org/en/teacher/22?day=2026-10-12&export=
 1
X-PUBLISHED-TTL:PT1H
X-WR-CALNAME:UL MF urnik
X-WR-TIMEZONE:Europe/Ljubljana
BEGIN:VTIMEZONE
TZID:Europe/Ljubljana
BEGIN:DAYLIGHT
DTSTART:20260329T020000
RDATE:20260329T020000
RDATE:20270328T020000
TZNAME:CEST
TZOFFSETFROM:+0100
TZOFFSETTO:+0200
END:DAYLIGHT
BEGIN:STANDARD
DTSTART:20261025T030000
RDATE:20261025T030000
RDATE:20271031T030000
TZNAME:CET
TZOFFSETFROM:+0200
TZOFFSETTO:+0100
END:STANDARD
END:VTIMEZONE
BEGIN:VEVENT
SUMMARY:izpit:Maksilofacialna in oralna kirurgija 2
DTSTART;TZID=Europe/Ljubljana:20260909T100000
DTEND;TZID=Europe/Ljubljana:20260909T110000
DTSTAMP:20260420T104725Z
UID:mf-AFLABS-URNIK:rezervacija:8497
ATTENDEE:5. LETNIK (EMŠ DM)
CATEGORIES:Reservation
COLOR:royalblue
DESCRIPTION:Predmeti: Maksilofacialna in oralna kirurgija 2 (MAFA2)\nLetni
 ki: 5. LETNIK (EMŠ DM)\nIzvajalci: Katedra za maksilofacialno  in o KMOK\
 nProstori: Pred - Srednja - MF
LOCATION:Korytkova 2\, Pred - Srednja - MF
ORGANIZER:Katedra za maksilofacialno  in o KMOK
X-WR-TIMEZONE:Europe/Ljubljana
END:VEVENT
BEGIN:VEVENT
SUMMARY:izpit:Maksilofacialna in oralna kirurgija 1
DTSTART;TZID=Europe/Ljubljana:20260911T100000
DTEND;TZID=Europe/Ljubljana:20260911T110000
DTSTAMP:20260420T104725Z
UID:mf-AFLABS-URNIK:rezervacija:8962
ATTENDEE:4. LETNIK (EMŠ DM)
CATEGORIES:Reservation
COLOR:royalblue
DESCRIPTION:Predmeti: Maksilofacialna in oralna kirurgija 1 (MAFA1)\nLetni
 ki: 4. LETNIK (EMŠ DM)\nIzvajalci: Katedra za maksilofacialno  in o KMOK\
 nProstori: Pred - Srednja - MF
LOCATION:Korytkova 2\, Pred - Srednja - MF
ORGANIZER:Katedra za maksilofacialno  in o KMOK
X-WR-TIMEZONE:Europe/Ljubljana
END:VEVENT
END:VCALENDAR
