BEGIN:VCALENDAR
VERSION:2.0
PRODID:-//AFLabs urnik izvoz - mf//aflabs.si//SI
DTSTAMP:20260420T080334Z
NAME:UL MF urnik
REFRESH-INTERVAL:PT1H
SOURCE:https://afurnik-mf.dev.aflabs.org/en/teacher/32?day=2023-09-11&expo
 rt=1
URL:https://afurnik-mf.dev.aflabs.org/en/teacher/32?day=2023-09-11&export=
 1
X-PUBLISHED-TTL:PT1H
X-WR-CALNAME:UL MF urnik
X-WR-TIMEZONE:Europe/Ljubljana
BEGIN:VTIMEZONE
TZID:Europe/Ljubljana
BEGIN:DAYLIGHT
DTSTART:20260329T020000
RDATE:20260329T020000
RDATE:20270328T020000
TZNAME:CEST
TZOFFSETFROM:+0100
TZOFFSETTO:+0200
END:DAYLIGHT
BEGIN:STANDARD
DTSTART:20261025T030000
RDATE:20261025T030000
RDATE:20271031T030000
TZNAME:CET
TZOFFSETFROM:+0200
TZOFFSETTO:+0100
END:STANDARD
END:VTIMEZONE
BEGIN:VEVENT
SUMMARY:Splošna in dentalna radiologija (SPDRAD)\, Predavanja\, seminar (
 Pr)\, [D4-01\, D4-02\, D4-03\, D4-04\, D4-05\, D4-06]
DTSTART;TZID=Europe/Ljubljana:20231006T130000
DTEND;TZID=Europe/Ljubljana:20231006T160000
DTSTAMP:20260420T080334Z
UID:mf-AFLABS-URNIK:premaknjeno-srecanje:6707
ATTENDEE:4. LETNIK (EMŠ DM)
CATEGORIES:Entry,Standard
COLOR:darkgreen
DESCRIPTION:Predmet: Splošna in dentalna radiologija (SPDRAD)\, Predavanj
 a\, seminar (Pr)\, [D4-01\, D4-02\, D4-03\, D4-04\, D4-05\, D4-06]\nLetnik
 i: 4. LETNIK (EMŠ DM)\nIzvajalci: Katedra za radiologijo KRD\, Katedra za
  zobne bolezni in norm KZBNMZO\nProstor: Pred - Stoma
LOCATION:Hrvatski trg 6\, Pred - Stoma
ORGANIZER:Katedra za radiologijo KRD, Katedra za zobne bolezni in norm KZB
 NMZO
RELATED-TO:mf-AFLABS-URNIK:srecanje:1292
X-WR-TIMEZONE:Europe/Ljubljana
END:VEVENT
BEGIN:VEVENT
SUMMARY:Splošna in dentalna radiologija (SPDRAD)\, Predavanja\, seminar (
 Pr)\, [D4-01\, D4-02\, D4-03\, D4-04\, D4-05\, D4-06]
DTSTART;TZID=Europe/Ljubljana:20231013T130000
DTEND;TZID=Europe/Ljubljana:20231013T160000
DTSTAMP:20260420T080334Z
UID:mf-AFLABS-URNIK:premaknjeno-srecanje:6708
ATTENDEE:4. LETNIK (EMŠ DM)
CATEGORIES:Entry,Standard
COLOR:darkgreen
DESCRIPTION:Predmet: Splošna in dentalna radiologija (SPDRAD)\, Predavanj
 a\, seminar (Pr)\, [D4-01\, D4-02\, D4-03\, D4-04\, D4-05\, D4-06]\nLetnik
 i: 4. LETNIK (EMŠ DM)\nIzvajalci: Katedra za radiologijo KRD\, Katedra za
  zobne bolezni in norm KZBNMZO\nProstor: Pred - Stoma
LOCATION:Hrvatski trg 6\, Pred - Stoma
ORGANIZER:Katedra za radiologijo KRD, Katedra za zobne bolezni in norm KZB
 NMZO
RELATED-TO:mf-AFLABS-URNIK:srecanje:1292
X-WR-TIMEZONE:Europe/Ljubljana
END:VEVENT
END:VCALENDAR
