BEGIN:VCALENDAR
VERSION:2.0
PRODID:-//AFLabs urnik izvoz - mf//aflabs.si//SI
DTSTAMP:20260420T084349Z
NAME:UL MF urnik
REFRESH-INTERVAL:PT1H
SOURCE:https://afurnik-mf.dev.aflabs.org/en/teacher/3?day=2023-08-28&expor
 t=1
URL:https://afurnik-mf.dev.aflabs.org/en/teacher/3?day=2023-08-28&export=1
X-PUBLISHED-TTL:PT1H
X-WR-CALNAME:UL MF urnik
X-WR-TIMEZONE:Europe/Ljubljana
BEGIN:VTIMEZONE
TZID:Europe/Ljubljana
BEGIN:DAYLIGHT
DTSTART:20260329T020000
RDATE:20260329T020000
RDATE:20270328T020000
TZNAME:CEST
TZOFFSETFROM:+0100
TZOFFSETTO:+0200
END:DAYLIGHT
BEGIN:STANDARD
DTSTART:20261025T030000
RDATE:20261025T030000
RDATE:20271031T030000
TZNAME:CET
TZOFFSETFROM:+0200
TZOFFSETTO:+0100
END:STANDARD
END:VTIMEZONE
BEGIN:VEVENT
SUMMARY:Temelji biokemije (TBKDM)\, Predavanje (P)
DTSTART;TZID=Europe/Ljubljana:20231002T140000
DTEND;TZID=Europe/Ljubljana:20231002T150000
DTSTAMP:20260420T084349Z
UID:mf-AFLABS-URNIK:premaknjeno-srecanje:2270
ATTENDEE:1. LETNIK (EMŠ DM)
CATEGORIES:Entry,Standard
COLOR:darkgreen
DESCRIPTION:Predmet: Temelji biokemije (TBKDM)\, Predavanje (P)\nLetniki: 
 1. LETNIK (EMŠ DM)\nIzvajalci: Inštitut za biokemijo in molekul IBKMG\nP
 rostor: Pred - Mala - MF
LOCATION:Korytkova 2\, Pred - Mala - MF
ORGANIZER:Inštitut za biokemijo in molekul IBKMG
RELATED-TO:mf-AFLABS-URNIK:srecanje:352
X-WR-TIMEZONE:Europe/Ljubljana
END:VEVENT
BEGIN:VEVENT
SUMMARY:Medicinska molekularna genetika (MMG)\, Vaje (V)\, [M2-17\, M2-18\
 , M2-19\, M2-20]
DTSTART;TZID=Europe/Ljubljana:20231002T080000
DTEND;TZID=Europe/Ljubljana:20231002T120000
DTSTAMP:20260420T084349Z
UID:mf-AFLABS-URNIK:premaknjeno-srecanje:3364
ATTENDEE:2. LETNIK (EMŠ M)
CATEGORIES:Entry,Standard
COLOR:darkgreen
DESCRIPTION:Predmet: Medicinska molekularna genetika (MMG)\, Vaje (V)\, [M
 2-17\, M2-18\, M2-19\, M2-20]\nLetniki: 2. LETNIK (EMŠ M)\nIzvajalci: In
 štitut za biokemijo in molekul IBKMG\nProstor: Vaj - 1 - IBC
LOCATION:Vrazov trg 2\, Vaj - 1 - IBC
ORGANIZER:Inštitut za biokemijo in molekul IBKMG
RELATED-TO:mf-AFLABS-URNIK:srecanje:543
X-WR-TIMEZONE:Europe/Ljubljana
END:VEVENT
BEGIN:VEVENT
SUMMARY:Medicinska molekularna genetika (MMG)\, Vaje (V)\, [M2-01\, M2-02\
 , M2-03\, M2-04]
DTSTART;TZID=Europe/Ljubljana:20231002T120000
DTEND;TZID=Europe/Ljubljana:20231002T160000
DTSTAMP:20260420T084349Z
UID:mf-AFLABS-URNIK:premaknjeno-srecanje:3366
ATTENDEE:2. LETNIK (EMŠ M)
CATEGORIES:Entry,Standard
COLOR:darkgreen
DESCRIPTION:Predmet: Medicinska molekularna genetika (MMG)\, Vaje (V)\, [M
 2-01\, M2-02\, M2-03\, M2-04]\nLetniki: 2. LETNIK (EMŠ M)\nIzvajalci: In
 štitut za biokemijo in molekul IBKMG\nProstor: Vaj - 1 - IBC
LOCATION:Vrazov trg 2\, Vaj - 1 - IBC
ORGANIZER:Inštitut za biokemijo in molekul IBKMG
RELATED-TO:mf-AFLABS-URNIK:srecanje:544
X-WR-TIMEZONE:Europe/Ljubljana
END:VEVENT
BEGIN:VEVENT
SUMMARY:Medicinska molekularna genetika (MMG)\, Vaje (V)\, [M2-13\, M2-14\
 , M2-15\, M2-16]
DTSTART;TZID=Europe/Ljubljana:20231002T160000
DTEND;TZID=Europe/Ljubljana:20231002T200000
DTSTAMP:20260420T084349Z
UID:mf-AFLABS-URNIK:premaknjeno-srecanje:3368
ATTENDEE:2. LETNIK (EMŠ M)
CATEGORIES:Entry,Standard
COLOR:darkgreen
DESCRIPTION:Predmet: Medicinska molekularna genetika (MMG)\, Vaje (V)\, [M
 2-13\, M2-14\, M2-15\, M2-16]\nLetniki: 2. LETNIK (EMŠ M)\nIzvajalci: In
 štitut za biokemijo in molekul IBKMG\nProstor: Vaj - 1 - IBC
LOCATION:Vrazov trg 2\, Vaj - 1 - IBC
ORGANIZER:Inštitut za biokemijo in molekul IBKMG
RELATED-TO:mf-AFLABS-URNIK:srecanje:545
X-WR-TIMEZONE:Europe/Ljubljana
END:VEVENT
END:VCALENDAR
