BEGIN:VCALENDAR
VERSION:2.0
PRODID:-//AFLabs urnik izvoz - mf//aflabs.si//SI
DTSTAMP:20260420T094737Z
NAME:UL MF urnik
REFRESH-INTERVAL:PT1H
SOURCE:https://afurnik-mf.dev.aflabs.org/en/teacher/3?day=2026-10-05&expor
 t=1
URL:https://afurnik-mf.dev.aflabs.org/en/teacher/3?day=2026-10-05&export=1
X-PUBLISHED-TTL:PT1H
X-WR-CALNAME:UL MF urnik
X-WR-TIMEZONE:Europe/Ljubljana
BEGIN:VTIMEZONE
TZID:Europe/Ljubljana
BEGIN:DAYLIGHT
DTSTART:20260329T020000
RDATE:20260329T020000
RDATE:20270328T020000
TZNAME:CEST
TZOFFSETFROM:+0100
TZOFFSETTO:+0200
END:DAYLIGHT
BEGIN:STANDARD
DTSTART:20261025T030000
RDATE:20261025T030000
RDATE:20271031T030000
TZNAME:CET
TZOFFSETFROM:+0200
TZOFFSETTO:+0100
END:STANDARD
END:VTIMEZONE
BEGIN:VEVENT
SUMMARY:IZPIT:Medicinska biokemija
DTSTART;TZID=Europe/Ljubljana:20260910T110000
DTEND;TZID=Europe/Ljubljana:20260910T140000
DTSTAMP:20260420T094737Z
UID:mf-AFLABS-URNIK:rezervacija:8692
ATTENDEE:2. LETNIK (EMŠ M)
CATEGORIES:Reservation
COLOR:royalblue
DESCRIPTION:Predmeti: Medicinska biokemija (MBK)\nLetniki: 2. LETNIK (EMŠ
  M)\nIzvajalci: Inštitut za biokemijo in molekul IBKMG\nProstori: Pred - 
 Velika - MF
LOCATION:Korytkova 2\, Pred - Velika - MF
ORGANIZER:Inštitut za biokemijo in molekul IBKMG
X-WR-TIMEZONE:Europe/Ljubljana
END:VEVENT
BEGIN:VEVENT
SUMMARY:IZPIT:Medicinska molekularna genetika
DTSTART;TZID=Europe/Ljubljana:20260904T100000
DTEND;TZID=Europe/Ljubljana:20260904T130000
DTSTAMP:20260420T094737Z
UID:mf-AFLABS-URNIK:rezervacija:8696
ATTENDEE:2. LETNIK (EMŠ M)
CATEGORIES:Reservation
COLOR:royalblue
DESCRIPTION:Predmeti: Medicinska molekularna genetika (MMG)\nLetniki: 2. L
 ETNIK (EMŠ M)\nIzvajalci: Inštitut za biokemijo in molekul IBKMG\nProsto
 ri: Pred - Velika - MF\, Sem - 2 - IBKMG
LOCATION:Korytkova 2\, Pred - Velika - MF\, Vrazov trg 2\, Sem - 2 - IBKMG
ORGANIZER:Inštitut za biokemijo in molekul IBKMG
X-WR-TIMEZONE:Europe/Ljubljana
END:VEVENT
BEGIN:VEVENT
SUMMARY:IZPIT:Biokemija in genetika za dentalno medicino
DTSTART;TZID=Europe/Ljubljana:20260911T100000
DTEND;TZID=Europe/Ljubljana:20260911T120000
DTSTAMP:20260420T094737Z
UID:mf-AFLABS-URNIK:rezervacija:8751
ATTENDEE:2. LETNIK (EMŠ DM)
CATEGORIES:Reservation
COLOR:royalblue
DESCRIPTION:Predmeti: Biokemija in genetika za dentalno medicino (BGDM)\nL
 etniki: 2. LETNIK (EMŠ DM)\nIzvajalci: Inštitut za biokemijo in molekul 
 IBKMG\nProstori: Pred - Velika - MF
LOCATION:Korytkova 2\, Pred - Velika - MF
ORGANIZER:Inštitut za biokemijo in molekul IBKMG
X-WR-TIMEZONE:Europe/Ljubljana
END:VEVENT
BEGIN:VEVENT
SUMMARY:IZPIT:Temelji biokemije
DTSTART;TZID=Europe/Ljubljana:20260902T080000
DTEND;TZID=Europe/Ljubljana:20260902T100000
DTSTAMP:20260420T094737Z
UID:mf-AFLABS-URNIK:rezervacija:8814
ATTENDEE:1. LETNIK (EMŠ M)
CATEGORIES:Reservation
COLOR:royalblue
DESCRIPTION:Predmeti: Temelji biokemije (TBK)\nLetniki: 1. LETNIK (EMŠ M)
 \nIzvajalci: Inštitut za biokemijo in molekul IBKMG\nProstori: Pred - Vel
 ika - MF\, Pred - Srednja - MF\, Pred - Mala - MF
LOCATION:Korytkova 2\, Pred - Velika - MF\, Korytkova 2\, Pred - Srednja -
  MF\, Korytkova 2\, Pred - Mala - MF
ORGANIZER:Inštitut za biokemijo in molekul IBKMG
X-WR-TIMEZONE:Europe/Ljubljana
END:VEVENT
BEGIN:VEVENT
SUMMARY:IZPIT:Temelji biokemije
DTSTART;TZID=Europe/Ljubljana:20260902T080000
DTEND;TZID=Europe/Ljubljana:20260902T100000
DTSTAMP:20260420T094737Z
UID:mf-AFLABS-URNIK:rezervacija:8882
ATTENDEE:1. LETNIK (EMŠ DM)
CATEGORIES:Reservation
COLOR:royalblue
DESCRIPTION:Predmeti: Temelji biokemije (TBKDM)\nLetniki: 1. LETNIK (EMŠ 
 DM)\nIzvajalci: Inštitut za biokemijo in molekul IBKMG\nProstori: Pred - 
 Velika - MF\, Pred - Srednja - MF\, Pred - Mala - MF
LOCATION:Korytkova 2\, Pred - Velika - MF\, Korytkova 2\, Pred - Srednja -
  MF\, Korytkova 2\, Pred - Mala - MF
ORGANIZER:Inštitut za biokemijo in molekul IBKMG
X-WR-TIMEZONE:Europe/Ljubljana
END:VEVENT
BEGIN:VEVENT
SUMMARY:IZPIT:Klinična biokemija in laboratorijska diagnostika
DTSTART;TZID=Europe/Ljubljana:20260904T130000
DTEND;TZID=Europe/Ljubljana:20260904T150000
DTSTAMP:20260420T094737Z
UID:mf-AFLABS-URNIK:rezervacija:8983
ATTENDEE:3. LETNIK (EMŠ M)
CATEGORIES:Reservation
COLOR:royalblue
DESCRIPTION:Predmeti: Klinična biokemija in laboratorijska diagnostika (K
 BLD)\nLetniki: 3. LETNIK (EMŠ M)\nIzvajalci: Inštitut za biokemijo in mo
 lekul IBKMG\nProstori: Pred - Srednja - MF
LOCATION:Korytkova 2\, Pred - Srednja - MF
ORGANIZER:Inštitut za biokemijo in molekul IBKMG
X-WR-TIMEZONE:Europe/Ljubljana
END:VEVENT
END:VCALENDAR
