BEGIN:VCALENDAR
VERSION:2.0
PRODID:-//AFLabs urnik izvoz - mf//aflabs.si//SI
DTSTAMP:20260420T082035Z
NAME:UL MF urnik
REFRESH-INTERVAL:PT1H
SOURCE:https://afurnik-mf.dev.aflabs.org/en/teacher/4?day=2024-09-02&expor
 t=1
URL:https://afurnik-mf.dev.aflabs.org/en/teacher/4?day=2024-09-02&export=1
X-PUBLISHED-TTL:PT1H
X-WR-CALNAME:UL MF urnik
X-WR-TIMEZONE:Europe/Ljubljana
BEGIN:VTIMEZONE
TZID:Europe/Ljubljana
BEGIN:DAYLIGHT
DTSTART:20260329T020000
RDATE:20260329T020000
RDATE:20270328T020000
TZNAME:CEST
TZOFFSETFROM:+0100
TZOFFSETTO:+0200
END:DAYLIGHT
BEGIN:STANDARD
DTSTART:20261025T030000
RDATE:20261025T030000
RDATE:20271031T030000
TZNAME:CET
TZOFFSETFROM:+0200
TZOFFSETTO:+0100
END:STANDARD
END:VTIMEZONE
BEGIN:VEVENT
SUMMARY:Medicinska celična biologija (MCB)\, Predavanje (P)\, [M1-01\, M1
 -02\, M1-03\, M1-04\, M1-05\, M1-06\, M1-07\, M1-08\, M1-09\, M1-10\, M1-1
 1\, M1-12\, M1-13\, M1-14\, M1-15\, M1-16\, M1-17\, M1-18\, M1-19\, M1-20]
DTSTART;TZID=Europe/Ljubljana:20241004T080000
DTEND;TZID=Europe/Ljubljana:20241004T100000
DTSTAMP:20260420T082035Z
UID:mf-AFLABS-URNIK:premaknjeno-srecanje:16968
ATTENDEE:1. LETNIK (EMŠ M)
CATEGORIES:Entry,Special
COLOR:forestgreen
DESCRIPTION:Predmet: Medicinska celična biologija (MCB)\, Predavanje (P)\
 , [M1-01\, M1-02\, M1-03\, M1-04\, M1-05\, M1-06\, M1-07\, M1-08\, M1-09\,
  M1-10\, M1-11\, M1-12\, M1-13\, M1-14\, M1-15\, M1-16\, M1-17\, M1-18\, M
 1-19\, M1-20]\nLetniki: 1. LETNIK (EMŠ M)\nIzvajalci: Inštitut za biolog
 ijo celice IBC\nProstor: Pred - Velika - MF
LOCATION:Korytkova 2\, Pred - Velika - MF
ORGANIZER:Inštitut za biologijo celice IBC
RELATED-TO:mf-AFLABS-URNIK:srecanje:2932
X-WR-TIMEZONE:Europe/Ljubljana
END:VEVENT
BEGIN:VEVENT
SUMMARY:Biologija celice za dentalno medicino (BCDM)\, Predavanje (P)
DTSTART;TZID=Europe/Ljubljana:20241004T110000
DTEND;TZID=Europe/Ljubljana:20241004T130000
DTSTAMP:20260420T082035Z
UID:mf-AFLABS-URNIK:premaknjeno-srecanje:17819
ATTENDEE:1. LETNIK (EMŠ DM)
CATEGORIES:Entry,Special
COLOR:forestgreen
DESCRIPTION:Predmet: Biologija celice za dentalno medicino (BCDM)\, Predav
 anje (P)\nLetniki: 1. LETNIK (EMŠ DM)\nIzvajalci: Inštitut za biologijo 
 celice IBC\nProstor: Pred - Mala - MF
LOCATION:Korytkova 2\, Pred - Mala - MF
ORGANIZER:Inštitut za biologijo celice IBC
RELATED-TO:mf-AFLABS-URNIK:srecanje:3024
X-WR-TIMEZONE:Europe/Ljubljana
END:VEVENT
BEGIN:VEVENT
SUMMARY:Medicinska celična biologija (MCB)\, Predavanje (P)\, [M1-01\, M1
 -02\, M1-03\, M1-04\, M1-05\, M1-06\, M1-07\, M1-08\, M1-09\, M1-10\, M1-1
 1\, M1-12\, M1-13\, M1-14\, M1-15\, M1-16\, M1-17\, M1-18\, M1-19\, M1-20]
DTSTART;TZID=Europe/Ljubljana:20241007T080000
DTEND;TZID=Europe/Ljubljana:20241007T100000
DTSTAMP:20260420T082035Z
UID:mf-AFLABS-URNIK:premaknjeno-srecanje:16957
ATTENDEE:1. LETNIK (EMŠ M)
CATEGORIES:Entry,Special
COLOR:forestgreen
DESCRIPTION:Predmet: Medicinska celična biologija (MCB)\, Predavanje (P)\
 , [M1-01\, M1-02\, M1-03\, M1-04\, M1-05\, M1-06\, M1-07\, M1-08\, M1-09\,
  M1-10\, M1-11\, M1-12\, M1-13\, M1-14\, M1-15\, M1-16\, M1-17\, M1-18\, M
 1-19\, M1-20]\nLetniki: 1. LETNIK (EMŠ M)\nIzvajalci: Inštitut za biolog
 ijo celice IBC\nProstor: Pred - Velika - MF
LOCATION:Korytkova 2\, Pred - Velika - MF
ORGANIZER:Inštitut za biologijo celice IBC
RELATED-TO:mf-AFLABS-URNIK:srecanje:2931
X-WR-TIMEZONE:Europe/Ljubljana
END:VEVENT
BEGIN:VEVENT
SUMMARY:Biologija celice za dentalno medicino (BCDM)\, Predavanje (P)
DTSTART;TZID=Europe/Ljubljana:20241007T140000
DTEND;TZID=Europe/Ljubljana:20241007T160000
DTSTAMP:20260420T082035Z
UID:mf-AFLABS-URNIK:premaknjeno-srecanje:17808
ATTENDEE:1. LETNIK (EMŠ DM)
CATEGORIES:Entry,Special
COLOR:forestgreen
DESCRIPTION:Predmet: Biologija celice za dentalno medicino (BCDM)\, Predav
 anje (P)\nLetniki: 1. LETNIK (EMŠ DM)\nIzvajalci: Inštitut za biologijo 
 celice IBC\nProstor: Pred - Mala - MF
LOCATION:Korytkova 2\, Pred - Mala - MF
ORGANIZER:Inštitut za biologijo celice IBC
RELATED-TO:mf-AFLABS-URNIK:srecanje:3023
X-WR-TIMEZONE:Europe/Ljubljana
END:VEVENT
END:VCALENDAR
