BEGIN:VCALENDAR
VERSION:2.0
PRODID:-//AFLabs urnik izvoz - mf//aflabs.si//SI
DTSTAMP:20260420T081933Z
NAME:UL MF urnik
REFRESH-INTERVAL:PT1H
SOURCE:https://afurnik-mf.dev.aflabs.org/en/teacher/4?day=2026-10-05&expor
 t=1
URL:https://afurnik-mf.dev.aflabs.org/en/teacher/4?day=2026-10-05&export=1
X-PUBLISHED-TTL:PT1H
X-WR-CALNAME:UL MF urnik
X-WR-TIMEZONE:Europe/Ljubljana
BEGIN:VTIMEZONE
TZID:Europe/Ljubljana
BEGIN:DAYLIGHT
DTSTART:20260329T020000
RDATE:20260329T020000
RDATE:20270328T020000
TZNAME:CEST
TZOFFSETFROM:+0100
TZOFFSETTO:+0200
END:DAYLIGHT
BEGIN:STANDARD
DTSTART:20261025T030000
RDATE:20261025T030000
RDATE:20271031T030000
TZNAME:CET
TZOFFSETFROM:+0200
TZOFFSETTO:+0100
END:STANDARD
END:VTIMEZONE
BEGIN:VEVENT
SUMMARY:IZPIT:Medicinska celična biologija
DTSTART;TZID=Europe/Ljubljana:20260904T080000
DTEND;TZID=Europe/Ljubljana:20260904T100000
DTSTAMP:20260420T081933Z
UID:mf-AFLABS-URNIK:rezervacija:8809
ATTENDEE:1. LETNIK (EMŠ M)
CATEGORIES:Reservation
COLOR:royalblue
DESCRIPTION:Predmeti: Medicinska celična biologija (MCB)\nLetniki: 1. LET
 NIK (EMŠ M)\nIzvajalci: Inštitut za biologijo celice IBC\nProstori: Pred
  - Velika - MF\, Pred - Srednja - MF\, Pred - Mala - MF
LOCATION:Korytkova 2\, Pred - Velika - MF\, Korytkova 2\, Pred - Srednja -
  MF\, Korytkova 2\, Pred - Mala - MF
ORGANIZER:Inštitut za biologijo celice IBC
X-WR-TIMEZONE:Europe/Ljubljana
END:VEVENT
BEGIN:VEVENT
SUMMARY:IZPIT:Biologija celice za dentalno medicino
DTSTART;TZID=Europe/Ljubljana:20260904T080000
DTEND;TZID=Europe/Ljubljana:20260904T100000
DTSTAMP:20260420T081933Z
UID:mf-AFLABS-URNIK:rezervacija:8877
ATTENDEE:1. LETNIK (EMŠ DM)
CATEGORIES:Reservation
COLOR:royalblue
DESCRIPTION:Predmeti: Biologija celice za dentalno medicino (BCDM)\nLetnik
 i: 1. LETNIK (EMŠ DM)\nIzvajalci: Inštitut za biologijo celice IBC\nPros
 tori: Pred - Velika - MF\, Pred - Srednja - MF\, Pred - Mala - MF
LOCATION:Korytkova 2\, Pred - Velika - MF\, Korytkova 2\, Pred - Srednja -
  MF\, Korytkova 2\, Pred - Mala - MF
ORGANIZER:Inštitut za biologijo celice IBC
X-WR-TIMEZONE:Europe/Ljubljana
END:VEVENT
END:VCALENDAR
