BEGIN:VCALENDAR
VERSION:2.0
PRODID:-//AFLabs urnik izvoz - mf//aflabs.si//SI
DTSTAMP:20260420T101622Z
NAME:UL MF urnik
REFRESH-INTERVAL:PT1H
SOURCE:https://afurnik-mf.dev.aflabs.org/en/teacher/9?day=2023-08-28&expor
 t=1
URL:https://afurnik-mf.dev.aflabs.org/en/teacher/9?day=2023-08-28&export=1
X-PUBLISHED-TTL:PT1H
X-WR-CALNAME:UL MF urnik
X-WR-TIMEZONE:Europe/Ljubljana
BEGIN:VTIMEZONE
TZID:Europe/Ljubljana
BEGIN:DAYLIGHT
DTSTART:20260329T020000
RDATE:20260329T020000
RDATE:20270328T020000
TZNAME:CEST
TZOFFSETFROM:+0100
TZOFFSETTO:+0200
END:DAYLIGHT
BEGIN:STANDARD
DTSTART:20261025T030000
RDATE:20261025T030000
RDATE:20271031T030000
TZNAME:CET
TZOFFSETFROM:+0200
TZOFFSETTO:+0100
END:STANDARD
END:VTIMEZONE
BEGIN:VEVENT
SUMMARY:Patofiziologija (PAFI)\, Seminar/vaje (S/V)\, [M3-05\, M3-06\, M3-
 07\, M3-08]
DTSTART;TZID=Europe/Ljubljana:20231002T080000
DTEND;TZID=Europe/Ljubljana:20231002T110000
DTSTAMP:20260420T101622Z
UID:mf-AFLABS-URNIK:premaknjeno-srecanje:5589
ATTENDEE:3. LETNIK (EMŠ M)
CATEGORIES:Entry,Standard
COLOR:darkgreen
DESCRIPTION:Predmet: Patofiziologija (PAFI)\, Seminar/vaje (S/V)\, [M3-05\
 , M3-06\, M3-07\, M3-08]\nLetniki: 3. LETNIK (EMŠ M)\nIzvajalci: Inštitu
 t za patološko fiziologij PAFI\nProstor: Vajalnice PAFI
LOCATION:Vajalnice PAFI
ORGANIZER:Inštitut za patološko fiziologij PAFI
RELATED-TO:mf-AFLABS-URNIK:srecanje:969
X-WR-TIMEZONE:Europe/Ljubljana
END:VEVENT
BEGIN:VEVENT
SUMMARY:Patofiziologija (PAFI)\, Seminar/vaje (S/V)\, [M3-01\, M3-02\, M3-
 03\, M3-04]
DTSTART;TZID=Europe/Ljubljana:20231002T110000
DTEND;TZID=Europe/Ljubljana:20231002T140000
DTSTAMP:20260420T101622Z
UID:mf-AFLABS-URNIK:premaknjeno-srecanje:5601
ATTENDEE:3. LETNIK (EMŠ M)
CATEGORIES:Entry,Standard
COLOR:darkgreen
DESCRIPTION:Predmet: Patofiziologija (PAFI)\, Seminar/vaje (S/V)\, [M3-01\
 , M3-02\, M3-03\, M3-04]\nLetniki: 3. LETNIK (EMŠ M)\nIzvajalci: Inštitu
 t za patološko fiziologij PAFI\nProstor: Vajalnice PAFI
LOCATION:Vajalnice PAFI
ORGANIZER:Inštitut za patološko fiziologij PAFI
RELATED-TO:mf-AFLABS-URNIK:srecanje:970
X-WR-TIMEZONE:Europe/Ljubljana
END:VEVENT
END:VCALENDAR
