BEGIN:VCALENDAR
VERSION:2.0
PRODID:-//AFLabs urnik izvoz - mf//aflabs.si//SI
DTSTAMP:20260420T031117Z
NAME:UL MF urnik
REFRESH-INTERVAL:PT1H
SOURCE:https://afurnik-mf.dev.aflabs.org/subject/188/?export=1&sub_type=D2
 -03
URL:https://afurnik-mf.dev.aflabs.org/subject/188/?export=1&sub_type=D2-03
X-PUBLISHED-TTL:PT1H
X-WR-CALNAME:UL MF urnik
X-WR-TIMEZONE:Europe/Ljubljana
BEGIN:VTIMEZONE
TZID:Europe/Ljubljana
BEGIN:DAYLIGHT
DTSTART:20260329T020000
RDATE:20260329T020000
RDATE:20270328T020000
TZNAME:CEST
TZOFFSETFROM:+0100
TZOFFSETTO:+0200
END:DAYLIGHT
BEGIN:STANDARD
DTSTART:20261025T030000
RDATE:20261025T030000
RDATE:20271031T030000
TZNAME:CET
TZOFFSETFROM:+0200
TZOFFSETTO:+0100
END:STANDARD
END:VTIMEZONE
BEGIN:VEVENT
SUMMARY:Funkcionalna in klinično-aplikativna morfologija in embriologija 
 zobnega organa - Histologija zobnega organa (FKMEZO-HZO)\, Predavanje (P)\
 , [D2-01\, D2-02\, D2-03\, D2-04\, D2-05\, D2-06]
DTSTART;TZID=Europe/Ljubljana:20260217T163000
DTEND;TZID=Europe/Ljubljana:20260217T183000
DTSTAMP:20260420T031117Z
UID:mf-AFLABS-URNIK:premaknjeno-srecanje:34487
ATTENDEE:2. LETNIK (EMŠ DM)
CATEGORIES:Entry,Standard
COLOR:darkgreen
DESCRIPTION:Predmet: Funkcionalna in klinično-aplikativna morfologija in 
 embriologija zobnega organa - Histologija zobnega organa (FKMEZO-HZO)\, Pr
 edavanje (P)\, [D2-01\, D2-02\, D2-03\, D2-04\, D2-05\, D2-06]\nLetniki: 2
 . LETNIK (EMŠ DM)\nIzvajalci: Katedra za zobne bolezni in norm KZBNMZO\nP
 rostor: Pred - Stoma
LOCATION:Hrvatski trg 6\, Pred - Stoma
ORGANIZER:Katedra za zobne bolezni in norm KZBNMZO
RELATED-TO:mf-AFLABS-URNIK:srecanje:7650
X-WR-TIMEZONE:Europe/Ljubljana
END:VEVENT
BEGIN:VEVENT
SUMMARY:Funkcionalna in klinično-aplikativna morfologija in embriologija 
 zobnega organa - Histologija zobnega organa (FKMEZO-HZO)\, Predavanje (P)\
 , [D2-01\, D2-02\, D2-03\, D2-04\, D2-05\, D2-06]
DTSTART;TZID=Europe/Ljubljana:20260224T163000
DTEND;TZID=Europe/Ljubljana:20260224T183000
DTSTAMP:20260420T031117Z
UID:mf-AFLABS-URNIK:premaknjeno-srecanje:34488
ATTENDEE:2. LETNIK (EMŠ DM)
CATEGORIES:Entry,Standard
COLOR:darkgreen
DESCRIPTION:Predmet: Funkcionalna in klinično-aplikativna morfologija in 
 embriologija zobnega organa - Histologija zobnega organa (FKMEZO-HZO)\, Pr
 edavanje (P)\, [D2-01\, D2-02\, D2-03\, D2-04\, D2-05\, D2-06]\nLetniki: 2
 . LETNIK (EMŠ DM)\nIzvajalci: Katedra za zobne bolezni in norm KZBNMZO\nP
 rostor: Pred - Stoma
LOCATION:Hrvatski trg 6\, Pred - Stoma
ORGANIZER:Katedra za zobne bolezni in norm KZBNMZO
RELATED-TO:mf-AFLABS-URNIK:srecanje:7650
X-WR-TIMEZONE:Europe/Ljubljana
END:VEVENT
BEGIN:VEVENT
SUMMARY:Funkcionalna in klinično-aplikativna morfologija in embriologija 
 zobnega organa - Histologija zobnega organa (FKMEZO-HZO)\, Predavanje (P)\
 , [D2-01\, D2-02\, D2-03\, D2-04\, D2-05\, D2-06]
DTSTART;TZID=Europe/Ljubljana:20260303T163000
DTEND;TZID=Europe/Ljubljana:20260303T183000
DTSTAMP:20260420T031117Z
UID:mf-AFLABS-URNIK:premaknjeno-srecanje:34489
ATTENDEE:2. LETNIK (EMŠ DM)
CATEGORIES:Entry,Standard
COLOR:darkgreen
DESCRIPTION:Predmet: Funkcionalna in klinično-aplikativna morfologija in 
 embriologija zobnega organa - Histologija zobnega organa (FKMEZO-HZO)\, Pr
 edavanje (P)\, [D2-01\, D2-02\, D2-03\, D2-04\, D2-05\, D2-06]\nLetniki: 2
 . LETNIK (EMŠ DM)\nIzvajalci: Katedra za zobne bolezni in norm KZBNMZO\nP
 rostor: Pred - Stoma
LOCATION:Hrvatski trg 6\, Pred - Stoma
ORGANIZER:Katedra za zobne bolezni in norm KZBNMZO
RELATED-TO:mf-AFLABS-URNIK:srecanje:7650
X-WR-TIMEZONE:Europe/Ljubljana
END:VEVENT
BEGIN:VEVENT
SUMMARY:Funkcionalna in klinično-aplikativna morfologija in embriologija 
 zobnega organa - Histologija zobnega organa (FKMEZO-HZO)\, Predavanje (P)\
 , [D2-01\, D2-02\, D2-03\, D2-04\, D2-05\, D2-06]
DTSTART;TZID=Europe/Ljubljana:20260310T163000
DTEND;TZID=Europe/Ljubljana:20260310T183000
DTSTAMP:20260420T031117Z
UID:mf-AFLABS-URNIK:premaknjeno-srecanje:34490
ATTENDEE:2. LETNIK (EMŠ DM)
CATEGORIES:Entry,Standard
COLOR:darkgreen
DESCRIPTION:Predmet: Funkcionalna in klinično-aplikativna morfologija in 
 embriologija zobnega organa - Histologija zobnega organa (FKMEZO-HZO)\, Pr
 edavanje (P)\, [D2-01\, D2-02\, D2-03\, D2-04\, D2-05\, D2-06]\nLetniki: 2
 . LETNIK (EMŠ DM)\nIzvajalci: Katedra za zobne bolezni in norm KZBNMZO\nP
 rostor: Pred - Stoma
LOCATION:Hrvatski trg 6\, Pred - Stoma
ORGANIZER:Katedra za zobne bolezni in norm KZBNMZO
RELATED-TO:mf-AFLABS-URNIK:srecanje:7650
X-WR-TIMEZONE:Europe/Ljubljana
END:VEVENT
BEGIN:VEVENT
SUMMARY:Funkcionalna in klinično-aplikativna morfologija in embriologija 
 zobnega organa - Histologija zobnega organa (FKMEZO-HZO)\, Vaje (V)\, [D2-
 03\, D2-04]
DTSTART;TZID=Europe/Ljubljana:20260223T140000
DTEND;TZID=Europe/Ljubljana:20260223T160000
DTSTAMP:20260420T031117Z
UID:mf-AFLABS-URNIK:premaknjeno-srecanje:34502
ATTENDEE:2. LETNIK (EMŠ DM)
CATEGORIES:Entry,Special
COLOR:forestgreen
DESCRIPTION:Predmet: Funkcionalna in klinično-aplikativna morfologija in 
 embriologija zobnega organa - Histologija zobnega organa (FKMEZO-HZO)\, Va
 je (V)\, [D2-03\, D2-04]\nLetniki: 2. LETNIK (EMŠ DM)\nIzvajalci: Katedra
  za zobne bolezni in norm KZBNMZO\nProstor: Vaj - 1 - IBC
LOCATION:Vrazov trg 2\, Vaj - 1 - IBC
ORGANIZER:Katedra za zobne bolezni in norm KZBNMZO
RELATED-TO:mf-AFLABS-URNIK:srecanje:7379
X-WR-TIMEZONE:Europe/Ljubljana
END:VEVENT
BEGIN:VEVENT
SUMMARY:Funkcionalna in klinično-aplikativna morfologija in embriologija 
 zobnega organa - Histologija zobnega organa (FKMEZO-HZO)\, Vaje (V)\, [D2-
 03\, D2-04]
DTSTART;TZID=Europe/Ljubljana:20260302T140000
DTEND;TZID=Europe/Ljubljana:20260302T160000
DTSTAMP:20260420T031117Z
UID:mf-AFLABS-URNIK:premaknjeno-srecanje:34503
ATTENDEE:2. LETNIK (EMŠ DM)
CATEGORIES:Entry,Special
COLOR:forestgreen
DESCRIPTION:Predmet: Funkcionalna in klinično-aplikativna morfologija in 
 embriologija zobnega organa - Histologija zobnega organa (FKMEZO-HZO)\, Va
 je (V)\, [D2-03\, D2-04]\nLetniki: 2. LETNIK (EMŠ DM)\nIzvajalci: Katedra
  za zobne bolezni in norm KZBNMZO\nProstor: Vaj - 1 - IBC
LOCATION:Vrazov trg 2\, Vaj - 1 - IBC
ORGANIZER:Katedra za zobne bolezni in norm KZBNMZO
RELATED-TO:mf-AFLABS-URNIK:srecanje:7379
X-WR-TIMEZONE:Europe/Ljubljana
END:VEVENT
BEGIN:VEVENT
SUMMARY:Funkcionalna in klinično-aplikativna morfologija in embriologija 
 zobnega organa - Histologija zobnega organa (FKMEZO-HZO)\, Vaje (V)\, [D2-
 03\, D2-04]
DTSTART;TZID=Europe/Ljubljana:20260309T140000
DTEND;TZID=Europe/Ljubljana:20260309T160000
DTSTAMP:20260420T031117Z
UID:mf-AFLABS-URNIK:premaknjeno-srecanje:34504
ATTENDEE:2. LETNIK (EMŠ DM)
CATEGORIES:Entry,Special
COLOR:forestgreen
DESCRIPTION:Predmet: Funkcionalna in klinično-aplikativna morfologija in 
 embriologija zobnega organa - Histologija zobnega organa (FKMEZO-HZO)\, Va
 je (V)\, [D2-03\, D2-04]\nLetniki: 2. LETNIK (EMŠ DM)\nIzvajalci: Katedra
  za zobne bolezni in norm KZBNMZO\nProstor: Vaj - 1 - IBC
LOCATION:Vrazov trg 2\, Vaj - 1 - IBC
ORGANIZER:Katedra za zobne bolezni in norm KZBNMZO
RELATED-TO:mf-AFLABS-URNIK:srecanje:7379
X-WR-TIMEZONE:Europe/Ljubljana
END:VEVENT
BEGIN:VEVENT
SUMMARY:Funkcionalna in klinično-aplikativna morfologija in embriologija 
 zobnega organa - Histologija zobnega organa (FKMEZO-HZO)\, Vaje (V)\, [D2-
 03\, D2-04]
DTSTART;TZID=Europe/Ljubljana:20260316T140000
DTEND;TZID=Europe/Ljubljana:20260316T160000
DTSTAMP:20260420T031117Z
UID:mf-AFLABS-URNIK:premaknjeno-srecanje:34505
ATTENDEE:2. LETNIK (EMŠ DM)
CATEGORIES:Entry,Special
COLOR:forestgreen
DESCRIPTION:Predmet: Funkcionalna in klinično-aplikativna morfologija in 
 embriologija zobnega organa - Histologija zobnega organa (FKMEZO-HZO)\, Va
 je (V)\, [D2-03\, D2-04]\nLetniki: 2. LETNIK (EMŠ DM)\nIzvajalci: Katedra
  za zobne bolezni in norm KZBNMZO\nProstor: Vaj - 1 - IBC
LOCATION:Vrazov trg 2\, Vaj - 1 - IBC
ORGANIZER:Katedra za zobne bolezni in norm KZBNMZO
RELATED-TO:mf-AFLABS-URNIK:srecanje:7379
X-WR-TIMEZONE:Europe/Ljubljana
END:VEVENT
BEGIN:VEVENT
SUMMARY:Funkcionalna in klinično-aplikativna morfologija in embriologija 
 zobnega organa - Histologija zobnega organa (FKMEZO-HZO)\, Vaje (V)\, [D2-
 03\, D2-04]
DTSTART;TZID=Europe/Ljubljana:20260323T140000
DTEND;TZID=Europe/Ljubljana:20260323T160000
DTSTAMP:20260420T031117Z
UID:mf-AFLABS-URNIK:premaknjeno-srecanje:34506
ATTENDEE:2. LETNIK (EMŠ DM)
CATEGORIES:Entry,Special
COLOR:forestgreen
DESCRIPTION:Predmet: Funkcionalna in klinično-aplikativna morfologija in 
 embriologija zobnega organa - Histologija zobnega organa (FKMEZO-HZO)\, Va
 je (V)\, [D2-03\, D2-04]\nLetniki: 2. LETNIK (EMŠ DM)\nIzvajalci: Katedra
  za zobne bolezni in norm KZBNMZO\nProstor: Vaj - 1 - IBC
LOCATION:Vrazov trg 2\, Vaj - 1 - IBC
ORGANIZER:Katedra za zobne bolezni in norm KZBNMZO
RELATED-TO:mf-AFLABS-URNIK:srecanje:7379
X-WR-TIMEZONE:Europe/Ljubljana
END:VEVENT
BEGIN:VEVENT
SUMMARY:Funkcionalna in klinično-aplikativna morfologija in embriologija 
 zobnega organa - Histologija zobnega organa (FKMEZO-HZO)\, Predavanje (P)\
 , [D2-01\, D2-02\, D2-03\, D2-04\, D2-05\, D2-06]
DTSTART;TZID=Europe/Ljubljana:20260317T163000
DTEND;TZID=Europe/Ljubljana:20260317T183000
DTSTAMP:20260420T031117Z
UID:mf-AFLABS-URNIK:premaknjeno-srecanje:34491
ATTENDEE:2. LETNIK (EMŠ DM)
CATEGORIES:Entry,Special
COLOR:forestgreen
DESCRIPTION:Predmet: Funkcionalna in klinično-aplikativna morfologija in 
 embriologija zobnega organa - Histologija zobnega organa (FKMEZO-HZO)\, Pr
 edavanje (P)\, [D2-01\, D2-02\, D2-03\, D2-04\, D2-05\, D2-06]\nLetniki: 2
 . LETNIK (EMŠ DM)\nIzvajalci: Katedra za zobne bolezni in norm KZBNMZO\nP
 rostor: Pred - Stoma
LOCATION:Hrvatski trg 6\, Pred - Stoma
ORGANIZER:Katedra za zobne bolezni in norm KZBNMZO
RELATED-TO:mf-AFLABS-URNIK:srecanje:7376
X-WR-TIMEZONE:Europe/Ljubljana
END:VEVENT
BEGIN:VEVENT
SUMMARY:IZPIT:Histologija zobnega organa
DTSTART;TZID=Europe/Ljubljana:20260428T070000
DTEND;TZID=Europe/Ljubljana:20260428T080000
DTSTAMP:20260420T031117Z
UID:mf-AFLABS-URNIK:rezervacija:8740
ATTENDEE:2. LETNIK (EMŠ DM)
CATEGORIES:Reservation
COLOR:royalblue
DESCRIPTION:Predmeti: Funkcionalna in klinično-aplikativna morfologija in
  embriologija zobnega organa - Histologija zobnega organa (FKMEZO-HZO)\nLe
 tniki: 2. LETNIK (EMŠ DM)\nIzvajalci: Katedra za zobne bolezni in norm KZ
 BNMZO\nProstori: Pred - Velika - MF
LOCATION:Korytkova 2\, Pred - Velika - MF
ORGANIZER:Katedra za zobne bolezni in norm KZBNMZO
X-WR-TIMEZONE:Europe/Ljubljana
END:VEVENT
BEGIN:VEVENT
SUMMARY:IZPIT (prakt.):Histologija zobnega organa
DTSTART;TZID=Europe/Ljubljana:20260420T100000
DTEND;TZID=Europe/Ljubljana:20260420T120000
DTSTAMP:20260420T031117Z
UID:mf-AFLABS-URNIK:rezervacija:8741
ATTENDEE:2. LETNIK (EMŠ DM)
CATEGORIES:Reservation
COLOR:royalblue
DESCRIPTION:Predmeti: Funkcionalna in klinično-aplikativna morfologija in
  embriologija zobnega organa - Histologija zobnega organa (FKMEZO-HZO)\nLe
 tniki: 2. LETNIK (EMŠ DM)\nIzvajalci: Katedra za zobne bolezni in norm KZ
 BNMZO\nProstori: Vaj - 1 - IBC
LOCATION:Vrazov trg 2\, Vaj - 1 - IBC
ORGANIZER:Katedra za zobne bolezni in norm KZBNMZO
X-WR-TIMEZONE:Europe/Ljubljana
END:VEVENT
BEGIN:VEVENT
SUMMARY:IZPIT (prakt.):Histologija zobnega organa
DTSTART;TZID=Europe/Ljubljana:20260420T120000
DTEND;TZID=Europe/Ljubljana:20260420T140000
DTSTAMP:20260420T031117Z
UID:mf-AFLABS-URNIK:rezervacija:8742
ATTENDEE:2. LETNIK (EMŠ DM)
CATEGORIES:Reservation
COLOR:royalblue
DESCRIPTION:Predmeti: Funkcionalna in klinično-aplikativna morfologija in
  embriologija zobnega organa - Histologija zobnega organa (FKMEZO-HZO)\nLe
 tniki: 2. LETNIK (EMŠ DM)\nIzvajalci: \nProstori: Vaj - 1 - IBC
LOCATION:Vrazov trg 2\, Vaj - 1 - IBC
X-WR-TIMEZONE:Europe/Ljubljana
END:VEVENT
BEGIN:VEVENT
SUMMARY:IZPIT (prakt.):Histologija zobnega organa
DTSTART;TZID=Europe/Ljubljana:20260420T140000
DTEND;TZID=Europe/Ljubljana:20260420T160000
DTSTAMP:20260420T031117Z
UID:mf-AFLABS-URNIK:rezervacija:8743
ATTENDEE:2. LETNIK (EMŠ DM)
CATEGORIES:Reservation
COLOR:royalblue
DESCRIPTION:Predmeti: Funkcionalna in klinično-aplikativna morfologija in
  embriologija zobnega organa - Histologija zobnega organa (FKMEZO-HZO)\nLe
 tniki: 2. LETNIK (EMŠ DM)\nIzvajalci: \nProstori: Vaj - 1 - IBC
LOCATION:Vrazov trg 2\, Vaj - 1 - IBC
X-WR-TIMEZONE:Europe/Ljubljana
END:VEVENT
BEGIN:VEVENT
SUMMARY:IZPIT:Histologija zobnega organa
DTSTART;TZID=Europe/Ljubljana:20260326T070000
DTEND;TZID=Europe/Ljubljana:20260326T080000
DTSTAMP:20260420T031117Z
UID:mf-AFLABS-URNIK:rezervacija:9287
ATTENDEE:2. LETNIK (EMŠ DM)
CATEGORIES:Reservation
COLOR:royalblue
DESCRIPTION:Predmeti: Funkcionalna in klinično-aplikativna morfologija in
  embriologija zobnega organa - Histologija zobnega organa (FKMEZO-HZO)\nLe
 tniki: 2. LETNIK (EMŠ DM)\nIzvajalci: \nProstori: Pred - Velika - MF
LOCATION:Korytkova 2\, Pred - Velika - MF
X-WR-TIMEZONE:Europe/Ljubljana
END:VEVENT
END:VCALENDAR
