BEGIN:VCALENDAR
VERSION:2.0
PRODID:-//AFLabs urnik izvoz - mf//aflabs.si//SI
DTSTAMP:20260420T030737Z
NAME:UL MF urnik
REFRESH-INTERVAL:PT1H
SOURCE:https://afurnik-mf.dev.aflabs.org/subject/92/?export=1
URL:https://afurnik-mf.dev.aflabs.org/subject/92/?export=1
X-PUBLISHED-TTL:PT1H
X-WR-CALNAME:UL MF urnik
X-WR-TIMEZONE:Europe/Ljubljana
BEGIN:VTIMEZONE
TZID:Europe/Ljubljana
BEGIN:DAYLIGHT
DTSTART:20260329T020000
RDATE:20260329T020000
RDATE:20270328T020000
TZNAME:CEST
TZOFFSETFROM:+0100
TZOFFSETTO:+0200
END:DAYLIGHT
BEGIN:STANDARD
DTSTART:20261025T030000
RDATE:20261025T030000
RDATE:20271031T030000
TZNAME:CET
TZOFFSETFROM:+0200
TZOFFSETTO:+0100
END:STANDARD
END:VTIMEZONE
BEGIN:VEVENT
SUMMARY:IZPIT:Uvod v diagnostiko in minimalno invazivno stomatologijo
DTSTART;TZID=Europe/Ljubljana:20260615T070000
DTEND;TZID=Europe/Ljubljana:20260615T090000
DTSTAMP:20260420T030737Z
UID:mf-AFLABS-URNIK:rezervacija:8768
ATTENDEE:2. LETNIK (EMŠ DM)
CATEGORIES:Reservation
COLOR:royalblue
DESCRIPTION:Predmeti: Uvod v klinično dentalno medicino 2 (UKDM2)\nLetnik
 i: 2. LETNIK (EMŠ DM)\nIzvajalci: Katedra za zobne bolezni in norm KZBNMZ
 O\nProstori: Pred - Velika - MF
LOCATION:Korytkova 2\, Pred - Velika - MF
ORGANIZER:Katedra za zobne bolezni in norm KZBNMZO
X-WR-TIMEZONE:Europe/Ljubljana
END:VEVENT
BEGIN:VEVENT
SUMMARY:IZPIT:Uvod v diagnostiko in minimalno invazivno stomatologijo
DTSTART;TZID=Europe/Ljubljana:20260825T100000
DTEND;TZID=Europe/Ljubljana:20260825T120000
DTSTAMP:20260420T030737Z
UID:mf-AFLABS-URNIK:rezervacija:8770
ATTENDEE:2. LETNIK (EMŠ DM)
CATEGORIES:Reservation
COLOR:royalblue
DESCRIPTION:Predmeti: Uvod v klinično dentalno medicino 2 (UKDM2)\nLetnik
 i: 2. LETNIK (EMŠ DM)\nIzvajalci: Katedra za zobne bolezni in norm KZBNMZ
 O\nProstori: Pred - Velika - MF
LOCATION:Korytkova 2\, Pred - Velika - MF
ORGANIZER:Katedra za zobne bolezni in norm KZBNMZO
X-WR-TIMEZONE:Europe/Ljubljana
END:VEVENT
BEGIN:VEVENT
SUMMARY:IZPIT:Dentalni materiali in tehnologija dentalnih materialov
DTSTART;TZID=Europe/Ljubljana:20260616T080000
DTEND;TZID=Europe/Ljubljana:20260616T100000
DTSTAMP:20260420T030737Z
UID:mf-AFLABS-URNIK:rezervacija:8771
ATTENDEE:2. LETNIK (EMŠ DM)
CATEGORIES:Reservation
COLOR:royalblue
DESCRIPTION:Predmeti: Uvod v klinično dentalno medicino 2 (UKDM2)\nLetnik
 i: 2. LETNIK (EMŠ DM)\nIzvajalci: Katedra za zobne bolezni in norm KZBNMZ
 O\nProstori: Pred - Srednja - MF
LOCATION:Korytkova 2\, Pred - Srednja - MF
ORGANIZER:Katedra za zobne bolezni in norm KZBNMZO
X-WR-TIMEZONE:Europe/Ljubljana
END:VEVENT
BEGIN:VEVENT
SUMMARY:IZPIT:Dentalni materiali in tehnologija dentalnih materialov
DTSTART;TZID=Europe/Ljubljana:20260427T100000
DTEND;TZID=Europe/Ljubljana:20260427T120000
DTSTAMP:20260420T030737Z
UID:mf-AFLABS-URNIK:rezervacija:8772
ATTENDEE:2. LETNIK (EMŠ DM)
CATEGORIES:Reservation
COLOR:royalblue
DESCRIPTION:Predmeti: Uvod v klinično dentalno medicino 2 (UKDM2)\nLetnik
 i: 2. LETNIK (EMŠ DM)\nIzvajalci: Katedra za zobne bolezni in norm KZBNMZ
 O\nProstori: Pred - Srednja - MF
LOCATION:Korytkova 2\, Pred - Srednja - MF
ORGANIZER:Katedra za zobne bolezni in norm KZBNMZO
X-WR-TIMEZONE:Europe/Ljubljana
END:VEVENT
BEGIN:VEVENT
SUMMARY:IZPIT:Dentalni materiali in tehnologija dentalnih materialov
DTSTART;TZID=Europe/Ljubljana:20260914T100000
DTEND;TZID=Europe/Ljubljana:20260914T120000
DTSTAMP:20260420T030737Z
UID:mf-AFLABS-URNIK:rezervacija:8773
ATTENDEE:2. LETNIK (EMŠ DM)
CATEGORIES:Reservation
COLOR:royalblue
DESCRIPTION:Predmeti: Uvod v klinično dentalno medicino 2 (UKDM2)\nLetnik
 i: 2. LETNIK (EMŠ DM)\nIzvajalci: Katedra za zobne bolezni in norm KZBNMZ
 O\nProstori: Pred - Srednja - MF
LOCATION:Korytkova 2\, Pred - Srednja - MF
ORGANIZER:Katedra za zobne bolezni in norm KZBNMZO
X-WR-TIMEZONE:Europe/Ljubljana
END:VEVENT
BEGIN:VEVENT
SUMMARY:IZPIT:Timsko delo
DTSTART;TZID=Europe/Ljubljana:20260916T070000
DTEND;TZID=Europe/Ljubljana:20260916T090000
DTSTAMP:20260420T030737Z
UID:mf-AFLABS-URNIK:rezervacija:8776
ATTENDEE:2. LETNIK (EMŠ DM)
CATEGORIES:Reservation
COLOR:royalblue
DESCRIPTION:Predmeti: Uvod v klinično dentalno medicino 2 (UKDM2)\nLetnik
 i: 2. LETNIK (EMŠ DM)\nIzvajalci: Katedra za psihiatrijo KPS\nProstori: P
 red - Srednja - MF
LOCATION:Korytkova 2\, Pred - Srednja - MF
ORGANIZER:Katedra za psihiatrijo KPS
X-WR-TIMEZONE:Europe/Ljubljana
END:VEVENT
BEGIN:VEVENT
SUMMARY:IZPIT:Splošna propedevtika
DTSTART;TZID=Europe/Ljubljana:20260617T100000
DTEND;TZID=Europe/Ljubljana:20260617T120000
DTSTAMP:20260420T030737Z
UID:mf-AFLABS-URNIK:rezervacija:8777
ATTENDEE:2. LETNIK (EMŠ DM)
CATEGORIES:Reservation
COLOR:royalblue
DESCRIPTION:Predmeti: Uvod v klinično dentalno medicino 2 (UKDM2)\nLetnik
 i: 2. LETNIK (EMŠ DM)\nIzvajalci: Katedra za interno medicino KIM\nProsto
 ri: Pred - Srednja - MF
LOCATION:Korytkova 2\, Pred - Srednja - MF
ORGANIZER:Katedra za interno medicino KIM
X-WR-TIMEZONE:Europe/Ljubljana
END:VEVENT
BEGIN:VEVENT
SUMMARY:IZPIT:Splošna propedevtika
DTSTART;TZID=Europe/Ljubljana:20260824T100000
DTEND;TZID=Europe/Ljubljana:20260824T120000
DTSTAMP:20260420T030737Z
UID:mf-AFLABS-URNIK:rezervacija:8778
ATTENDEE:2. LETNIK (EMŠ DM)
CATEGORIES:Reservation
COLOR:royalblue
DESCRIPTION:Predmeti: Uvod v klinično dentalno medicino 2 (UKDM2)\nLetnik
 i: 2. LETNIK (EMŠ DM)\nIzvajalci: Katedra za interno medicino KIM\nProsto
 ri: Pred - Mala - MF
LOCATION:Korytkova 2\, Pred - Mala - MF
ORGANIZER:Katedra za interno medicino KIM
X-WR-TIMEZONE:Europe/Ljubljana
END:VEVENT
BEGIN:VEVENT
SUMMARY:IZPIT:Stomatološka propedevtika 1
DTSTART;TZID=Europe/Ljubljana:20260904T080000
DTEND;TZID=Europe/Ljubljana:20260904T100000
DTSTAMP:20260420T030737Z
UID:mf-AFLABS-URNIK:rezervacija:8781
ATTENDEE:2. LETNIK (EMŠ DM)
CATEGORIES:Reservation
COLOR:royalblue
DESCRIPTION:Predmeti: Uvod v klinično dentalno medicino 2 (UKDM2)\nLetnik
 i: 2. LETNIK (EMŠ DM)\nIzvajalci: Katedra za stomatološko protetik KSP\n
 Prostori: Pred - Srednja - MF
LOCATION:Korytkova 2\, Pred - Srednja - MF
ORGANIZER:Katedra za stomatološko protetik KSP
X-WR-TIMEZONE:Europe/Ljubljana
END:VEVENT
BEGIN:VEVENT
SUMMARY:IZPIT:Stomatološka propedevtika 1
DTSTART;TZID=Europe/Ljubljana:20260918T080000
DTEND;TZID=Europe/Ljubljana:20260918T100000
DTSTAMP:20260420T030737Z
UID:mf-AFLABS-URNIK:rezervacija:8782
ATTENDEE:2. LETNIK (EMŠ DM)
CATEGORIES:Reservation
COLOR:royalblue
DESCRIPTION:Predmeti: Uvod v klinično dentalno medicino 2 (UKDM2)\nLetnik
 i: 2. LETNIK (EMŠ DM)\nIzvajalci: Katedra za stomatološko protetik KSP\n
 Prostori: Pred - Srednja - MF
LOCATION:Korytkova 2\, Pred - Srednja - MF
ORGANIZER:Katedra za stomatološko protetik KSP
X-WR-TIMEZONE:Europe/Ljubljana
END:VEVENT
BEGIN:VEVENT
SUMMARY:IZPIT:Timsko delo
DTSTART;TZID=Europe/Ljubljana:20260901T120000
DTEND;TZID=Europe/Ljubljana:20260901T140000
DTSTAMP:20260420T030737Z
UID:mf-AFLABS-URNIK:rezervacija:9318
ATTENDEE:2. LETNIK (EMŠ DM)
CATEGORIES:Reservation
COLOR:royalblue
DESCRIPTION:Predmeti: Uvod v klinično dentalno medicino 2 (UKDM2)\nLetnik
 i: 2. LETNIK (EMŠ DM)\nIzvajalci: \nProstori: Pred - Mala - MF
LOCATION:Korytkova 2\, Pred - Mala - MF
X-WR-TIMEZONE:Europe/Ljubljana
END:VEVENT
BEGIN:VEVENT
SUMMARY:IZPIT: UKM2\, UKDM2
DTSTART;TZID=Europe/Ljubljana:20260629T120000
DTEND;TZID=Europe/Ljubljana:20260629T140000
DTSTAMP:20260420T030737Z
UID:mf-AFLABS-URNIK:rezervacija:9326
ATTENDEE:2. LETNIK (EMŠ DM)
ATTENDEE:2. LETNIK (EMŠ M)
CATEGORIES:Reservation
COLOR:royalblue
DESCRIPTION:Predmeti: Uvod v klinično medicino 2 (UKM2)\, Uvod v kliničn
 o dentalno medicino 2 (UKDM2)\nLetniki: 2. LETNIK (EMŠ DM)\, 2. LETNIK (E
 MŠ M)\nIzvajalci: \nProstori: Pred - Velika - MF\, Pred - Srednja - MF\, 
 Pred - Mala - MF
LOCATION:Korytkova 2\, Pred - Velika - MF\, Korytkova 2\, Pred - Srednja -
  MF\, Korytkova 2\, Pred - Mala - MF
X-WR-TIMEZONE:Europe/Ljubljana
END:VEVENT
END:VCALENDAR
