BEGIN:VCALENDAR
VERSION:2.0
PRODID:-//AFLabs urnik izvoz - mf//aflabs.si//SI
DTSTAMP:20260420T054436Z
NAME:UL MF urnik
REFRESH-INTERVAL:PT1H
SOURCE:https://afurnik-mf.dev.aflabs.org/teacher/11?day=2024-07-08&export=
 1
URL:https://afurnik-mf.dev.aflabs.org/teacher/11?day=2024-07-08&export=1
X-PUBLISHED-TTL:PT1H
X-WR-CALNAME:UL MF urnik
X-WR-TIMEZONE:Europe/Ljubljana
BEGIN:VTIMEZONE
TZID:Europe/Ljubljana
BEGIN:DAYLIGHT
DTSTART:20260329T020000
RDATE:20260329T020000
RDATE:20270328T020000
TZNAME:CEST
TZOFFSETFROM:+0100
TZOFFSETTO:+0200
END:DAYLIGHT
BEGIN:STANDARD
DTSTART:20261025T030000
RDATE:20261025T030000
RDATE:20271031T030000
TZNAME:CET
TZOFFSETFROM:+0200
TZOFFSETTO:+0100
END:STANDARD
END:VTIMEZONE
BEGIN:VEVENT
SUMMARY:Perioperativna medicina (PERIOPM)\, Predavanje (P)\, [M6-16\, M6-1
 7\, M6-18\, M6-19\, M6-20]
DTSTART;TZID=Europe/Ljubljana:20241001T110000
DTEND;TZID=Europe/Ljubljana:20241001T141500
DTSTAMP:20260420T054436Z
UID:mf-AFLABS-URNIK:premaknjeno-srecanje:20148
ATTENDEE:6. LETNIK (EMŠ M)
CATEGORIES:Entry,Special
COLOR:forestgreen
DESCRIPTION:Predmet: Perioperativna medicina (PERIOPM)\, Predavanje (P)\, 
 [M6-16\, M6-17\, M6-18\, M6-19\, M6-20]\nLetniki: 6. LETNIK (EMŠ M)\nIzva
 jalci: Katedra za anesteziologijo z rea KAR\nProstor: Pred - 2 - UKC
LOCATION:Zaloška 7\, Pred - 2 - UKC
ORGANIZER:Katedra za anesteziologijo z rea KAR
RELATED-TO:mf-AFLABS-URNIK:srecanje:3403
X-WR-TIMEZONE:Europe/Ljubljana
END:VEVENT
BEGIN:VEVENT
SUMMARY:Perioperativna medicina (PERIOPM)\, Vaje (V)\, [M6-16\, M6-17\, M6
 -18\, M6-19\, M6-20]
DTSTART;TZID=Europe/Ljubljana:20241001T150000
DTEND;TZID=Europe/Ljubljana:20241001T190000
DTSTAMP:20260420T054436Z
UID:mf-AFLABS-URNIK:premaknjeno-srecanje:20149
ATTENDEE:6. LETNIK (EMŠ M)
CATEGORIES:Entry,Special
COLOR:forestgreen
DESCRIPTION:Predmet: Perioperativna medicina (PERIOPM)\, Vaje (V)\, [M6-16
 \, M6-17\, M6-18\, M6-19\, M6-20]\nLetniki: 6. LETNIK (EMŠ M)\nIzvajalci:
  Katedra za anesteziologijo z rea KAR\nProstor: Sem - 2 - MF
LOCATION:Korytkova 2\, Sem - 2 - MF
ORGANIZER:Katedra za anesteziologijo z rea KAR
RELATED-TO:mf-AFLABS-URNIK:srecanje:3404
X-WR-TIMEZONE:Europe/Ljubljana
END:VEVENT
BEGIN:VEVENT
SUMMARY:Perioperativna medicina (PERIOPM)\, Vaje (V)\, [M6-16\, M6-17\, M6
 -18\, M6-19\, M6-20]
DTSTART;TZID=Europe/Ljubljana:20241001T150000
DTEND;TZID=Europe/Ljubljana:20241001T190000
DTSTAMP:20260420T054436Z
UID:mf-AFLABS-URNIK:premaknjeno-srecanje:20150
ATTENDEE:6. LETNIK (EMŠ M)
CATEGORIES:Entry,Special
COLOR:forestgreen
DESCRIPTION:Predmet: Perioperativna medicina (PERIOPM)\, Vaje (V)\, [M6-16
 \, M6-17\, M6-18\, M6-19\, M6-20]\nLetniki: 6. LETNIK (EMŠ M)\nIzvajalci:
  Katedra za anesteziologijo z rea KAR\nProstor: CUKV - M - Korytkova 2
LOCATION:Korytkova 2\, CUKV - M - Korytkova 2
ORGANIZER:Katedra za anesteziologijo z rea KAR
RELATED-TO:mf-AFLABS-URNIK:srecanje:3405
X-WR-TIMEZONE:Europe/Ljubljana
END:VEVENT
END:VCALENDAR
