BEGIN:VCALENDAR
VERSION:2.0
PRODID:-//AFLabs urnik izvoz - mf//aflabs.si//SI
DTSTAMP:20260420T103647Z
NAME:UL MF urnik
REFRESH-INTERVAL:PT1H
SOURCE:https://afurnik-mf.dev.aflabs.org/teacher/12?day=2023-08-28&export=
 1
URL:https://afurnik-mf.dev.aflabs.org/teacher/12?day=2023-08-28&export=1
X-PUBLISHED-TTL:PT1H
X-WR-CALNAME:UL MF urnik
X-WR-TIMEZONE:Europe/Ljubljana
BEGIN:VTIMEZONE
TZID:Europe/Ljubljana
BEGIN:DAYLIGHT
DTSTART:20260329T020000
RDATE:20260329T020000
RDATE:20270328T020000
TZNAME:CEST
TZOFFSETFROM:+0100
TZOFFSETTO:+0200
END:DAYLIGHT
BEGIN:STANDARD
DTSTART:20261025T030000
RDATE:20261025T030000
RDATE:20271031T030000
TZNAME:CET
TZOFFSETFROM:+0200
TZOFFSETTO:+0100
END:STANDARD
END:VTIMEZONE
BEGIN:VEVENT
SUMMARY:Čeljustna in zobna ortopedija 3 (ČZO3)\, Predavanje (P)\, [D6-01
 \, D6-02\, D6-03\, D6-04\, D6-05\, D6-06]
DTSTART;TZID=Europe/Ljubljana:20231002T100000
DTEND;TZID=Europe/Ljubljana:20231002T110000
DTSTAMP:20260420T103647Z
UID:mf-AFLABS-URNIK:premaknjeno-srecanje:9494
ATTENDEE:6. LETNIK (EMŠ DM)
CATEGORIES:Entry,Standard
COLOR:darkgreen
DESCRIPTION:Predmet: Čeljustna in zobna ortopedija 3 (ČZO3)\, Predavanje
  (P)\, [D6-01\, D6-02\, D6-03\, D6-04\, D6-05\, D6-06]\nLetniki: 6. LETNIK
  (EMŠ DM)\nIzvajalci: Katedra za čeljustno in zobno or KČZO\nProstor: P
 red - Stoma
LOCATION:Hrvatski trg 6\, Pred - Stoma
ORGANIZER:Katedra za čeljustno in zobno or KČZO
RELATED-TO:mf-AFLABS-URNIK:srecanje:1801
X-WR-TIMEZONE:Europe/Ljubljana
END:VEVENT
BEGIN:VEVENT
SUMMARY:Čeljustna in zobna ortopedija 3 (ČZO3)\, Seminar (S)\, [D6-01\, 
 D6-02\, D6-03\, D6-04\, D6-05\, D6-06]
DTSTART;TZID=Europe/Ljubljana:20231002T110000
DTEND;TZID=Europe/Ljubljana:20231002T120000
DTSTAMP:20260420T103647Z
UID:mf-AFLABS-URNIK:premaknjeno-srecanje:9509
ATTENDEE:6. LETNIK (EMŠ DM)
CATEGORIES:Entry,Standard
COLOR:darkgreen
DESCRIPTION:Predmet: Čeljustna in zobna ortopedija 3 (ČZO3)\, Seminar (S
 )\, [D6-01\, D6-02\, D6-03\, D6-04\, D6-05\, D6-06]\nLetniki: 6. LETNIK (E
 MŠ DM)\nIzvajalci: Katedra za čeljustno in zobno or KČZO\nProstor: Pred
  - Stoma
LOCATION:Hrvatski trg 6\, Pred - Stoma
ORGANIZER:Katedra za čeljustno in zobno or KČZO
RELATED-TO:mf-AFLABS-URNIK:srecanje:1802
X-WR-TIMEZONE:Europe/Ljubljana
END:VEVENT
END:VCALENDAR
