BEGIN:VCALENDAR
VERSION:2.0
PRODID:-//AFLabs urnik izvoz - mf//aflabs.si//SI
DTSTAMP:20260420T070720Z
NAME:UL MF urnik
REFRESH-INTERVAL:PT1H
SOURCE:https://afurnik-mf.dev.aflabs.org/teacher/12?day=2023-09-18&export=
 1
URL:https://afurnik-mf.dev.aflabs.org/teacher/12?day=2023-09-18&export=1
X-PUBLISHED-TTL:PT1H
X-WR-CALNAME:UL MF urnik
X-WR-TIMEZONE:Europe/Ljubljana
BEGIN:VTIMEZONE
TZID:Europe/Ljubljana
BEGIN:DAYLIGHT
DTSTART:20260329T020000
RDATE:20260329T020000
RDATE:20270328T020000
TZNAME:CEST
TZOFFSETFROM:+0100
TZOFFSETTO:+0200
END:DAYLIGHT
BEGIN:STANDARD
DTSTART:20261025T030000
RDATE:20261025T030000
RDATE:20271031T030000
TZNAME:CET
TZOFFSETFROM:+0200
TZOFFSETTO:+0100
END:STANDARD
END:VTIMEZONE
BEGIN:VEVENT
SUMMARY:Čeljustna in zobna ortopedija 3 (ČZO3)\, Predavanje (P)\, [D6-01
 \, D6-02\, D6-03\, D6-04\, D6-05\, D6-06]
DTSTART;TZID=Europe/Ljubljana:20231002T100000
DTEND;TZID=Europe/Ljubljana:20231002T110000
DTSTAMP:20260420T070720Z
UID:mf-AFLABS-URNIK:premaknjeno-srecanje:9494
ATTENDEE:6. LETNIK (EMŠ DM)
CATEGORIES:Entry,Standard
COLOR:darkgreen
DESCRIPTION:Predmet: Čeljustna in zobna ortopedija 3 (ČZO3)\, Predavanje
  (P)\, [D6-01\, D6-02\, D6-03\, D6-04\, D6-05\, D6-06]\nLetniki: 6. LETNIK
  (EMŠ DM)\nIzvajalci: Katedra za čeljustno in zobno or KČZO\nProstor: P
 red - Stoma
LOCATION:Hrvatski trg 6\, Pred - Stoma
ORGANIZER:Katedra za čeljustno in zobno or KČZO
RELATED-TO:mf-AFLABS-URNIK:srecanje:1801
X-WR-TIMEZONE:Europe/Ljubljana
END:VEVENT
BEGIN:VEVENT
SUMMARY:Čeljustna in zobna ortopedija 3 (ČZO3)\, Predavanje (P)\, [D6-01
 \, D6-02\, D6-03\, D6-04\, D6-05\, D6-06]
DTSTART;TZID=Europe/Ljubljana:20231009T100000
DTEND;TZID=Europe/Ljubljana:20231009T110000
DTSTAMP:20260420T070720Z
UID:mf-AFLABS-URNIK:premaknjeno-srecanje:9495
ATTENDEE:6. LETNIK (EMŠ DM)
CATEGORIES:Entry,Standard
COLOR:darkgreen
DESCRIPTION:Predmet: Čeljustna in zobna ortopedija 3 (ČZO3)\, Predavanje
  (P)\, [D6-01\, D6-02\, D6-03\, D6-04\, D6-05\, D6-06]\nLetniki: 6. LETNIK
  (EMŠ DM)\nIzvajalci: Katedra za čeljustno in zobno or KČZO\nProstor: P
 red - Stoma
LOCATION:Hrvatski trg 6\, Pred - Stoma
ORGANIZER:Katedra za čeljustno in zobno or KČZO
RELATED-TO:mf-AFLABS-URNIK:srecanje:1801
X-WR-TIMEZONE:Europe/Ljubljana
END:VEVENT
BEGIN:VEVENT
SUMMARY:Čeljustna in zobna ortopedija 3 (ČZO3)\, Predavanje (P)\, [D6-01
 \, D6-02\, D6-03\, D6-04\, D6-05\, D6-06]
DTSTART;TZID=Europe/Ljubljana:20231016T100000
DTEND;TZID=Europe/Ljubljana:20231016T110000
DTSTAMP:20260420T070720Z
UID:mf-AFLABS-URNIK:premaknjeno-srecanje:9496
ATTENDEE:6. LETNIK (EMŠ DM)
CATEGORIES:Entry,Standard
COLOR:darkgreen
DESCRIPTION:Predmet: Čeljustna in zobna ortopedija 3 (ČZO3)\, Predavanje
  (P)\, [D6-01\, D6-02\, D6-03\, D6-04\, D6-05\, D6-06]\nLetniki: 6. LETNIK
  (EMŠ DM)\nIzvajalci: Katedra za čeljustno in zobno or KČZO\nProstor: P
 red - Stoma
LOCATION:Hrvatski trg 6\, Pred - Stoma
ORGANIZER:Katedra za čeljustno in zobno or KČZO
RELATED-TO:mf-AFLABS-URNIK:srecanje:1801
X-WR-TIMEZONE:Europe/Ljubljana
END:VEVENT
BEGIN:VEVENT
SUMMARY:Čeljustna in zobna ortopedija 3 (ČZO3)\, Predavanje (P)\, [D6-01
 \, D6-02\, D6-03\, D6-04\, D6-05\, D6-06]
DTSTART;TZID=Europe/Ljubljana:20231023T100000
DTEND;TZID=Europe/Ljubljana:20231023T110000
DTSTAMP:20260420T070720Z
UID:mf-AFLABS-URNIK:premaknjeno-srecanje:9497
ATTENDEE:6. LETNIK (EMŠ DM)
CATEGORIES:Entry,Standard
COLOR:darkgreen
DESCRIPTION:Predmet: Čeljustna in zobna ortopedija 3 (ČZO3)\, Predavanje
  (P)\, [D6-01\, D6-02\, D6-03\, D6-04\, D6-05\, D6-06]\nLetniki: 6. LETNIK
  (EMŠ DM)\nIzvajalci: Katedra za čeljustno in zobno or KČZO\nProstor: P
 red - Stoma
LOCATION:Hrvatski trg 6\, Pred - Stoma
ORGANIZER:Katedra za čeljustno in zobno or KČZO
RELATED-TO:mf-AFLABS-URNIK:srecanje:1801
X-WR-TIMEZONE:Europe/Ljubljana
END:VEVENT
BEGIN:VEVENT
SUMMARY:Čeljustna in zobna ortopedija 3 (ČZO3)\, Seminar (S)\, [D6-01\, 
 D6-02\, D6-03\, D6-04\, D6-05\, D6-06]
DTSTART;TZID=Europe/Ljubljana:20231002T110000
DTEND;TZID=Europe/Ljubljana:20231002T120000
DTSTAMP:20260420T070720Z
UID:mf-AFLABS-URNIK:premaknjeno-srecanje:9509
ATTENDEE:6. LETNIK (EMŠ DM)
CATEGORIES:Entry,Standard
COLOR:darkgreen
DESCRIPTION:Predmet: Čeljustna in zobna ortopedija 3 (ČZO3)\, Seminar (S
 )\, [D6-01\, D6-02\, D6-03\, D6-04\, D6-05\, D6-06]\nLetniki: 6. LETNIK (E
 MŠ DM)\nIzvajalci: Katedra za čeljustno in zobno or KČZO\nProstor: Pred
  - Stoma
LOCATION:Hrvatski trg 6\, Pred - Stoma
ORGANIZER:Katedra za čeljustno in zobno or KČZO
RELATED-TO:mf-AFLABS-URNIK:srecanje:1802
X-WR-TIMEZONE:Europe/Ljubljana
END:VEVENT
BEGIN:VEVENT
SUMMARY:Čeljustna in zobna ortopedija 3 (ČZO3)\, Seminar (S)\, [D6-01\, 
 D6-02\, D6-03\, D6-04\, D6-05\, D6-06]
DTSTART;TZID=Europe/Ljubljana:20231009T110000
DTEND;TZID=Europe/Ljubljana:20231009T120000
DTSTAMP:20260420T070720Z
UID:mf-AFLABS-URNIK:premaknjeno-srecanje:9510
ATTENDEE:6. LETNIK (EMŠ DM)
CATEGORIES:Entry,Standard
COLOR:darkgreen
DESCRIPTION:Predmet: Čeljustna in zobna ortopedija 3 (ČZO3)\, Seminar (S
 )\, [D6-01\, D6-02\, D6-03\, D6-04\, D6-05\, D6-06]\nLetniki: 6. LETNIK (E
 MŠ DM)\nIzvajalci: Katedra za čeljustno in zobno or KČZO\nProstor: Pred
  - Stoma
LOCATION:Hrvatski trg 6\, Pred - Stoma
ORGANIZER:Katedra za čeljustno in zobno or KČZO
RELATED-TO:mf-AFLABS-URNIK:srecanje:1802
X-WR-TIMEZONE:Europe/Ljubljana
END:VEVENT
BEGIN:VEVENT
SUMMARY:Čeljustna in zobna ortopedija 3 (ČZO3)\, Seminar (S)\, [D6-01\, 
 D6-02\, D6-03\, D6-04\, D6-05\, D6-06]
DTSTART;TZID=Europe/Ljubljana:20231016T110000
DTEND;TZID=Europe/Ljubljana:20231016T120000
DTSTAMP:20260420T070720Z
UID:mf-AFLABS-URNIK:premaknjeno-srecanje:9511
ATTENDEE:6. LETNIK (EMŠ DM)
CATEGORIES:Entry,Standard
COLOR:darkgreen
DESCRIPTION:Predmet: Čeljustna in zobna ortopedija 3 (ČZO3)\, Seminar (S
 )\, [D6-01\, D6-02\, D6-03\, D6-04\, D6-05\, D6-06]\nLetniki: 6. LETNIK (E
 MŠ DM)\nIzvajalci: Katedra za čeljustno in zobno or KČZO\nProstor: Pred
  - Stoma
LOCATION:Hrvatski trg 6\, Pred - Stoma
ORGANIZER:Katedra za čeljustno in zobno or KČZO
RELATED-TO:mf-AFLABS-URNIK:srecanje:1802
X-WR-TIMEZONE:Europe/Ljubljana
END:VEVENT
BEGIN:VEVENT
SUMMARY:Čeljustna in zobna ortopedija 3 (ČZO3)\, Seminar (S)\, [D6-01\, 
 D6-02\, D6-03\, D6-04\, D6-05\, D6-06]
DTSTART;TZID=Europe/Ljubljana:20231023T110000
DTEND;TZID=Europe/Ljubljana:20231023T120000
DTSTAMP:20260420T070720Z
UID:mf-AFLABS-URNIK:premaknjeno-srecanje:9512
ATTENDEE:6. LETNIK (EMŠ DM)
CATEGORIES:Entry,Standard
COLOR:darkgreen
DESCRIPTION:Predmet: Čeljustna in zobna ortopedija 3 (ČZO3)\, Seminar (S
 )\, [D6-01\, D6-02\, D6-03\, D6-04\, D6-05\, D6-06]\nLetniki: 6. LETNIK (E
 MŠ DM)\nIzvajalci: Katedra za čeljustno in zobno or KČZO\nProstor: Pred
  - Stoma
LOCATION:Hrvatski trg 6\, Pred - Stoma
ORGANIZER:Katedra za čeljustno in zobno or KČZO
RELATED-TO:mf-AFLABS-URNIK:srecanje:1802
X-WR-TIMEZONE:Europe/Ljubljana
END:VEVENT
BEGIN:VEVENT
SUMMARY:Čeljustna in zobna ortopedija 3 (ČZO3)\, klinične vaje (kv)\, [
 D6-04\, D6-05\, D6-06]
DTSTART;TZID=Europe/Ljubljana:20231003T073000
DTEND;TZID=Europe/Ljubljana:20231003T123000
DTSTAMP:20260420T070720Z
UID:mf-AFLABS-URNIK:premaknjeno-srecanje:9524
ATTENDEE:6. LETNIK (EMŠ DM)
CATEGORIES:Entry,Standard
COLOR:darkgreen
DESCRIPTION:Predmet: Čeljustna in zobna ortopedija 3 (ČZO3)\, klinične 
 vaje (kv)\, [D6-04\, D6-05\, D6-06]\nLetniki: 6. LETNIK (EMŠ DM)\nIzvajal
 ci: Katedra za čeljustno in zobno or KČZO\nProstor: Vaj - KCZO - 23 - St
 oma - UKC
LOCATION:Hrvatski trg 6\, Vaj - KCZO - 23 - Stoma - UKC
ORGANIZER:Katedra za čeljustno in zobno or KČZO
RELATED-TO:mf-AFLABS-URNIK:srecanje:1803
X-WR-TIMEZONE:Europe/Ljubljana
END:VEVENT
BEGIN:VEVENT
SUMMARY:Čeljustna in zobna ortopedija 3 (ČZO3)\, klinične vaje (kv)\, [
 D6-04\, D6-05\, D6-06]
DTSTART;TZID=Europe/Ljubljana:20231010T073000
DTEND;TZID=Europe/Ljubljana:20231010T123000
DTSTAMP:20260420T070720Z
UID:mf-AFLABS-URNIK:premaknjeno-srecanje:9525
ATTENDEE:6. LETNIK (EMŠ DM)
CATEGORIES:Entry,Standard
COLOR:darkgreen
DESCRIPTION:Predmet: Čeljustna in zobna ortopedija 3 (ČZO3)\, klinične 
 vaje (kv)\, [D6-04\, D6-05\, D6-06]\nLetniki: 6. LETNIK (EMŠ DM)\nIzvajal
 ci: Katedra za čeljustno in zobno or KČZO\nProstor: Vaj - KCZO - 23 - St
 oma - UKC
LOCATION:Hrvatski trg 6\, Vaj - KCZO - 23 - Stoma - UKC
ORGANIZER:Katedra za čeljustno in zobno or KČZO
RELATED-TO:mf-AFLABS-URNIK:srecanje:1803
X-WR-TIMEZONE:Europe/Ljubljana
END:VEVENT
BEGIN:VEVENT
SUMMARY:Čeljustna in zobna ortopedija 3 (ČZO3)\, klinične vaje (kv)\, [
 D6-04\, D6-05\, D6-06]
DTSTART;TZID=Europe/Ljubljana:20231017T073000
DTEND;TZID=Europe/Ljubljana:20231017T123000
DTSTAMP:20260420T070720Z
UID:mf-AFLABS-URNIK:premaknjeno-srecanje:9526
ATTENDEE:6. LETNIK (EMŠ DM)
CATEGORIES:Entry,Standard
COLOR:darkgreen
DESCRIPTION:Predmet: Čeljustna in zobna ortopedija 3 (ČZO3)\, klinične 
 vaje (kv)\, [D6-04\, D6-05\, D6-06]\nLetniki: 6. LETNIK (EMŠ DM)\nIzvajal
 ci: Katedra za čeljustno in zobno or KČZO\nProstor: Vaj - KCZO - 23 - St
 oma - UKC
LOCATION:Hrvatski trg 6\, Vaj - KCZO - 23 - Stoma - UKC
ORGANIZER:Katedra za čeljustno in zobno or KČZO
RELATED-TO:mf-AFLABS-URNIK:srecanje:1803
X-WR-TIMEZONE:Europe/Ljubljana
END:VEVENT
BEGIN:VEVENT
SUMMARY:Stomatološka propedevtika (STPRO)\, Predavanje (P)\, [D4-01\, D4-
 02\, D4-03\, D4-04\, D4-05\, D4-06]
DTSTART;TZID=Europe/Ljubljana:20231004T080000
DTEND;TZID=Europe/Ljubljana:20231004T100000
DTSTAMP:20260420T070720Z
UID:mf-AFLABS-URNIK:premaknjeno-srecanje:7063
ATTENDEE:4. LETNIK (EMŠ DM)
CATEGORIES:Entry,Standard
COLOR:darkgreen
DESCRIPTION:Predmet: Stomatološka propedevtika (STPRO)\, Predavanje (P)\,
  [D4-01\, D4-02\, D4-03\, D4-04\, D4-05\, D4-06]\nLetniki: 4. LETNIK (EMŠ
  DM)\nIzvajalci: Katedra za čeljustno in zobno or KČZO\, Katedra za otro
 ško in preventivn KOPZ\, Katedra za stomatološko protetik KSP\, Katedra 
 za ustne bolezni in paro KUBP\, Katedra za zobne bolezni in norm KZBNMZO\n
 Prostor: Pred - Stoma
LOCATION:Hrvatski trg 6\, Pred - Stoma
ORGANIZER:Katedra za čeljustno in zobno or KČZO, Katedra za otroško in 
 preventivn KOPZ, Katedra za stomatološko protetik KSP, Katedra za ustne b
 olezni in paro KUBP, Katedra za zobne bolezni in norm KZBNMZO
RELATED-TO:mf-AFLABS-URNIK:srecanje:1318
X-WR-TIMEZONE:Europe/Ljubljana
END:VEVENT
BEGIN:VEVENT
SUMMARY:Stomatološka propedevtika (STPRO)\, Predavanje (P)\, [D4-01\, D4-
 02\, D4-03\, D4-04\, D4-05\, D4-06]
DTSTART;TZID=Europe/Ljubljana:20231011T080000
DTEND;TZID=Europe/Ljubljana:20231011T100000
DTSTAMP:20260420T070720Z
UID:mf-AFLABS-URNIK:premaknjeno-srecanje:7064
ATTENDEE:4. LETNIK (EMŠ DM)
CATEGORIES:Entry,Standard
COLOR:darkgreen
DESCRIPTION:Predmet: Stomatološka propedevtika (STPRO)\, Predavanje (P)\,
  [D4-01\, D4-02\, D4-03\, D4-04\, D4-05\, D4-06]\nLetniki: 4. LETNIK (EMŠ
  DM)\nIzvajalci: Katedra za čeljustno in zobno or KČZO\, Katedra za otro
 ško in preventivn KOPZ\, Katedra za stomatološko protetik KSP\, Katedra 
 za ustne bolezni in paro KUBP\, Katedra za zobne bolezni in norm KZBNMZO\n
 Prostor: Pred - Stoma
LOCATION:Hrvatski trg 6\, Pred - Stoma
ORGANIZER:Katedra za čeljustno in zobno or KČZO, Katedra za otroško in 
 preventivn KOPZ, Katedra za stomatološko protetik KSP, Katedra za ustne b
 olezni in paro KUBP, Katedra za zobne bolezni in norm KZBNMZO
RELATED-TO:mf-AFLABS-URNIK:srecanje:1318
X-WR-TIMEZONE:Europe/Ljubljana
END:VEVENT
BEGIN:VEVENT
SUMMARY:Stomatološka propedevtika (STPRO)\, Predavanje (P)\, [D4-01\, D4-
 02\, D4-03\, D4-04\, D4-05\, D4-06]
DTSTART;TZID=Europe/Ljubljana:20231018T080000
DTEND;TZID=Europe/Ljubljana:20231018T100000
DTSTAMP:20260420T070720Z
UID:mf-AFLABS-URNIK:premaknjeno-srecanje:7065
ATTENDEE:4. LETNIK (EMŠ DM)
CATEGORIES:Entry,Standard
COLOR:darkgreen
DESCRIPTION:Predmet: Stomatološka propedevtika (STPRO)\, Predavanje (P)\,
  [D4-01\, D4-02\, D4-03\, D4-04\, D4-05\, D4-06]\nLetniki: 4. LETNIK (EMŠ
  DM)\nIzvajalci: Katedra za čeljustno in zobno or KČZO\, Katedra za otro
 ško in preventivn KOPZ\, Katedra za stomatološko protetik KSP\, Katedra 
 za ustne bolezni in paro KUBP\, Katedra za zobne bolezni in norm KZBNMZO\n
 Prostor: Pred - Stoma
LOCATION:Hrvatski trg 6\, Pred - Stoma
ORGANIZER:Katedra za čeljustno in zobno or KČZO, Katedra za otroško in 
 preventivn KOPZ, Katedra za stomatološko protetik KSP, Katedra za ustne b
 olezni in paro KUBP, Katedra za zobne bolezni in norm KZBNMZO
RELATED-TO:mf-AFLABS-URNIK:srecanje:1318
X-WR-TIMEZONE:Europe/Ljubljana
END:VEVENT
BEGIN:VEVENT
SUMMARY:Stomatološka propedevtika (STPRO)\, Seminar (S)\, [D4-01\, D4-02\
 , D4-03\, D4-04\, D4-05\, D4-06]
DTSTART;TZID=Europe/Ljubljana:20231004T100000
DTEND;TZID=Europe/Ljubljana:20231004T130000
DTSTAMP:20260420T070720Z
UID:mf-AFLABS-URNIK:premaknjeno-srecanje:7078
ATTENDEE:4. LETNIK (EMŠ DM)
CATEGORIES:Entry,Standard
COLOR:darkgreen
DESCRIPTION:Predmet: Stomatološka propedevtika (STPRO)\, Seminar (S)\, [D
 4-01\, D4-02\, D4-03\, D4-04\, D4-05\, D4-06]\nLetniki: 4. LETNIK (EMŠ DM
 )\nIzvajalci: Katedra za čeljustno in zobno or KČZO\, Katedra za otrošk
 o in preventivn KOPZ\, Katedra za stomatološko protetik KSP\, Katedra za 
 ustne bolezni in paro KUBP\, Katedra za zobne bolezni in norm KZBNMZO\nPro
 stor: Pred - Stoma
LOCATION:Hrvatski trg 6\, Pred - Stoma
ORGANIZER:Katedra za čeljustno in zobno or KČZO, Katedra za otroško in 
 preventivn KOPZ, Katedra za stomatološko protetik KSP, Katedra za ustne b
 olezni in paro KUBP, Katedra za zobne bolezni in norm KZBNMZO
RELATED-TO:mf-AFLABS-URNIK:srecanje:1319
X-WR-TIMEZONE:Europe/Ljubljana
END:VEVENT
BEGIN:VEVENT
SUMMARY:Stomatološka propedevtika (STPRO)\, Seminar (S)\, [D4-01\, D4-02\
 , D4-03\, D4-04\, D4-05\, D4-06]
DTSTART;TZID=Europe/Ljubljana:20231011T100000
DTEND;TZID=Europe/Ljubljana:20231011T130000
DTSTAMP:20260420T070720Z
UID:mf-AFLABS-URNIK:premaknjeno-srecanje:7079
ATTENDEE:4. LETNIK (EMŠ DM)
CATEGORIES:Entry,Standard
COLOR:darkgreen
DESCRIPTION:Predmet: Stomatološka propedevtika (STPRO)\, Seminar (S)\, [D
 4-01\, D4-02\, D4-03\, D4-04\, D4-05\, D4-06]\nLetniki: 4. LETNIK (EMŠ DM
 )\nIzvajalci: Katedra za čeljustno in zobno or KČZO\, Katedra za otrošk
 o in preventivn KOPZ\, Katedra za stomatološko protetik KSP\, Katedra za 
 ustne bolezni in paro KUBP\, Katedra za zobne bolezni in norm KZBNMZO\nPro
 stor: Pred - Stoma
LOCATION:Hrvatski trg 6\, Pred - Stoma
ORGANIZER:Katedra za čeljustno in zobno or KČZO, Katedra za otroško in 
 preventivn KOPZ, Katedra za stomatološko protetik KSP, Katedra za ustne b
 olezni in paro KUBP, Katedra za zobne bolezni in norm KZBNMZO
RELATED-TO:mf-AFLABS-URNIK:srecanje:1319
X-WR-TIMEZONE:Europe/Ljubljana
END:VEVENT
BEGIN:VEVENT
SUMMARY:Stomatološka propedevtika (STPRO)\, Seminar (S)\, [D4-01\, D4-02\
 , D4-03\, D4-04\, D4-05\, D4-06]
DTSTART;TZID=Europe/Ljubljana:20231018T100000
DTEND;TZID=Europe/Ljubljana:20231018T130000
DTSTAMP:20260420T070720Z
UID:mf-AFLABS-URNIK:premaknjeno-srecanje:7080
ATTENDEE:4. LETNIK (EMŠ DM)
CATEGORIES:Entry,Standard
COLOR:darkgreen
DESCRIPTION:Predmet: Stomatološka propedevtika (STPRO)\, Seminar (S)\, [D
 4-01\, D4-02\, D4-03\, D4-04\, D4-05\, D4-06]\nLetniki: 4. LETNIK (EMŠ DM
 )\nIzvajalci: Katedra za čeljustno in zobno or KČZO\, Katedra za otrošk
 o in preventivn KOPZ\, Katedra za stomatološko protetik KSP\, Katedra za 
 ustne bolezni in paro KUBP\, Katedra za zobne bolezni in norm KZBNMZO\nPro
 stor: Pred - Stoma
LOCATION:Hrvatski trg 6\, Pred - Stoma
ORGANIZER:Katedra za čeljustno in zobno or KČZO, Katedra za otroško in 
 preventivn KOPZ, Katedra za stomatološko protetik KSP, Katedra za ustne b
 olezni in paro KUBP, Katedra za zobne bolezni in norm KZBNMZO
RELATED-TO:mf-AFLABS-URNIK:srecanje:1319
X-WR-TIMEZONE:Europe/Ljubljana
END:VEVENT
BEGIN:VEVENT
SUMMARY:Čeljustna in zobna ortopedija 3 (ČZO3)\, klinične vaje (kv)\, [
 D6-01\, D6-02\, D6-03]
DTSTART;TZID=Europe/Ljubljana:20231004T073000
DTEND;TZID=Europe/Ljubljana:20231004T123000
DTSTAMP:20260420T070720Z
UID:mf-AFLABS-URNIK:premaknjeno-srecanje:9539
ATTENDEE:6. LETNIK (EMŠ DM)
CATEGORIES:Entry,Standard
COLOR:darkgreen
DESCRIPTION:Predmet: Čeljustna in zobna ortopedija 3 (ČZO3)\, klinične 
 vaje (kv)\, [D6-01\, D6-02\, D6-03]\nLetniki: 6. LETNIK (EMŠ DM)\nIzvajal
 ci: Katedra za čeljustno in zobno or KČZO\nProstor: Vaj - KCZO - 23 - St
 oma - UKC
LOCATION:Hrvatski trg 6\, Vaj - KCZO - 23 - Stoma - UKC
ORGANIZER:Katedra za čeljustno in zobno or KČZO
RELATED-TO:mf-AFLABS-URNIK:srecanje:1804
X-WR-TIMEZONE:Europe/Ljubljana
END:VEVENT
BEGIN:VEVENT
SUMMARY:Čeljustna in zobna ortopedija 3 (ČZO3)\, klinične vaje (kv)\, [
 D6-01\, D6-02\, D6-03]
DTSTART;TZID=Europe/Ljubljana:20231011T073000
DTEND;TZID=Europe/Ljubljana:20231011T123000
DTSTAMP:20260420T070720Z
UID:mf-AFLABS-URNIK:premaknjeno-srecanje:9540
ATTENDEE:6. LETNIK (EMŠ DM)
CATEGORIES:Entry,Standard
COLOR:darkgreen
DESCRIPTION:Predmet: Čeljustna in zobna ortopedija 3 (ČZO3)\, klinične 
 vaje (kv)\, [D6-01\, D6-02\, D6-03]\nLetniki: 6. LETNIK (EMŠ DM)\nIzvajal
 ci: Katedra za čeljustno in zobno or KČZO\nProstor: Vaj - KCZO - 23 - St
 oma - UKC
LOCATION:Hrvatski trg 6\, Vaj - KCZO - 23 - Stoma - UKC
ORGANIZER:Katedra za čeljustno in zobno or KČZO
RELATED-TO:mf-AFLABS-URNIK:srecanje:1804
X-WR-TIMEZONE:Europe/Ljubljana
END:VEVENT
BEGIN:VEVENT
SUMMARY:Čeljustna in zobna ortopedija 3 (ČZO3)\, klinične vaje (kv)\, [
 D6-01\, D6-02\, D6-03]
DTSTART;TZID=Europe/Ljubljana:20231018T073000
DTEND;TZID=Europe/Ljubljana:20231018T123000
DTSTAMP:20260420T070720Z
UID:mf-AFLABS-URNIK:premaknjeno-srecanje:9541
ATTENDEE:6. LETNIK (EMŠ DM)
CATEGORIES:Entry,Standard
COLOR:darkgreen
DESCRIPTION:Predmet: Čeljustna in zobna ortopedija 3 (ČZO3)\, klinične 
 vaje (kv)\, [D6-01\, D6-02\, D6-03]\nLetniki: 6. LETNIK (EMŠ DM)\nIzvajal
 ci: Katedra za čeljustno in zobno or KČZO\nProstor: Vaj - KCZO - 23 - St
 oma - UKC
LOCATION:Hrvatski trg 6\, Vaj - KCZO - 23 - Stoma - UKC
ORGANIZER:Katedra za čeljustno in zobno or KČZO
RELATED-TO:mf-AFLABS-URNIK:srecanje:1804
X-WR-TIMEZONE:Europe/Ljubljana
END:VEVENT
BEGIN:VEVENT
SUMMARY:Stomatološka propedevtika (STPRO)\, Vaje (V)\, [D4-01\, D4-02\, D
 4-03\, D4-04\, D4-05\, D4-06]
DTSTART;TZID=Europe/Ljubljana:20231005T090000
DTEND;TZID=Europe/Ljubljana:20231005T130000
DTSTAMP:20260420T070720Z
UID:mf-AFLABS-URNIK:premaknjeno-srecanje:7093
ATTENDEE:4. LETNIK (EMŠ DM)
CATEGORIES:Entry,Standard
COLOR:darkgreen
DESCRIPTION:Predmet: Stomatološka propedevtika (STPRO)\, Vaje (V)\, [D4-0
 1\, D4-02\, D4-03\, D4-04\, D4-05\, D4-06]\nLetniki: 4. LETNIK (EMŠ DM)\n
 Izvajalci: Katedra za čeljustno in zobno or KČZO\, Katedra za otroško i
 n preventivn KOPZ\, Katedra za stomatološko protetik KSP\, Katedra za ust
 ne bolezni in paro KUBP\, Katedra za zobne bolezni in norm KZBNMZO\nProsto
 r: CUKV - DM - Vaj - Velika
LOCATION:Korytkova 2\, CUKV - DM - Vaj - Velika
ORGANIZER:Katedra za čeljustno in zobno or KČZO, Katedra za otroško in 
 preventivn KOPZ, Katedra za stomatološko protetik KSP, Katedra za ustne b
 olezni in paro KUBP, Katedra za zobne bolezni in norm KZBNMZO
RELATED-TO:mf-AFLABS-URNIK:srecanje:1320
X-WR-TIMEZONE:Europe/Ljubljana
END:VEVENT
BEGIN:VEVENT
SUMMARY:Stomatološka propedevtika (STPRO)\, Vaje (V)\, [D4-01\, D4-02\, D
 4-03\, D4-04\, D4-05\, D4-06]
DTSTART;TZID=Europe/Ljubljana:20231012T090000
DTEND;TZID=Europe/Ljubljana:20231012T130000
DTSTAMP:20260420T070720Z
UID:mf-AFLABS-URNIK:premaknjeno-srecanje:7094
ATTENDEE:4. LETNIK (EMŠ DM)
CATEGORIES:Entry,Standard
COLOR:darkgreen
DESCRIPTION:Predmet: Stomatološka propedevtika (STPRO)\, Vaje (V)\, [D4-0
 1\, D4-02\, D4-03\, D4-04\, D4-05\, D4-06]\nLetniki: 4. LETNIK (EMŠ DM)\n
 Izvajalci: Katedra za čeljustno in zobno or KČZO\, Katedra za otroško i
 n preventivn KOPZ\, Katedra za stomatološko protetik KSP\, Katedra za ust
 ne bolezni in paro KUBP\, Katedra za zobne bolezni in norm KZBNMZO\nProsto
 r: CUKV - DM - Vaj - Velika
LOCATION:Korytkova 2\, CUKV - DM - Vaj - Velika
ORGANIZER:Katedra za čeljustno in zobno or KČZO, Katedra za otroško in 
 preventivn KOPZ, Katedra za stomatološko protetik KSP, Katedra za ustne b
 olezni in paro KUBP, Katedra za zobne bolezni in norm KZBNMZO
RELATED-TO:mf-AFLABS-URNIK:srecanje:1320
X-WR-TIMEZONE:Europe/Ljubljana
END:VEVENT
BEGIN:VEVENT
SUMMARY:Stomatološka propedevtika (STPRO)\, Vaje (V)\, [D4-01\, D4-02\, D
 4-03\, D4-04\, D4-05\, D4-06]
DTSTART;TZID=Europe/Ljubljana:20231019T090000
DTEND;TZID=Europe/Ljubljana:20231019T130000
DTSTAMP:20260420T070720Z
UID:mf-AFLABS-URNIK:premaknjeno-srecanje:7095
ATTENDEE:4. LETNIK (EMŠ DM)
CATEGORIES:Entry,Standard
COLOR:darkgreen
DESCRIPTION:Predmet: Stomatološka propedevtika (STPRO)\, Vaje (V)\, [D4-0
 1\, D4-02\, D4-03\, D4-04\, D4-05\, D4-06]\nLetniki: 4. LETNIK (EMŠ DM)\n
 Izvajalci: Katedra za čeljustno in zobno or KČZO\, Katedra za otroško i
 n preventivn KOPZ\, Katedra za stomatološko protetik KSP\, Katedra za ust
 ne bolezni in paro KUBP\, Katedra za zobne bolezni in norm KZBNMZO\nProsto
 r: CUKV - DM - Vaj - Velika
LOCATION:Korytkova 2\, CUKV - DM - Vaj - Velika
ORGANIZER:Katedra za čeljustno in zobno or KČZO, Katedra za otroško in 
 preventivn KOPZ, Katedra za stomatološko protetik KSP, Katedra za ustne b
 olezni in paro KUBP, Katedra za zobne bolezni in norm KZBNMZO
RELATED-TO:mf-AFLABS-URNIK:srecanje:1320
X-WR-TIMEZONE:Europe/Ljubljana
END:VEVENT
END:VCALENDAR
