BEGIN:VCALENDAR
VERSION:2.0
PRODID:-//AFLabs urnik izvoz - mf//aflabs.si//SI
DTSTAMP:20260420T180615Z
NAME:UL MF urnik
REFRESH-INTERVAL:PT1H
SOURCE:https://afurnik-mf.dev.aflabs.org/teacher/14?day=2024-08-27&export=
 1
URL:https://afurnik-mf.dev.aflabs.org/teacher/14?day=2024-08-27&export=1
X-PUBLISHED-TTL:PT1H
X-WR-CALNAME:UL MF urnik
X-WR-TIMEZONE:Europe/Ljubljana
BEGIN:VTIMEZONE
TZID:Europe/Ljubljana
BEGIN:DAYLIGHT
DTSTART:20260329T020000
RDATE:20260329T020000
RDATE:20270328T020000
TZNAME:CEST
TZOFFSETFROM:+0100
TZOFFSETTO:+0200
END:DAYLIGHT
BEGIN:STANDARD
DTSTART:20261025T030000
RDATE:20261025T030000
RDATE:20271031T030000
TZNAME:CET
TZOFFSETFROM:+0200
TZOFFSETTO:+0100
END:STANDARD
END:VTIMEZONE
BEGIN:VEVENT
SUMMARY:Uvod v klinično dentalno medicino 2 (UKDM2)\, Predavanje (P)\, [D
 2-01\, D2-02\, D2-03\, D2-04\, D2-05\, D2-06]
DTSTART;TZID=Europe/Ljubljana:20241001T171500
DTEND;TZID=Europe/Ljubljana:20241001T191500
DTSTAMP:20260420T180615Z
UID:mf-AFLABS-URNIK:premaknjeno-srecanje:19888
ATTENDEE:2. LETNIK (EMŠ DM)
CATEGORIES:Entry,Special
COLOR:forestgreen
DESCRIPTION:Predmet: Uvod v klinično dentalno medicino 2 (UKDM2)\, Predav
 anje (P)\, [D2-01\, D2-02\, D2-03\, D2-04\, D2-05\, D2-06]\nLetniki: 2. LE
 TNIK (EMŠ DM)\nIzvajalci: Katedra za družinsko medicino KDM\nProstor: Pr
 ed - Velika - MF
LOCATION:Korytkova 2\, Pred - Velika - MF
ORGANIZER:Katedra za družinsko medicino KDM
RELATED-TO:mf-AFLABS-URNIK:srecanje:3330
X-WR-TIMEZONE:Europe/Ljubljana
END:VEVENT
END:VCALENDAR
