BEGIN:VCALENDAR
VERSION:2.0
PRODID:-//AFLabs urnik izvoz - mf//aflabs.si//SI
DTSTAMP:20260420T071519Z
NAME:UL MF urnik
REFRESH-INTERVAL:PT1H
SOURCE:https://afurnik-mf.dev.aflabs.org/teacher/17?day=2024-06-17&export=
 1
URL:https://afurnik-mf.dev.aflabs.org/teacher/17?day=2024-06-17&export=1
X-PUBLISHED-TTL:PT1H
X-WR-CALNAME:UL MF urnik
X-WR-TIMEZONE:Europe/Ljubljana
BEGIN:VTIMEZONE
TZID:Europe/Ljubljana
BEGIN:DAYLIGHT
DTSTART:20260329T020000
RDATE:20260329T020000
RDATE:20270328T020000
TZNAME:CEST
TZOFFSETFROM:+0100
TZOFFSETTO:+0200
END:DAYLIGHT
BEGIN:STANDARD
DTSTART:20261025T030000
RDATE:20261025T030000
RDATE:20271031T030000
TZNAME:CET
TZOFFSETFROM:+0200
TZOFFSETTO:+0100
END:STANDARD
END:VTIMEZONE
BEGIN:VEVENT
SUMMARY:Medicinska klinika 1 (INFEK)\, Predavanje (P)\, [M4-16\, M4-17\, M
 4-18\, M4-19\, M4-20]
DTSTART;TZID=Europe/Ljubljana:20240422T091500
DTEND;TZID=Europe/Ljubljana:20240422T151500
DTSTAMP:20260420T071519Z
UID:mf-AFLABS-URNIK:premaknjeno-srecanje:10989
ATTENDEE:4. LETNIK (EMŠ DM)
CATEGORIES:Entry,Standard
COLOR:darkgreen
DESCRIPTION:Predmet: Medicinska klinika 1 (INFEK)\, Predavanje (P)\, [M4-1
 6\, M4-17\, M4-18\, M4-19\, M4-20]\nLetniki: 4. LETNIK (EMŠ DM)\nIzvajalc
 i: Katedra za infekcijske bolezni i KIBE\nProstor: Pred - Fiziologija
LOCATION:Zaloška 4\, Pred - Fiziologija
ORGANIZER:Katedra za infekcijske bolezni i KIBE
RELATED-TO:mf-AFLABS-URNIK:srecanje:1967
X-WR-TIMEZONE:Europe/Ljubljana
END:VEVENT
BEGIN:VEVENT
SUMMARY:Medicinska klinika 1 (INFEK)\, Predavanje (P)\, [M4-16\, M4-17\, M
 4-18\, M4-19\, M4-20]
DTSTART;TZID=Europe/Ljubljana:20240506T091500
DTEND;TZID=Europe/Ljubljana:20240506T151500
DTSTAMP:20260420T071519Z
UID:mf-AFLABS-URNIK:premaknjeno-srecanje:10990
ATTENDEE:4. LETNIK (EMŠ DM)
CATEGORIES:Entry,Standard
COLOR:darkgreen
DESCRIPTION:Predmet: Medicinska klinika 1 (INFEK)\, Predavanje (P)\, [M4-1
 6\, M4-17\, M4-18\, M4-19\, M4-20]\nLetniki: 4. LETNIK (EMŠ DM)\nIzvajalc
 i: Katedra za infekcijske bolezni i KIBE\nProstor: Pred - Fiziologija
LOCATION:Zaloška 4\, Pred - Fiziologija
ORGANIZER:Katedra za infekcijske bolezni i KIBE
RELATED-TO:mf-AFLABS-URNIK:srecanje:1967
X-WR-TIMEZONE:Europe/Ljubljana
END:VEVENT
BEGIN:VEVENT
SUMMARY:Medicinska klinika 1 (INFEK)\, Predavanje (P)\, [M4-16\, M4-17\, M
 4-18\, M4-19\, M4-20]
DTSTART;TZID=Europe/Ljubljana:20240520T091500
DTEND;TZID=Europe/Ljubljana:20240520T151500
DTSTAMP:20260420T071519Z
UID:mf-AFLABS-URNIK:premaknjeno-srecanje:10991
ATTENDEE:4. LETNIK (EMŠ DM)
CATEGORIES:Entry,Standard
COLOR:darkgreen
DESCRIPTION:Predmet: Medicinska klinika 1 (INFEK)\, Predavanje (P)\, [M4-1
 6\, M4-17\, M4-18\, M4-19\, M4-20]\nLetniki: 4. LETNIK (EMŠ DM)\nIzvajalc
 i: Katedra za infekcijske bolezni i KIBE\nProstor: Pred - Fiziologija
LOCATION:Zaloška 4\, Pred - Fiziologija
ORGANIZER:Katedra za infekcijske bolezni i KIBE
RELATED-TO:mf-AFLABS-URNIK:srecanje:1967
X-WR-TIMEZONE:Europe/Ljubljana
END:VEVENT
BEGIN:VEVENT
SUMMARY:Medicinska klinika 1 (INFEK)\, Predavanje (P)\, [M4-16\, M4-17\, M
 4-18\, M4-19\, M4-20]
DTSTART;TZID=Europe/Ljubljana:20240603T091500
DTEND;TZID=Europe/Ljubljana:20240603T151500
DTSTAMP:20260420T071519Z
UID:mf-AFLABS-URNIK:premaknjeno-srecanje:10992
ATTENDEE:4. LETNIK (EMŠ DM)
CATEGORIES:Entry,Standard
COLOR:darkgreen
DESCRIPTION:Predmet: Medicinska klinika 1 (INFEK)\, Predavanje (P)\, [M4-1
 6\, M4-17\, M4-18\, M4-19\, M4-20]\nLetniki: 4. LETNIK (EMŠ DM)\nIzvajalc
 i: Katedra za infekcijske bolezni i KIBE\nProstor: Pred - Fiziologija
LOCATION:Zaloška 4\, Pred - Fiziologija
ORGANIZER:Katedra za infekcijske bolezni i KIBE
RELATED-TO:mf-AFLABS-URNIK:srecanje:1967
X-WR-TIMEZONE:Europe/Ljubljana
END:VEVENT
BEGIN:VEVENT
SUMMARY:Medicinska klinika 1 (INFEK)\, Predavanje (P)\, [M4-16\, M4-17\, M
 4-18\, M4-19\, M4-20]
DTSTART;TZID=Europe/Ljubljana:20240513T091500
DTEND;TZID=Europe/Ljubljana:20240513T150000
DTSTAMP:20260420T071519Z
UID:mf-AFLABS-URNIK:premaknjeno-srecanje:10998
ATTENDEE:4. LETNIK (EMŠ DM)
CATEGORIES:Entry,Standard
COLOR:darkgreen
DESCRIPTION:Predmet: Medicinska klinika 1 (INFEK)\, Predavanje (P)\, [M4-1
 6\, M4-17\, M4-18\, M4-19\, M4-20]\nLetniki: 4. LETNIK (EMŠ DM)\nIzvajalc
 i: Katedra za infekcijske bolezni i KIBE\nProstor: Pred - Travma - UKC
LOCATION:Zaloška 2\, Pred - Travma - UKC
ORGANIZER:Katedra za infekcijske bolezni i KIBE
RELATED-TO:mf-AFLABS-URNIK:srecanje:1971
X-WR-TIMEZONE:Europe/Ljubljana
END:VEVENT
END:VCALENDAR
