BEGIN:VCALENDAR
VERSION:2.0
PRODID:-//AFLabs urnik izvoz - mf//aflabs.si//SI
DTSTAMP:20260420T081707Z
NAME:UL MF urnik
REFRESH-INTERVAL:PT1H
SOURCE:https://afurnik-mf.dev.aflabs.org/teacher/17?day=2024-06-24&export=
 1
URL:https://afurnik-mf.dev.aflabs.org/teacher/17?day=2024-06-24&export=1
X-PUBLISHED-TTL:PT1H
X-WR-CALNAME:UL MF urnik
X-WR-TIMEZONE:Europe/Ljubljana
BEGIN:VTIMEZONE
TZID:Europe/Ljubljana
BEGIN:DAYLIGHT
DTSTART:20260329T020000
RDATE:20260329T020000
RDATE:20270328T020000
TZNAME:CEST
TZOFFSETFROM:+0100
TZOFFSETTO:+0200
END:DAYLIGHT
BEGIN:STANDARD
DTSTART:20261025T030000
RDATE:20261025T030000
RDATE:20271031T030000
TZNAME:CET
TZOFFSETFROM:+0200
TZOFFSETTO:+0100
END:STANDARD
END:VTIMEZONE
BEGIN:VEVENT
SUMMARY:Infekcijske bolezni in epidemiologija - Infekcijske bolezni (INFEK
 BEP-IB)\, Predavanje (P)\, [M4-16\, M4-17\, M4-18\, M4-19\, M4-20]
DTSTART;TZID=Europe/Ljubljana:20241001T080000
DTEND;TZID=Europe/Ljubljana:20241001T150000
DTSTAMP:20260420T081707Z
UID:mf-AFLABS-URNIK:premaknjeno-srecanje:21494
ATTENDEE:4. LETNIK (EMŠ M)
CATEGORIES:Entry,Special
COLOR:forestgreen
DESCRIPTION:Predmet: Infekcijske bolezni in epidemiologija - Infekcijske b
 olezni (INFEKBEP-IB)\, Predavanje (P)\, [M4-16\, M4-17\, M4-18\, M4-19\, M
 4-20]\nLetniki: 4. LETNIK (EMŠ M)\nIzvajalci: Katedra za infekcijske bole
 zni i KIBE\nProstor: Pred - Fiziologija
LOCATION:Zaloška 4\, Pred - Fiziologija
ORGANIZER:Katedra za infekcijske bolezni i KIBE
RELATED-TO:mf-AFLABS-URNIK:srecanje:4180
X-WR-TIMEZONE:Europe/Ljubljana
END:VEVENT
END:VCALENDAR
