BEGIN:VCALENDAR
VERSION:2.0
PRODID:-//AFLabs urnik izvoz - mf//aflabs.si//SI
DTSTAMP:20260420T043242Z
NAME:UL MF urnik
REFRESH-INTERVAL:PT1H
SOURCE:https://afurnik-mf.dev.aflabs.org/teacher/17?day=2024-10-01&export=
 1
URL:https://afurnik-mf.dev.aflabs.org/teacher/17?day=2024-10-01&export=1
X-PUBLISHED-TTL:PT1H
X-WR-CALNAME:UL MF urnik
X-WR-TIMEZONE:Europe/Ljubljana
BEGIN:VTIMEZONE
TZID:Europe/Ljubljana
BEGIN:DAYLIGHT
DTSTART:20260329T020000
RDATE:20260329T020000
RDATE:20270328T020000
TZNAME:CEST
TZOFFSETFROM:+0100
TZOFFSETTO:+0200
END:DAYLIGHT
BEGIN:STANDARD
DTSTART:20261025T030000
RDATE:20261025T030000
RDATE:20271031T030000
TZNAME:CET
TZOFFSETFROM:+0200
TZOFFSETTO:+0100
END:STANDARD
END:VTIMEZONE
BEGIN:VEVENT
SUMMARY:Infekcijske bolezni in epidemiologija - Infekcijske bolezni (INFEK
 BEP-IB)\, Predavanje (P)\, [M4-16\, M4-17\, M4-18\, M4-19\, M4-20]
DTSTART;TZID=Europe/Ljubljana:20241001T080000
DTEND;TZID=Europe/Ljubljana:20241001T150000
DTSTAMP:20260420T043242Z
UID:mf-AFLABS-URNIK:premaknjeno-srecanje:21494
ATTENDEE:4. LETNIK (EMŠ M)
CATEGORIES:Entry,Special
COLOR:forestgreen
DESCRIPTION:Predmet: Infekcijske bolezni in epidemiologija - Infekcijske b
 olezni (INFEKBEP-IB)\, Predavanje (P)\, [M4-16\, M4-17\, M4-18\, M4-19\, M
 4-20]\nLetniki: 4. LETNIK (EMŠ M)\nIzvajalci: Katedra za infekcijske bole
 zni i KIBE\nProstor: Pred - Fiziologija
LOCATION:Zaloška 4\, Pred - Fiziologija
ORGANIZER:Katedra za infekcijske bolezni i KIBE
RELATED-TO:mf-AFLABS-URNIK:srecanje:4180
X-WR-TIMEZONE:Europe/Ljubljana
END:VEVENT
BEGIN:VEVENT
SUMMARY:Infekcijske bolezni in epidemiologija - Infekcijske bolezni (INFEK
 BEP-IB)\, Predavanje (P)\, [M4-16\, M4-17\, M4-18\, M4-19\, M4-20]
DTSTART;TZID=Europe/Ljubljana:20241004T080000
DTEND;TZID=Europe/Ljubljana:20241004T100000
DTSTAMP:20260420T043242Z
UID:mf-AFLABS-URNIK:premaknjeno-srecanje:21495
ATTENDEE:4. LETNIK (EMŠ M)
CATEGORIES:Entry,Special
COLOR:forestgreen
DESCRIPTION:Predmet: Infekcijske bolezni in epidemiologija - Infekcijske b
 olezni (INFEKBEP-IB)\, Predavanje (P)\, [M4-16\, M4-17\, M4-18\, M4-19\, M
 4-20]\nLetniki: 4. LETNIK (EMŠ M)\nIzvajalci: Katedra za infekcijske bole
 zni i KIBE\nProstor: Pred - Ortopedija
LOCATION:Zaloška 9\, Pred - Ortopedija
ORGANIZER:Katedra za infekcijske bolezni i KIBE
RELATED-TO:mf-AFLABS-URNIK:srecanje:4181
X-WR-TIMEZONE:Europe/Ljubljana
END:VEVENT
BEGIN:VEVENT
SUMMARY:Infekcijske bolezni in epidemiologija - Infekcijske bolezni (INFEK
 BEP-IB)\, Predavanje (P)\, [M4-16\, M4-17\, M4-18\, M4-19\, M4-20]
DTSTART;TZID=Europe/Ljubljana:20241011T080000
DTEND;TZID=Europe/Ljubljana:20241011T100000
DTSTAMP:20260420T043242Z
UID:mf-AFLABS-URNIK:premaknjeno-srecanje:21496
ATTENDEE:4. LETNIK (EMŠ M)
CATEGORIES:Entry,Special
COLOR:forestgreen
DESCRIPTION:Predmet: Infekcijske bolezni in epidemiologija - Infekcijske b
 olezni (INFEKBEP-IB)\, Predavanje (P)\, [M4-16\, M4-17\, M4-18\, M4-19\, M
 4-20]\nLetniki: 4. LETNIK (EMŠ M)\nIzvajalci: Katedra za infekcijske bole
 zni i KIBE\nProstor: Pred - Ortopedija
LOCATION:Zaloška 9\, Pred - Ortopedija
ORGANIZER:Katedra za infekcijske bolezni i KIBE
RELATED-TO:mf-AFLABS-URNIK:srecanje:4181
X-WR-TIMEZONE:Europe/Ljubljana
END:VEVENT
BEGIN:VEVENT
SUMMARY:Infekcijske bolezni in epidemiologija - Infekcijske bolezni (INFEK
 BEP-IB)\, Predavanje (P)\, [M4-16\, M4-17\, M4-18\, M4-19\, M4-20]
DTSTART;TZID=Europe/Ljubljana:20241018T080000
DTEND;TZID=Europe/Ljubljana:20241018T100000
DTSTAMP:20260420T043242Z
UID:mf-AFLABS-URNIK:premaknjeno-srecanje:21497
ATTENDEE:4. LETNIK (EMŠ M)
CATEGORIES:Entry,Special
COLOR:forestgreen
DESCRIPTION:Predmet: Infekcijske bolezni in epidemiologija - Infekcijske b
 olezni (INFEKBEP-IB)\, Predavanje (P)\, [M4-16\, M4-17\, M4-18\, M4-19\, M
 4-20]\nLetniki: 4. LETNIK (EMŠ M)\nIzvajalci: Katedra za infekcijske bole
 zni i KIBE\nProstor: Pred - Ortopedija
LOCATION:Zaloška 9\, Pred - Ortopedija
ORGANIZER:Katedra za infekcijske bolezni i KIBE
RELATED-TO:mf-AFLABS-URNIK:srecanje:4181
X-WR-TIMEZONE:Europe/Ljubljana
END:VEVENT
BEGIN:VEVENT
SUMMARY:Infekcijske bolezni in epidemiologija - Infekcijske bolezni (INFEK
 BEP-IB)\, Predavanje (P)\, [M4-16\, M4-17\, M4-18\, M4-19\, M4-20]
DTSTART;TZID=Europe/Ljubljana:20241025T080000
DTEND;TZID=Europe/Ljubljana:20241025T100000
DTSTAMP:20260420T043242Z
UID:mf-AFLABS-URNIK:premaknjeno-srecanje:21498
ATTENDEE:4. LETNIK (EMŠ M)
CATEGORIES:Entry,Special
COLOR:forestgreen
DESCRIPTION:Predmet: Infekcijske bolezni in epidemiologija - Infekcijske b
 olezni (INFEKBEP-IB)\, Predavanje (P)\, [M4-16\, M4-17\, M4-18\, M4-19\, M
 4-20]\nLetniki: 4. LETNIK (EMŠ M)\nIzvajalci: Katedra za infekcijske bole
 zni i KIBE\nProstor: Pred - Ortopedija
LOCATION:Zaloška 9\, Pred - Ortopedija
ORGANIZER:Katedra za infekcijske bolezni i KIBE
RELATED-TO:mf-AFLABS-URNIK:srecanje:4181
X-WR-TIMEZONE:Europe/Ljubljana
END:VEVENT
BEGIN:VEVENT
SUMMARY:Infekcijske bolezni in epidemiologija - Infekcijske bolezni (INFEK
 BEP-IB)\, Seminar (S)\, [M4-16\, M4-17\, M4-18\, M4-19\, M4-20]
DTSTART;TZID=Europe/Ljubljana:20241004T100000
DTEND;TZID=Europe/Ljubljana:20241004T130000
DTSTAMP:20260420T043242Z
UID:mf-AFLABS-URNIK:premaknjeno-srecanje:21500
ATTENDEE:4. LETNIK (EMŠ M)
CATEGORIES:Entry,Special
COLOR:forestgreen
DESCRIPTION:Predmet: Infekcijske bolezni in epidemiologija - Infekcijske b
 olezni (INFEKBEP-IB)\, Seminar (S)\, [M4-16\, M4-17\, M4-18\, M4-19\, M4-2
 0]\nLetniki: 4. LETNIK (EMŠ M)\nIzvajalci: Katedra za infekcijske bolezni
  i KIBE\nProstor: Pred - Ortopedija
LOCATION:Zaloška 9\, Pred - Ortopedija
ORGANIZER:Katedra za infekcijske bolezni i KIBE
RELATED-TO:mf-AFLABS-URNIK:srecanje:4182
X-WR-TIMEZONE:Europe/Ljubljana
END:VEVENT
BEGIN:VEVENT
SUMMARY:Infekcijske bolezni in epidemiologija - Infekcijske bolezni (INFEK
 BEP-IB)\, Seminar (S)\, [M4-16\, M4-17\, M4-18\, M4-19\, M4-20]
DTSTART;TZID=Europe/Ljubljana:20241011T100000
DTEND;TZID=Europe/Ljubljana:20241011T130000
DTSTAMP:20260420T043242Z
UID:mf-AFLABS-URNIK:premaknjeno-srecanje:21501
ATTENDEE:4. LETNIK (EMŠ M)
CATEGORIES:Entry,Special
COLOR:forestgreen
DESCRIPTION:Predmet: Infekcijske bolezni in epidemiologija - Infekcijske b
 olezni (INFEKBEP-IB)\, Seminar (S)\, [M4-16\, M4-17\, M4-18\, M4-19\, M4-2
 0]\nLetniki: 4. LETNIK (EMŠ M)\nIzvajalci: Katedra za infekcijske bolezni
  i KIBE\nProstor: Pred - Ortopedija
LOCATION:Zaloška 9\, Pred - Ortopedija
ORGANIZER:Katedra za infekcijske bolezni i KIBE
RELATED-TO:mf-AFLABS-URNIK:srecanje:4182
X-WR-TIMEZONE:Europe/Ljubljana
END:VEVENT
BEGIN:VEVENT
SUMMARY:Infekcijske bolezni in epidemiologija - Infekcijske bolezni (INFEK
 BEP-IB)\, Seminar (S)\, [M4-16\, M4-17\, M4-18\, M4-19\, M4-20]
DTSTART;TZID=Europe/Ljubljana:20241018T100000
DTEND;TZID=Europe/Ljubljana:20241018T130000
DTSTAMP:20260420T043242Z
UID:mf-AFLABS-URNIK:premaknjeno-srecanje:21502
ATTENDEE:4. LETNIK (EMŠ M)
CATEGORIES:Entry,Special
COLOR:forestgreen
DESCRIPTION:Predmet: Infekcijske bolezni in epidemiologija - Infekcijske b
 olezni (INFEKBEP-IB)\, Seminar (S)\, [M4-16\, M4-17\, M4-18\, M4-19\, M4-2
 0]\nLetniki: 4. LETNIK (EMŠ M)\nIzvajalci: Katedra za infekcijske bolezni
  i KIBE\nProstor: Pred - Ortopedija
LOCATION:Zaloška 9\, Pred - Ortopedija
ORGANIZER:Katedra za infekcijske bolezni i KIBE
RELATED-TO:mf-AFLABS-URNIK:srecanje:4182
X-WR-TIMEZONE:Europe/Ljubljana
END:VEVENT
BEGIN:VEVENT
SUMMARY:Infekcijske bolezni in epidemiologija - Infekcijske bolezni (INFEK
 BEP-IB)\, Seminar (S)\, [M4-16\, M4-17\, M4-18\, M4-19\, M4-20]
DTSTART;TZID=Europe/Ljubljana:20241025T100000
DTEND;TZID=Europe/Ljubljana:20241025T130000
DTSTAMP:20260420T043242Z
UID:mf-AFLABS-URNIK:premaknjeno-srecanje:21503
ATTENDEE:4. LETNIK (EMŠ M)
CATEGORIES:Entry,Special
COLOR:forestgreen
DESCRIPTION:Predmet: Infekcijske bolezni in epidemiologija - Infekcijske b
 olezni (INFEKBEP-IB)\, Seminar (S)\, [M4-16\, M4-17\, M4-18\, M4-19\, M4-2
 0]\nLetniki: 4. LETNIK (EMŠ M)\nIzvajalci: Katedra za infekcijske bolezni
  i KIBE\nProstor: Pred - Ortopedija
LOCATION:Zaloška 9\, Pred - Ortopedija
ORGANIZER:Katedra za infekcijske bolezni i KIBE
RELATED-TO:mf-AFLABS-URNIK:srecanje:4182
X-WR-TIMEZONE:Europe/Ljubljana
END:VEVENT
BEGIN:VEVENT
SUMMARY:Infekcijske bolezni in epidemiologija - Infekcijske bolezni (INFEK
 BEP-IB)\, Seminar (S)\, [M4-16\, M4-17\, M4-18\, M4-19\, M4-20]
DTSTART;TZID=Europe/Ljubljana:20241004T100000
DTEND;TZID=Europe/Ljubljana:20241004T130000
DTSTAMP:20260420T043242Z
UID:mf-AFLABS-URNIK:premaknjeno-srecanje:21505
ATTENDEE:4. LETNIK (EMŠ M)
CATEGORIES:Entry,Special
COLOR:forestgreen
DESCRIPTION:Predmet: Infekcijske bolezni in epidemiologija - Infekcijske b
 olezni (INFEKBEP-IB)\, Seminar (S)\, [M4-16\, M4-17\, M4-18\, M4-19\, M4-2
 0]\nLetniki: 4. LETNIK (EMŠ M)\nIzvajalci: Katedra za infekcijske bolezni
  i KIBE\nProstor: Pred - 4 - UKC
LOCATION:Zaloška 7\, Pred - 4 - UKC
ORGANIZER:Katedra za infekcijske bolezni i KIBE
RELATED-TO:mf-AFLABS-URNIK:srecanje:4183
X-WR-TIMEZONE:Europe/Ljubljana
END:VEVENT
BEGIN:VEVENT
SUMMARY:Infekcijske bolezni in epidemiologija - Infekcijske bolezni (INFEK
 BEP-IB)\, Seminar (S)\, [M4-16\, M4-17\, M4-18\, M4-19\, M4-20]
DTSTART;TZID=Europe/Ljubljana:20241025T100000
DTEND;TZID=Europe/Ljubljana:20241025T130000
DTSTAMP:20260420T043242Z
UID:mf-AFLABS-URNIK:premaknjeno-srecanje:21506
ATTENDEE:4. LETNIK (EMŠ M)
CATEGORIES:Entry,Special
COLOR:forestgreen
DESCRIPTION:Predmet: Infekcijske bolezni in epidemiologija - Infekcijske b
 olezni (INFEKBEP-IB)\, Seminar (S)\, [M4-16\, M4-17\, M4-18\, M4-19\, M4-2
 0]\nLetniki: 4. LETNIK (EMŠ M)\nIzvajalci: Katedra za infekcijske bolezni
  i KIBE\nProstor: Pred - 4 - UKC
LOCATION:Zaloška 7\, Pred - 4 - UKC
ORGANIZER:Katedra za infekcijske bolezni i KIBE
RELATED-TO:mf-AFLABS-URNIK:srecanje:4183
X-WR-TIMEZONE:Europe/Ljubljana
END:VEVENT
BEGIN:VEVENT
SUMMARY:Infekcijske bolezni in epidemiologija - Infekcijske bolezni (INFEK
 BEP-IB)\, Predavanje (P)\, [M4-16\, M4-17\, M4-18\, M4-19\, M4-20]
DTSTART;TZID=Europe/Ljubljana:20241007T090000
DTEND;TZID=Europe/Ljubljana:20241007T150000
DTSTAMP:20260420T043242Z
UID:mf-AFLABS-URNIK:premaknjeno-srecanje:21509
ATTENDEE:4. LETNIK (EMŠ M)
CATEGORIES:Entry,Special
COLOR:forestgreen
DESCRIPTION:Predmet: Infekcijske bolezni in epidemiologija - Infekcijske b
 olezni (INFEKBEP-IB)\, Predavanje (P)\, [M4-16\, M4-17\, M4-18\, M4-19\, M
 4-20]\nLetniki: 4. LETNIK (EMŠ M)\nIzvajalci: Katedra za infekcijske bole
 zni i KIBE\nProstor: Pred - 3 - UKC
LOCATION:Zaloška 7\, Pred - 3 - UKC
ORGANIZER:Katedra za infekcijske bolezni i KIBE
RELATED-TO:mf-AFLABS-URNIK:srecanje:4185
X-WR-TIMEZONE:Europe/Ljubljana
END:VEVENT
BEGIN:VEVENT
SUMMARY:Infekcijske bolezni in epidemiologija - Infekcijske bolezni (INFEK
 BEP-IB)\, Predavanje (P)\, [M4-16\, M4-17\, M4-18\, M4-19\, M4-20]
DTSTART;TZID=Europe/Ljubljana:20241014T090000
DTEND;TZID=Europe/Ljubljana:20241014T150000
DTSTAMP:20260420T043242Z
UID:mf-AFLABS-URNIK:premaknjeno-srecanje:21510
ATTENDEE:4. LETNIK (EMŠ M)
CATEGORIES:Entry,Special
COLOR:forestgreen
DESCRIPTION:Predmet: Infekcijske bolezni in epidemiologija - Infekcijske b
 olezni (INFEKBEP-IB)\, Predavanje (P)\, [M4-16\, M4-17\, M4-18\, M4-19\, M
 4-20]\nLetniki: 4. LETNIK (EMŠ M)\nIzvajalci: Katedra za infekcijske bole
 zni i KIBE\nProstor: Pred - 3 - UKC
LOCATION:Zaloška 7\, Pred - 3 - UKC
ORGANIZER:Katedra za infekcijske bolezni i KIBE
RELATED-TO:mf-AFLABS-URNIK:srecanje:4185
X-WR-TIMEZONE:Europe/Ljubljana
END:VEVENT
BEGIN:VEVENT
SUMMARY:Infekcijske bolezni in epidemiologija - Infekcijske bolezni (INFEK
 BEP-IB)\, Predavanje (P)\, [M4-16\, M4-17\, M4-18\, M4-19\, M4-20]
DTSTART;TZID=Europe/Ljubljana:20241021T090000
DTEND;TZID=Europe/Ljubljana:20241021T150000
DTSTAMP:20260420T043242Z
UID:mf-AFLABS-URNIK:premaknjeno-srecanje:21511
ATTENDEE:4. LETNIK (EMŠ M)
CATEGORIES:Entry,Special
COLOR:forestgreen
DESCRIPTION:Predmet: Infekcijske bolezni in epidemiologija - Infekcijske b
 olezni (INFEKBEP-IB)\, Predavanje (P)\, [M4-16\, M4-17\, M4-18\, M4-19\, M
 4-20]\nLetniki: 4. LETNIK (EMŠ M)\nIzvajalci: Katedra za infekcijske bole
 zni i KIBE\nProstor: Pred - 3 - UKC
LOCATION:Zaloška 7\, Pred - 3 - UKC
ORGANIZER:Katedra za infekcijske bolezni i KIBE
RELATED-TO:mf-AFLABS-URNIK:srecanje:4185
X-WR-TIMEZONE:Europe/Ljubljana
END:VEVENT
BEGIN:VEVENT
SUMMARY:Infekcijske bolezni in epidemiologija - Infekcijske bolezni (INFEK
 BEP-IB)\, Predavanje (P)\, [M4-16\, M4-17\, M4-18\, M4-19\, M4-20]
DTSTART;TZID=Europe/Ljubljana:20241028T090000
DTEND;TZID=Europe/Ljubljana:20241028T150000
DTSTAMP:20260420T043242Z
UID:mf-AFLABS-URNIK:premaknjeno-srecanje:21512
ATTENDEE:4. LETNIK (EMŠ M)
CATEGORIES:Entry,Special
COLOR:forestgreen
DESCRIPTION:Predmet: Infekcijske bolezni in epidemiologija - Infekcijske b
 olezni (INFEKBEP-IB)\, Predavanje (P)\, [M4-16\, M4-17\, M4-18\, M4-19\, M
 4-20]\nLetniki: 4. LETNIK (EMŠ M)\nIzvajalci: Katedra za infekcijske bole
 zni i KIBE\nProstor: Pred - 3 - UKC
LOCATION:Zaloška 7\, Pred - 3 - UKC
ORGANIZER:Katedra za infekcijske bolezni i KIBE
RELATED-TO:mf-AFLABS-URNIK:srecanje:4185
X-WR-TIMEZONE:Europe/Ljubljana
END:VEVENT
BEGIN:VEVENT
SUMMARY:Tropska in potovalna medicina (TROPMED)\, Predavanje (P)
DTSTART;TZID=Europe/Ljubljana:20241007T180000
DTEND;TZID=Europe/Ljubljana:20241007T200000
DTSTAMP:20260420T043242Z
UID:mf-AFLABS-URNIK:premaknjeno-srecanje:21995
ATTENDEE:5. LETNIK (EMŠ M)
ATTENDEE:6. LETNIK (EMŠ M)
CATEGORIES:Entry,Standard
COLOR:darkgreen
DESCRIPTION:Predmet: Tropska in potovalna medicina (TROPMED)\, Predavanje 
 (P)\nLetniki: 5. LETNIK (EMŠ M)\, 6. LETNIK (EMŠ M)\nIzvajalci: Katedra 
 za infekcijske bolezni i KIBE\nProstor: Pred - Mala - MF
LOCATION:Korytkova 2\, Pred - Mala - MF
ORGANIZER:Katedra za infekcijske bolezni i KIBE
RELATED-TO:mf-AFLABS-URNIK:srecanje:4344
X-WR-TIMEZONE:Europe/Ljubljana
END:VEVENT
BEGIN:VEVENT
SUMMARY:Tropska in potovalna medicina (TROPMED)\, Predavanje (P)
DTSTART;TZID=Europe/Ljubljana:20241014T180000
DTEND;TZID=Europe/Ljubljana:20241014T200000
DTSTAMP:20260420T043242Z
UID:mf-AFLABS-URNIK:premaknjeno-srecanje:21996
ATTENDEE:5. LETNIK (EMŠ M)
ATTENDEE:6. LETNIK (EMŠ M)
CATEGORIES:Entry,Standard
COLOR:darkgreen
DESCRIPTION:Predmet: Tropska in potovalna medicina (TROPMED)\, Predavanje 
 (P)\nLetniki: 5. LETNIK (EMŠ M)\, 6. LETNIK (EMŠ M)\nIzvajalci: Katedra 
 za infekcijske bolezni i KIBE\nProstor: Pred - Mala - MF
LOCATION:Korytkova 2\, Pred - Mala - MF
ORGANIZER:Katedra za infekcijske bolezni i KIBE
RELATED-TO:mf-AFLABS-URNIK:srecanje:4344
X-WR-TIMEZONE:Europe/Ljubljana
END:VEVENT
BEGIN:VEVENT
SUMMARY:Tropska in potovalna medicina (TROPMED)\, Predavanje (P)
DTSTART;TZID=Europe/Ljubljana:20241021T180000
DTEND;TZID=Europe/Ljubljana:20241021T200000
DTSTAMP:20260420T043242Z
UID:mf-AFLABS-URNIK:premaknjeno-srecanje:21997
ATTENDEE:5. LETNIK (EMŠ M)
ATTENDEE:6. LETNIK (EMŠ M)
CATEGORIES:Entry,Standard
COLOR:darkgreen
DESCRIPTION:Predmet: Tropska in potovalna medicina (TROPMED)\, Predavanje 
 (P)\nLetniki: 5. LETNIK (EMŠ M)\, 6. LETNIK (EMŠ M)\nIzvajalci: Katedra 
 za infekcijske bolezni i KIBE\nProstor: Pred - Mala - MF
LOCATION:Korytkova 2\, Pred - Mala - MF
ORGANIZER:Katedra za infekcijske bolezni i KIBE
RELATED-TO:mf-AFLABS-URNIK:srecanje:4344
X-WR-TIMEZONE:Europe/Ljubljana
END:VEVENT
BEGIN:VEVENT
SUMMARY:Tropska in potovalna medicina (TROPMED)\, Predavanje (P)
DTSTART;TZID=Europe/Ljubljana:20241028T180000
DTEND;TZID=Europe/Ljubljana:20241028T200000
DTSTAMP:20260420T043242Z
UID:mf-AFLABS-URNIK:premaknjeno-srecanje:21998
ATTENDEE:5. LETNIK (EMŠ M)
ATTENDEE:6. LETNIK (EMŠ M)
CATEGORIES:Entry,Standard
COLOR:darkgreen
DESCRIPTION:Predmet: Tropska in potovalna medicina (TROPMED)\, Predavanje 
 (P)\nLetniki: 5. LETNIK (EMŠ M)\, 6. LETNIK (EMŠ M)\nIzvajalci: Katedra 
 za infekcijske bolezni i KIBE\nProstor: Pred - Mala - MF
LOCATION:Korytkova 2\, Pred - Mala - MF
ORGANIZER:Katedra za infekcijske bolezni i KIBE
RELATED-TO:mf-AFLABS-URNIK:srecanje:4344
X-WR-TIMEZONE:Europe/Ljubljana
END:VEVENT
BEGIN:VEVENT
SUMMARY:Tropska in potovalna medicina (TROPMED)\, Predavanje (P)
DTSTART;TZID=Europe/Ljubljana:20241104T180000
DTEND;TZID=Europe/Ljubljana:20241104T200000
DTSTAMP:20260420T043242Z
UID:mf-AFLABS-URNIK:premaknjeno-srecanje:21999
ATTENDEE:5. LETNIK (EMŠ M)
ATTENDEE:6. LETNIK (EMŠ M)
CATEGORIES:Entry,Standard
COLOR:darkgreen
DESCRIPTION:Predmet: Tropska in potovalna medicina (TROPMED)\, Predavanje 
 (P)\nLetniki: 5. LETNIK (EMŠ M)\, 6. LETNIK (EMŠ M)\nIzvajalci: Katedra 
 za infekcijske bolezni i KIBE\nProstor: Pred - Mala - MF
LOCATION:Korytkova 2\, Pred - Mala - MF
ORGANIZER:Katedra za infekcijske bolezni i KIBE
RELATED-TO:mf-AFLABS-URNIK:srecanje:4344
X-WR-TIMEZONE:Europe/Ljubljana
END:VEVENT
BEGIN:VEVENT
SUMMARY:Infekcijske bolezni in epidemiologija - Infekcijske bolezni (INFEK
 BEP-IB)\, Seminar (S)\, [M4-16\, M4-17\, M4-18\, M4-19\, M4-20]
DTSTART;TZID=Europe/Ljubljana:20241011T100000
DTEND;TZID=Europe/Ljubljana:20241011T130000
DTSTAMP:20260420T043242Z
UID:mf-AFLABS-URNIK:premaknjeno-srecanje:21513
ATTENDEE:4. LETNIK (EMŠ M)
CATEGORIES:Entry,Special
COLOR:forestgreen
DESCRIPTION:Predmet: Infekcijske bolezni in epidemiologija - Infekcijske b
 olezni (INFEKBEP-IB)\, Seminar (S)\, [M4-16\, M4-17\, M4-18\, M4-19\, M4-2
 0]\nLetniki: 4. LETNIK (EMŠ M)\nIzvajalci: Katedra za infekcijske bolezni
  i KIBE\nProstor: Pred - Travma - UKC
LOCATION:Zaloška 2\, Pred - Travma - UKC
ORGANIZER:Katedra za infekcijske bolezni i KIBE
RELATED-TO:mf-AFLABS-URNIK:srecanje:4186
X-WR-TIMEZONE:Europe/Ljubljana
END:VEVENT
BEGIN:VEVENT
SUMMARY:Infekcijske bolezni in epidemiologija - Infekcijske bolezni (INFEK
 BEP-IB)\, Seminar (S)\, [M4-16\, M4-17\, M4-18\, M4-19\, M4-20]
DTSTART;TZID=Europe/Ljubljana:20241018T100000
DTEND;TZID=Europe/Ljubljana:20241018T130000
DTSTAMP:20260420T043242Z
UID:mf-AFLABS-URNIK:premaknjeno-srecanje:21508
ATTENDEE:4. LETNIK (EMŠ M)
CATEGORIES:Entry,Special
COLOR:forestgreen
DESCRIPTION:Predmet: Infekcijske bolezni in epidemiologija - Infekcijske b
 olezni (INFEKBEP-IB)\, Seminar (S)\, [M4-16\, M4-17\, M4-18\, M4-19\, M4-2
 0]\nLetniki: 4. LETNIK (EMŠ M)\nIzvajalci: \nProstor: Modri salon - UKC
LOCATION:Zaloška 7\, Modri salon - UKC
RELATED-TO:mf-AFLABS-URNIK:srecanje:4184
X-WR-TIMEZONE:Europe/Ljubljana
END:VEVENT
BEGIN:VEVENT
SUMMARY:Pediatrija s klinično genetiko (PEDKG)\, Predavanje (P)
DTSTART;TZID=Europe/Ljubljana:20241022T150000
DTEND;TZID=Europe/Ljubljana:20241022T160000
DTSTAMP:20260420T043242Z
UID:mf-AFLABS-URNIK:premaknjeno-srecanje:13516
ATTENDEE:5. LETNIK (EMŠ DM)
CATEGORIES:Entry,Special
COLOR:forestgreen
DESCRIPTION:Predmet: Pediatrija s klinično genetiko (PEDKG)\, Predavanje 
 (P)\nLetniki: 5. LETNIK (EMŠ DM)\nIzvajalci: Katedra za infekcijske bolez
 ni i KIBE\, Katedra za maksilofacialno  in o KMOK\, Katedra za otroško in
  preventivn KOPZ\, Katedra za radiologijo KRD\, Katedra za ustne bolezni i
 n paro KUBP\, Katedra za zobne bolezni in norm KZBNMZO\nProstor: Pred - St
 oma
LOCATION:Hrvatski trg 6\, Pred - Stoma
ORGANIZER:Katedra za infekcijske bolezni i KIBE, Katedra za maksilofacialn
 o  in o KMOK, Katedra za otroško in preventivn KOPZ, Katedra za radiologi
 jo KRD, Katedra za ustne bolezni in paro KUBP, Katedra za zobne bolezni in
  norm KZBNMZO
RELATED-TO:mf-AFLABS-URNIK:srecanje:2538
X-WR-TIMEZONE:Europe/Ljubljana
END:VEVENT
BEGIN:VEVENT
SUMMARY:Pediatrija s klinično genetiko (PEDKG)\, Predavanje (P)
DTSTART;TZID=Europe/Ljubljana:20241029T150000
DTEND;TZID=Europe/Ljubljana:20241029T160000
DTSTAMP:20260420T043242Z
UID:mf-AFLABS-URNIK:premaknjeno-srecanje:13517
ATTENDEE:5. LETNIK (EMŠ DM)
CATEGORIES:Entry,Special
COLOR:forestgreen
DESCRIPTION:Predmet: Pediatrija s klinično genetiko (PEDKG)\, Predavanje 
 (P)\nLetniki: 5. LETNIK (EMŠ DM)\nIzvajalci: Katedra za infekcijske bolez
 ni i KIBE\, Katedra za maksilofacialno  in o KMOK\, Katedra za otroško in
  preventivn KOPZ\, Katedra za radiologijo KRD\, Katedra za ustne bolezni i
 n paro KUBP\, Katedra za zobne bolezni in norm KZBNMZO\nProstor: Pred - St
 oma
LOCATION:Hrvatski trg 6\, Pred - Stoma
ORGANIZER:Katedra za infekcijske bolezni i KIBE, Katedra za maksilofacialn
 o  in o KMOK, Katedra za otroško in preventivn KOPZ, Katedra za radiologi
 jo KRD, Katedra za ustne bolezni in paro KUBP, Katedra za zobne bolezni in
  norm KZBNMZO
RELATED-TO:mf-AFLABS-URNIK:srecanje:2538
X-WR-TIMEZONE:Europe/Ljubljana
END:VEVENT
BEGIN:VEVENT
SUMMARY:Pediatrija s klinično genetiko (PEDKG)\, Predavanje (P)
DTSTART;TZID=Europe/Ljubljana:20241105T150000
DTEND;TZID=Europe/Ljubljana:20241105T160000
DTSTAMP:20260420T043242Z
UID:mf-AFLABS-URNIK:premaknjeno-srecanje:13518
ATTENDEE:5. LETNIK (EMŠ DM)
CATEGORIES:Entry,Special
COLOR:forestgreen
DESCRIPTION:Predmet: Pediatrija s klinično genetiko (PEDKG)\, Predavanje 
 (P)\nLetniki: 5. LETNIK (EMŠ DM)\nIzvajalci: Katedra za infekcijske bolez
 ni i KIBE\, Katedra za maksilofacialno  in o KMOK\, Katedra za otroško in
  preventivn KOPZ\, Katedra za radiologijo KRD\, Katedra za ustne bolezni i
 n paro KUBP\, Katedra za zobne bolezni in norm KZBNMZO\nProstor: Pred - St
 oma
LOCATION:Hrvatski trg 6\, Pred - Stoma
ORGANIZER:Katedra za infekcijske bolezni i KIBE, Katedra za maksilofacialn
 o  in o KMOK, Katedra za otroško in preventivn KOPZ, Katedra za radiologi
 jo KRD, Katedra za ustne bolezni in paro KUBP, Katedra za zobne bolezni in
  norm KZBNMZO
RELATED-TO:mf-AFLABS-URNIK:srecanje:2538
X-WR-TIMEZONE:Europe/Ljubljana
END:VEVENT
BEGIN:VEVENT
SUMMARY:Pediatrija s klinično genetiko (PEDKG)\, Predavanje (P)
DTSTART;TZID=Europe/Ljubljana:20241024T130000
DTEND;TZID=Europe/Ljubljana:20241024T160000
DTSTAMP:20260420T043242Z
UID:mf-AFLABS-URNIK:premaknjeno-srecanje:13521
ATTENDEE:5. LETNIK (EMŠ DM)
CATEGORIES:Entry,Special
COLOR:forestgreen
DESCRIPTION:Predmet: Pediatrija s klinično genetiko (PEDKG)\, Predavanje 
 (P)\nLetniki: 5. LETNIK (EMŠ DM)\nIzvajalci: Katedra za infekcijske bolez
 ni i KIBE\, Katedra za maksilofacialno  in o KMOK\, Katedra za otroško in
  preventivn KOPZ\, Katedra za radiologijo KRD\, Katedra za ustne bolezni i
 n paro KUBP\, Katedra za zobne bolezni in norm KZBNMZO\nProstor: Pred - St
 oma
LOCATION:Hrvatski trg 6\, Pred - Stoma
ORGANIZER:Katedra za infekcijske bolezni i KIBE, Katedra za maksilofacialn
 o  in o KMOK, Katedra za otroško in preventivn KOPZ, Katedra za radiologi
 jo KRD, Katedra za ustne bolezni in paro KUBP, Katedra za zobne bolezni in
  norm KZBNMZO
RELATED-TO:mf-AFLABS-URNIK:srecanje:2539
X-WR-TIMEZONE:Europe/Ljubljana
END:VEVENT
END:VCALENDAR
