BEGIN:VCALENDAR
VERSION:2.0
PRODID:-//AFLabs urnik izvoz - mf//aflabs.si//SI
DTSTAMP:20260420T094332Z
NAME:UL MF urnik
REFRESH-INTERVAL:PT1H
SOURCE:https://afurnik-mf.dev.aflabs.org/teacher/17?day=2026-10-05&export=
 1
URL:https://afurnik-mf.dev.aflabs.org/teacher/17?day=2026-10-05&export=1
X-PUBLISHED-TTL:PT1H
X-WR-CALNAME:UL MF urnik
X-WR-TIMEZONE:Europe/Ljubljana
BEGIN:VTIMEZONE
TZID:Europe/Ljubljana
BEGIN:DAYLIGHT
DTSTART:20260329T020000
RDATE:20260329T020000
RDATE:20270328T020000
TZNAME:CEST
TZOFFSETFROM:+0100
TZOFFSETTO:+0200
END:DAYLIGHT
BEGIN:STANDARD
DTSTART:20261025T030000
RDATE:20261025T030000
RDATE:20271031T030000
TZNAME:CET
TZOFFSETFROM:+0200
TZOFFSETTO:+0100
END:STANDARD
END:VTIMEZONE
BEGIN:VEVENT
SUMMARY:IZPIT:Infekcijske bolezni in epidemiologija - Infekcijske bolezni
DTSTART;TZID=Europe/Ljubljana:20260901T100000
DTEND;TZID=Europe/Ljubljana:20260901T113000
DTSTAMP:20260420T094332Z
UID:mf-AFLABS-URNIK:rezervacija:8562
ATTENDEE:4. LETNIK (EMŠ M)
CATEGORIES:Reservation
COLOR:royalblue
DESCRIPTION:Predmeti: Infekcijske bolezni in epidemiologija - Infekcijske 
 bolezni (INFEKBEP-IB)\nLetniki: 4. LETNIK (EMŠ M)\nIzvajalci: Katedra za 
 infekcijske bolezni i KIBE\nProstori: Pred - Mala - MF
LOCATION:Korytkova 2\, Pred - Mala - MF
ORGANIZER:Katedra za infekcijske bolezni i KIBE
X-WR-TIMEZONE:Europe/Ljubljana
END:VEVENT
END:VCALENDAR
