BEGIN:VCALENDAR
VERSION:2.0
PRODID:-//AFLabs urnik izvoz - mf//aflabs.si//SI
DTSTAMP:20260420T071015Z
NAME:UL MF urnik
REFRESH-INTERVAL:PT1H
SOURCE:https://afurnik-mf.dev.aflabs.org/teacher/18?day=2023-09-25&export=
 1
URL:https://afurnik-mf.dev.aflabs.org/teacher/18?day=2023-09-25&export=1
X-PUBLISHED-TTL:PT1H
X-WR-CALNAME:UL MF urnik
X-WR-TIMEZONE:Europe/Ljubljana
BEGIN:VTIMEZONE
TZID:Europe/Ljubljana
BEGIN:DAYLIGHT
DTSTART:20260329T020000
RDATE:20260329T020000
RDATE:20270328T020000
TZNAME:CEST
TZOFFSETFROM:+0100
TZOFFSETTO:+0200
END:DAYLIGHT
BEGIN:STANDARD
DTSTART:20261025T030000
RDATE:20261025T030000
RDATE:20271031T030000
TZNAME:CET
TZOFFSETFROM:+0200
TZOFFSETTO:+0100
END:STANDARD
END:VTIMEZONE
BEGIN:VEVENT
SUMMARY:Interna medicina (INTERNA1DM)\, Predavanje (P)\, [D4-01\, D4-02\, 
 D4-03\, D4-04\, D4-05\, D4-06]
DTSTART;TZID=Europe/Ljubljana:20231005T150000
DTEND;TZID=Europe/Ljubljana:20231005T180000
DTSTAMP:20260420T071015Z
UID:mf-AFLABS-URNIK:premaknjeno-srecanje:6560
ATTENDEE:4. LETNIK (EMŠ DM)
CATEGORIES:Entry,Standard
COLOR:darkgreen
DESCRIPTION:Predmet: Interna medicina (INTERNA1DM)\, Predavanje (P)\, [D4-
 01\, D4-02\, D4-03\, D4-04\, D4-05\, D4-06]\nLetniki: 4. LETNIK (EMŠ DM)\
 nIzvajalci: Katedra za interno medicino KIM\nProstor: Pred - Srednja - MF
LOCATION:Korytkova 2\, Pred - Srednja - MF
ORGANIZER:Katedra za interno medicino KIM
RELATED-TO:mf-AFLABS-URNIK:srecanje:1273
X-WR-TIMEZONE:Europe/Ljubljana
END:VEVENT
BEGIN:VEVENT
SUMMARY:Interna medicina (INTERNA1DM)\, Predavanje (P)\, [D4-01\, D4-02\, 
 D4-03\, D4-04\, D4-05\, D4-06]
DTSTART;TZID=Europe/Ljubljana:20231012T150000
DTEND;TZID=Europe/Ljubljana:20231012T180000
DTSTAMP:20260420T071015Z
UID:mf-AFLABS-URNIK:premaknjeno-srecanje:6561
ATTENDEE:4. LETNIK (EMŠ DM)
CATEGORIES:Entry,Standard
COLOR:darkgreen
DESCRIPTION:Predmet: Interna medicina (INTERNA1DM)\, Predavanje (P)\, [D4-
 01\, D4-02\, D4-03\, D4-04\, D4-05\, D4-06]\nLetniki: 4. LETNIK (EMŠ DM)\
 nIzvajalci: Katedra za interno medicino KIM\nProstor: Pred - Srednja - MF
LOCATION:Korytkova 2\, Pred - Srednja - MF
ORGANIZER:Katedra za interno medicino KIM
RELATED-TO:mf-AFLABS-URNIK:srecanje:1273
X-WR-TIMEZONE:Europe/Ljubljana
END:VEVENT
BEGIN:VEVENT
SUMMARY:Interna medicina (INTERNA1DM)\, Predavanje (P)\, [D4-01\, D4-02\, 
 D4-03\, D4-04\, D4-05\, D4-06]
DTSTART;TZID=Europe/Ljubljana:20231019T150000
DTEND;TZID=Europe/Ljubljana:20231019T180000
DTSTAMP:20260420T071015Z
UID:mf-AFLABS-URNIK:premaknjeno-srecanje:6562
ATTENDEE:4. LETNIK (EMŠ DM)
CATEGORIES:Entry,Standard
COLOR:darkgreen
DESCRIPTION:Predmet: Interna medicina (INTERNA1DM)\, Predavanje (P)\, [D4-
 01\, D4-02\, D4-03\, D4-04\, D4-05\, D4-06]\nLetniki: 4. LETNIK (EMŠ DM)\
 nIzvajalci: Katedra za interno medicino KIM\nProstor: Pred - Srednja - MF
LOCATION:Korytkova 2\, Pred - Srednja - MF
ORGANIZER:Katedra za interno medicino KIM
RELATED-TO:mf-AFLABS-URNIK:srecanje:1273
X-WR-TIMEZONE:Europe/Ljubljana
END:VEVENT
BEGIN:VEVENT
SUMMARY:Interna medicina (INTERNA1DM)\, Predavanje (P)\, [D4-01\, D4-02\, 
 D4-03\, D4-04\, D4-05\, D4-06]
DTSTART;TZID=Europe/Ljubljana:20231026T150000
DTEND;TZID=Europe/Ljubljana:20231026T180000
DTSTAMP:20260420T071015Z
UID:mf-AFLABS-URNIK:premaknjeno-srecanje:6563
ATTENDEE:4. LETNIK (EMŠ DM)
CATEGORIES:Entry,Standard
COLOR:darkgreen
DESCRIPTION:Predmet: Interna medicina (INTERNA1DM)\, Predavanje (P)\, [D4-
 01\, D4-02\, D4-03\, D4-04\, D4-05\, D4-06]\nLetniki: 4. LETNIK (EMŠ DM)\
 nIzvajalci: Katedra za interno medicino KIM\nProstor: Pred - Srednja - MF
LOCATION:Korytkova 2\, Pred - Srednja - MF
ORGANIZER:Katedra za interno medicino KIM
RELATED-TO:mf-AFLABS-URNIK:srecanje:1273
X-WR-TIMEZONE:Europe/Ljubljana
END:VEVENT
END:VCALENDAR
