BEGIN:VCALENDAR
VERSION:2.0
PRODID:-//AFLabs urnik izvoz - mf//aflabs.si//SI
DTSTAMP:20260420T081653Z
NAME:UL MF urnik
REFRESH-INTERVAL:PT1H
SOURCE:https://afurnik-mf.dev.aflabs.org/teacher/18?day=2024-08-05&export=
 1
URL:https://afurnik-mf.dev.aflabs.org/teacher/18?day=2024-08-05&export=1
X-PUBLISHED-TTL:PT1H
X-WR-CALNAME:UL MF urnik
X-WR-TIMEZONE:Europe/Ljubljana
BEGIN:VTIMEZONE
TZID:Europe/Ljubljana
BEGIN:DAYLIGHT
DTSTART:20260329T020000
RDATE:20260329T020000
RDATE:20270328T020000
TZNAME:CEST
TZOFFSETFROM:+0100
TZOFFSETTO:+0200
END:DAYLIGHT
BEGIN:STANDARD
DTSTART:20261025T030000
RDATE:20261025T030000
RDATE:20271031T030000
TZNAME:CET
TZOFFSETFROM:+0200
TZOFFSETTO:+0100
END:STANDARD
END:VTIMEZONE
BEGIN:VEVENT
SUMMARY:Interna medicina za DM (INTERNADM)\, Predavanje (P)
DTSTART;TZID=Europe/Ljubljana:20241001T130000
DTEND;TZID=Europe/Ljubljana:20241001T140000
DTSTAMP:20260420T081653Z
UID:mf-AFLABS-URNIK:premaknjeno-srecanje:12151
ATTENDEE:4. LETNIK (EMŠ DM)
CATEGORIES:Entry,Special
COLOR:forestgreen
DESCRIPTION:Predmet: Interna medicina za DM (INTERNADM)\, Predavanje (P)\n
 Letniki: 4. LETNIK (EMŠ DM)\nIzvajalci: Katedra za interno medicino KIM\n
 Prostor: Pred - Travma - UKC
LOCATION:Zaloška 2\, Pred - Travma - UKC
ORGANIZER:Katedra za interno medicino KIM
RELATED-TO:mf-AFLABS-URNIK:srecanje:2352
X-WR-TIMEZONE:Europe/Ljubljana
END:VEVENT
BEGIN:VEVENT
SUMMARY:Interna medicina (INTMED)\, Vaje (V)\, [M6-01\, M6-02\, M6-03\, M6
 -04\, M6-05]
DTSTART;TZID=Europe/Ljubljana:20241001T080000
DTEND;TZID=Europe/Ljubljana:20241001T140000
DTSTAMP:20260420T081653Z
UID:mf-AFLABS-URNIK:premaknjeno-srecanje:19978
ATTENDEE:6. LETNIK (EMŠ M)
CATEGORIES:Entry,Special
COLOR:forestgreen
DESCRIPTION:Predmet: Interna medicina (INTMED)\, Vaje (V)\, [M6-01\, M6-02
 \, M6-03\, M6-04\, M6-05]\nLetniki: 6. LETNIK (EMŠ M)\nIzvajalci: Katedra
  za interno medicino KIM\nProstor: Drugje
LOCATION:Drugje
ORGANIZER:Katedra za interno medicino KIM
RELATED-TO:mf-AFLABS-URNIK:srecanje:3367
X-WR-TIMEZONE:Europe/Ljubljana
END:VEVENT
BEGIN:VEVENT
SUMMARY:Geriatrija 6M (GER-6M)\, Predavanje (P)\, [M6-16\, M6-17\, M6-18\,
  M6-19\, M6-20]
DTSTART;TZID=Europe/Ljubljana:20241001T080000
DTEND;TZID=Europe/Ljubljana:20241001T110000
DTSTAMP:20260420T081653Z
UID:mf-AFLABS-URNIK:premaknjeno-srecanje:20132
ATTENDEE:6. LETNIK (EMŠ M)
CATEGORIES:Entry,Special
COLOR:forestgreen
DESCRIPTION:Predmet: Geriatrija 6M (GER-6M)\, Predavanje (P)\, [M6-16\, M6
 -17\, M6-18\, M6-19\, M6-20]\nLetniki: 6. LETNIK (EMŠ M)\nIzvajalci: Kate
 dra za interno medicino KIM\nProstor: Pred - Travma - UKC
LOCATION:Zaloška 2\, Pred - Travma - UKC
ORGANIZER:Katedra za interno medicino KIM
RELATED-TO:mf-AFLABS-URNIK:srecanje:3387
X-WR-TIMEZONE:Europe/Ljubljana
END:VEVENT
BEGIN:VEVENT
SUMMARY:Obtočila (OBTO)\, Predavanje/seminar (P/S)\, [M4-01\, M4-02\, M4-
 03\, M4-04\, M4-05\, M5-01\, M5-02\, M5-03\, M5-04\, M5-05]
DTSTART;TZID=Europe/Ljubljana:20241001T080000
DTEND;TZID=Europe/Ljubljana:20241001T140000
DTSTAMP:20260420T081653Z
UID:mf-AFLABS-URNIK:premaknjeno-srecanje:21353
ATTENDEE:4. LETNIK (EMŠ M)
CATEGORIES:Entry,Special
COLOR:forestgreen
DESCRIPTION:Predmet: Obtočila (OBTO)\, Predavanje/seminar (P/S)\, [M4-01\
 , M4-02\, M4-03\, M4-04\, M4-05\, M5-01\, M5-02\, M5-03\, M5-04\, M5-05]\n
 Letniki: 4. LETNIK (EMŠ M)\nIzvajalci: Katedra za interno medicino KIM\nP
 rostor: Pred - Srednja - MF
LOCATION:Korytkova 2\, Pred - Srednja - MF
ORGANIZER:Katedra za interno medicino KIM
RELATED-TO:mf-AFLABS-URNIK:srecanje:4080
X-WR-TIMEZONE:Europe/Ljubljana
END:VEVENT
END:VCALENDAR
