BEGIN:VCALENDAR
VERSION:2.0
PRODID:-//AFLabs urnik izvoz - mf//aflabs.si//SI
DTSTAMP:20260420T065831Z
NAME:UL MF urnik
REFRESH-INTERVAL:PT1H
SOURCE:https://afurnik-mf.dev.aflabs.org/teacher/18?day=2026-10-19&export=
 1
URL:https://afurnik-mf.dev.aflabs.org/teacher/18?day=2026-10-19&export=1
X-PUBLISHED-TTL:PT1H
X-WR-CALNAME:UL MF urnik
X-WR-TIMEZONE:Europe/Ljubljana
BEGIN:VTIMEZONE
TZID:Europe/Ljubljana
BEGIN:DAYLIGHT
DTSTART:20260329T020000
RDATE:20260329T020000
RDATE:20270328T020000
TZNAME:CEST
TZOFFSETFROM:+0100
TZOFFSETTO:+0200
END:DAYLIGHT
BEGIN:STANDARD
DTSTART:20261025T030000
RDATE:20261025T030000
RDATE:20271031T030000
TZNAME:CET
TZOFFSETFROM:+0200
TZOFFSETTO:+0100
END:STANDARD
END:VTIMEZONE
BEGIN:VEVENT
SUMMARY:IZPIT:KM-Specialna propedevtika s kliničnimi veščinami
DTSTART;TZID=Europe/Ljubljana:20260914T080000
DTEND;TZID=Europe/Ljubljana:20260914T093000
DTSTAMP:20260420T065831Z
UID:mf-AFLABS-URNIK:rezervacija:8997
ATTENDEE:3. LETNIK (EMŠ M)
CATEGORIES:Reservation
COLOR:royalblue
DESCRIPTION:Predmeti: KM-Specialna propedevtika s kliničnimi veščinami 
 (KM-SPECPROP)\nLetniki: 3. LETNIK (EMŠ M)\nIzvajalci: Katedra za interno 
 medicino KIM\nProstori: Pred - Mala - MF
LOCATION:Korytkova 2\, Pred - Mala - MF
ORGANIZER:Katedra za interno medicino KIM
X-WR-TIMEZONE:Europe/Ljubljana
END:VEVENT
END:VCALENDAR
