BEGIN:VCALENDAR
VERSION:2.0
PRODID:-//AFLabs urnik izvoz - mf//aflabs.si//SI
DTSTAMP:20260420T071013Z
NAME:UL MF urnik
REFRESH-INTERVAL:PT1H
SOURCE:https://afurnik-mf.dev.aflabs.org/teacher/19?day=2023-09-11&export=
 1
URL:https://afurnik-mf.dev.aflabs.org/teacher/19?day=2023-09-11&export=1
X-PUBLISHED-TTL:PT1H
X-WR-CALNAME:UL MF urnik
X-WR-TIMEZONE:Europe/Ljubljana
BEGIN:VTIMEZONE
TZID:Europe/Ljubljana
BEGIN:DAYLIGHT
DTSTART:20260329T020000
RDATE:20260329T020000
RDATE:20270328T020000
TZNAME:CEST
TZOFFSETFROM:+0100
TZOFFSETTO:+0200
END:DAYLIGHT
BEGIN:STANDARD
DTSTART:20261025T030000
RDATE:20261025T030000
RDATE:20271031T030000
TZNAME:CET
TZOFFSETFROM:+0200
TZOFFSETTO:+0100
END:STANDARD
END:VTIMEZONE
BEGIN:VEVENT
SUMMARY:Javno zdravje v dentalni medicini (JZDM)\, Predavanje (P)\, [D2-01
 \, D2-02\, D2-03\, D2-04\, D2-05\, D2-06]
DTSTART;TZID=Europe/Ljubljana:20231003T090000
DTEND;TZID=Europe/Ljubljana:20231003T110000
DTSTAMP:20260420T071013Z
UID:mf-AFLABS-URNIK:premaknjeno-srecanje:3949
ATTENDEE:2. LETNIK (EMŠ DM)
CATEGORIES:Entry,Standard
COLOR:darkgreen
DESCRIPTION:Predmet: Javno zdravje v dentalni medicini (JZDM)\, Predavanje
  (P)\, [D2-01\, D2-02\, D2-03\, D2-04\, D2-05\, D2-06]\nLetniki: 2. LETNIK
  (EMŠ DM)\nIzvajalci: Katedra za javno zdravje KJZ\nProstor: Pred - Mala 
 - MF
LOCATION:Korytkova 2\, Pred - Mala - MF
ORGANIZER:Katedra za javno zdravje KJZ
RELATED-TO:mf-AFLABS-URNIK:srecanje:642
X-WR-TIMEZONE:Europe/Ljubljana
END:VEVENT
BEGIN:VEVENT
SUMMARY:Javno zdravje v dentalni medicini (JZDM)\, Predavanje (P)\, [D2-01
 \, D2-02\, D2-03\, D2-04\, D2-05\, D2-06]
DTSTART;TZID=Europe/Ljubljana:20231010T090000
DTEND;TZID=Europe/Ljubljana:20231010T110000
DTSTAMP:20260420T071013Z
UID:mf-AFLABS-URNIK:premaknjeno-srecanje:3950
ATTENDEE:2. LETNIK (EMŠ DM)
CATEGORIES:Entry,Standard
COLOR:darkgreen
DESCRIPTION:Predmet: Javno zdravje v dentalni medicini (JZDM)\, Predavanje
  (P)\, [D2-01\, D2-02\, D2-03\, D2-04\, D2-05\, D2-06]\nLetniki: 2. LETNIK
  (EMŠ DM)\nIzvajalci: Katedra za javno zdravje KJZ\nProstor: Pred - Mala 
 - MF
LOCATION:Korytkova 2\, Pred - Mala - MF
ORGANIZER:Katedra za javno zdravje KJZ
RELATED-TO:mf-AFLABS-URNIK:srecanje:642
X-WR-TIMEZONE:Europe/Ljubljana
END:VEVENT
BEGIN:VEVENT
SUMMARY:Medicinska klinika 1 (INFEK)\, Predavanja\, seminar (Pr)\, [D4-01\
 , D4-02\, D4-03\, D4-04\, D4-05\, D4-06]
DTSTART;TZID=Europe/Ljubljana:20231006T090000
DTEND;TZID=Europe/Ljubljana:20231006T120000
DTSTAMP:20260420T071013Z
UID:mf-AFLABS-URNIK:premaknjeno-srecanje:6546
ATTENDEE:4. LETNIK (EMŠ DM)
CATEGORIES:Entry,Standard
COLOR:darkgreen
DESCRIPTION:Predmet: Medicinska klinika 1 (INFEK)\, Predavanja\, seminar (
 Pr)\, [D4-01\, D4-02\, D4-03\, D4-04\, D4-05\, D4-06]\nLetniki: 4. LETNIK 
 (EMŠ DM)\nIzvajalci: Katedra za infekcijske bolezni i KIBE\, Katedra za j
 avno zdravje KJZ\nProstor: Pred - Infekcijska
LOCATION:Japljeva 2\, Pred - Infekcijska
ORGANIZER:Katedra za infekcijske bolezni i KIBE, Katedra za javno zdravje 
 KJZ
RELATED-TO:mf-AFLABS-URNIK:srecanje:1272
X-WR-TIMEZONE:Europe/Ljubljana
END:VEVENT
BEGIN:VEVENT
SUMMARY:Medicinska klinika 1 (INFEK)\, Predavanja\, seminar (Pr)\, [D4-01\
 , D4-02\, D4-03\, D4-04\, D4-05\, D4-06]
DTSTART;TZID=Europe/Ljubljana:20231013T090000
DTEND;TZID=Europe/Ljubljana:20231013T120000
DTSTAMP:20260420T071013Z
UID:mf-AFLABS-URNIK:premaknjeno-srecanje:6547
ATTENDEE:4. LETNIK (EMŠ DM)
CATEGORIES:Entry,Standard
COLOR:darkgreen
DESCRIPTION:Predmet: Medicinska klinika 1 (INFEK)\, Predavanja\, seminar (
 Pr)\, [D4-01\, D4-02\, D4-03\, D4-04\, D4-05\, D4-06]\nLetniki: 4. LETNIK 
 (EMŠ DM)\nIzvajalci: Katedra za infekcijske bolezni i KIBE\, Katedra za j
 avno zdravje KJZ\nProstor: Pred - Infekcijska
LOCATION:Japljeva 2\, Pred - Infekcijska
ORGANIZER:Katedra za infekcijske bolezni i KIBE, Katedra za javno zdravje 
 KJZ
RELATED-TO:mf-AFLABS-URNIK:srecanje:1272
X-WR-TIMEZONE:Europe/Ljubljana
END:VEVENT
BEGIN:VEVENT
SUMMARY:Javno zdravje v dentalni medicini (JZDM)\, Vaje (V)\, [D2-01\, D2-
 02]
DTSTART;TZID=Europe/Ljubljana:20231009T120000
DTEND;TZID=Europe/Ljubljana:20231009T140000
DTSTAMP:20260420T071013Z
UID:mf-AFLABS-URNIK:premaknjeno-srecanje:3965
ATTENDEE:2. LETNIK (EMŠ DM)
CATEGORIES:Entry,Standard
COLOR:darkgreen
DESCRIPTION:Predmet: Javno zdravje v dentalni medicini (JZDM)\, Vaje (V)\,
  [D2-01\, D2-02]\nLetniki: 2. LETNIK (EMŠ DM)\nIzvajalci: Katedra za javn
 o zdravje KJZ\nProstor: Sem - 1 - Katedra za javno zdravje
LOCATION:Zaloška 4\, Sem - 1 - Katedra za javno zdravje
ORGANIZER:Katedra za javno zdravje KJZ
RELATED-TO:mf-AFLABS-URNIK:srecanje:646
X-WR-TIMEZONE:Europe/Ljubljana
END:VEVENT
BEGIN:VEVENT
SUMMARY:Javno zdravje v dentalni medicini (JZDM)\, Vaje (V)\, [D2-01\, D2-
 02]
DTSTART;TZID=Europe/Ljubljana:20231016T120000
DTEND;TZID=Europe/Ljubljana:20231016T140000
DTSTAMP:20260420T071013Z
UID:mf-AFLABS-URNIK:premaknjeno-srecanje:3966
ATTENDEE:2. LETNIK (EMŠ DM)
CATEGORIES:Entry,Standard
COLOR:darkgreen
DESCRIPTION:Predmet: Javno zdravje v dentalni medicini (JZDM)\, Vaje (V)\,
  [D2-01\, D2-02]\nLetniki: 2. LETNIK (EMŠ DM)\nIzvajalci: Katedra za javn
 o zdravje KJZ\nProstor: Sem - 1 - Katedra za javno zdravje
LOCATION:Zaloška 4\, Sem - 1 - Katedra za javno zdravje
ORGANIZER:Katedra za javno zdravje KJZ
RELATED-TO:mf-AFLABS-URNIK:srecanje:646
X-WR-TIMEZONE:Europe/Ljubljana
END:VEVENT
BEGIN:VEVENT
SUMMARY:Javno zdravje v dentalni medicini (JZDM)\, Vaje (V)\, [D2-05\, D2-
 06]
DTSTART;TZID=Europe/Ljubljana:20231009T140000
DTEND;TZID=Europe/Ljubljana:20231009T160000
DTSTAMP:20260420T071013Z
UID:mf-AFLABS-URNIK:premaknjeno-srecanje:3974
ATTENDEE:2. LETNIK (EMŠ DM)
CATEGORIES:Entry,Standard
COLOR:darkgreen
DESCRIPTION:Predmet: Javno zdravje v dentalni medicini (JZDM)\, Vaje (V)\,
  [D2-05\, D2-06]\nLetniki: 2. LETNIK (EMŠ DM)\nIzvajalci: Katedra za javn
 o zdravje KJZ\nProstor: Sem - 1 - Katedra za javno zdravje
LOCATION:Zaloška 4\, Sem - 1 - Katedra za javno zdravje
ORGANIZER:Katedra za javno zdravje KJZ
RELATED-TO:mf-AFLABS-URNIK:srecanje:647
X-WR-TIMEZONE:Europe/Ljubljana
END:VEVENT
BEGIN:VEVENT
SUMMARY:Javno zdravje v dentalni medicini (JZDM)\, Vaje (V)\, [D2-05\, D2-
 06]
DTSTART;TZID=Europe/Ljubljana:20231016T140000
DTEND;TZID=Europe/Ljubljana:20231016T160000
DTSTAMP:20260420T071013Z
UID:mf-AFLABS-URNIK:premaknjeno-srecanje:3975
ATTENDEE:2. LETNIK (EMŠ DM)
CATEGORIES:Entry,Standard
COLOR:darkgreen
DESCRIPTION:Predmet: Javno zdravje v dentalni medicini (JZDM)\, Vaje (V)\,
  [D2-05\, D2-06]\nLetniki: 2. LETNIK (EMŠ DM)\nIzvajalci: Katedra za javn
 o zdravje KJZ\nProstor: Sem - 1 - Katedra za javno zdravje
LOCATION:Zaloška 4\, Sem - 1 - Katedra za javno zdravje
ORGANIZER:Katedra za javno zdravje KJZ
RELATED-TO:mf-AFLABS-URNIK:srecanje:647
X-WR-TIMEZONE:Europe/Ljubljana
END:VEVENT
BEGIN:VEVENT
SUMMARY:Javno zdravje v dentalni medicini (JZDM)\, Vaje (V)\, [D2-03\, D2-
 04]
DTSTART;TZID=Europe/Ljubljana:20231009T100000
DTEND;TZID=Europe/Ljubljana:20231009T120000
DTSTAMP:20260420T071013Z
UID:mf-AFLABS-URNIK:premaknjeno-srecanje:3983
ATTENDEE:2. LETNIK (EMŠ DM)
CATEGORIES:Entry,Standard
COLOR:darkgreen
DESCRIPTION:Predmet: Javno zdravje v dentalni medicini (JZDM)\, Vaje (V)\,
  [D2-03\, D2-04]\nLetniki: 2. LETNIK (EMŠ DM)\nIzvajalci: Katedra za javn
 o zdravje KJZ\nProstor: Sem - 1 - Katedra za javno zdravje
LOCATION:Zaloška 4\, Sem - 1 - Katedra za javno zdravje
ORGANIZER:Katedra za javno zdravje KJZ
RELATED-TO:mf-AFLABS-URNIK:srecanje:648
X-WR-TIMEZONE:Europe/Ljubljana
END:VEVENT
BEGIN:VEVENT
SUMMARY:Javno zdravje v dentalni medicini (JZDM)\, Vaje (V)\, [D2-03\, D2-
 04]
DTSTART;TZID=Europe/Ljubljana:20231016T100000
DTEND;TZID=Europe/Ljubljana:20231016T120000
DTSTAMP:20260420T071013Z
UID:mf-AFLABS-URNIK:premaknjeno-srecanje:3984
ATTENDEE:2. LETNIK (EMŠ DM)
CATEGORIES:Entry,Standard
COLOR:darkgreen
DESCRIPTION:Predmet: Javno zdravje v dentalni medicini (JZDM)\, Vaje (V)\,
  [D2-03\, D2-04]\nLetniki: 2. LETNIK (EMŠ DM)\nIzvajalci: Katedra za javn
 o zdravje KJZ\nProstor: Sem - 1 - Katedra za javno zdravje
LOCATION:Zaloška 4\, Sem - 1 - Katedra za javno zdravje
ORGANIZER:Katedra za javno zdravje KJZ
RELATED-TO:mf-AFLABS-URNIK:srecanje:648
X-WR-TIMEZONE:Europe/Ljubljana
END:VEVENT
END:VCALENDAR
