BEGIN:VCALENDAR
VERSION:2.0
PRODID:-//AFLabs urnik izvoz - mf//aflabs.si//SI
DTSTAMP:20260420T070012Z
NAME:UL MF urnik
REFRESH-INTERVAL:PT1H
SOURCE:https://afurnik-mf.dev.aflabs.org/teacher/19?day=2024-09-24&export=
 1
URL:https://afurnik-mf.dev.aflabs.org/teacher/19?day=2024-09-24&export=1
X-PUBLISHED-TTL:PT1H
X-WR-CALNAME:UL MF urnik
X-WR-TIMEZONE:Europe/Ljubljana
BEGIN:VTIMEZONE
TZID:Europe/Ljubljana
BEGIN:DAYLIGHT
DTSTART:20260329T020000
RDATE:20260329T020000
RDATE:20270328T020000
TZNAME:CEST
TZOFFSETFROM:+0100
TZOFFSETTO:+0200
END:DAYLIGHT
BEGIN:STANDARD
DTSTART:20261025T030000
RDATE:20261025T030000
RDATE:20271031T030000
TZNAME:CET
TZOFFSETFROM:+0200
TZOFFSETTO:+0100
END:STANDARD
END:VTIMEZONE
BEGIN:VEVENT
SUMMARY:Javno zdravje v dentalni medicini (JZDM)\, Predavanje (P)\, [D2-01
 \, D2-02\, D2-03\, D2-04\, D2-05\, D2-06]
DTSTART;TZID=Europe/Ljubljana:20241001T090000
DTEND;TZID=Europe/Ljubljana:20241001T110000
DTSTAMP:20260420T070012Z
UID:mf-AFLABS-URNIK:premaknjeno-srecanje:19409
ATTENDEE:2. LETNIK (EMŠ DM)
CATEGORIES:Entry,Special
COLOR:forestgreen
DESCRIPTION:Predmet: Javno zdravje v dentalni medicini (JZDM)\, Predavanje
  (P)\, [D2-01\, D2-02\, D2-03\, D2-04\, D2-05\, D2-06]\nLetniki: 2. LETNIK
  (EMŠ DM)\nIzvajalci: Katedra za javno zdravje KJZ\nProstor: Pred - Mala 
 - MF
LOCATION:Korytkova 2\, Pred - Mala - MF
ORGANIZER:Katedra za javno zdravje KJZ
RELATED-TO:mf-AFLABS-URNIK:srecanje:3270
X-WR-TIMEZONE:Europe/Ljubljana
END:VEVENT
BEGIN:VEVENT
SUMMARY:Javno zdravje v dentalni medicini (JZDM)\, Predavanje (P)\, [D2-01
 \, D2-02\, D2-03\, D2-04\, D2-05\, D2-06]
DTSTART;TZID=Europe/Ljubljana:20241008T090000
DTEND;TZID=Europe/Ljubljana:20241008T110000
DTSTAMP:20260420T070012Z
UID:mf-AFLABS-URNIK:premaknjeno-srecanje:19410
ATTENDEE:2. LETNIK (EMŠ DM)
CATEGORIES:Entry,Special
COLOR:forestgreen
DESCRIPTION:Predmet: Javno zdravje v dentalni medicini (JZDM)\, Predavanje
  (P)\, [D2-01\, D2-02\, D2-03\, D2-04\, D2-05\, D2-06]\nLetniki: 2. LETNIK
  (EMŠ DM)\nIzvajalci: Katedra za javno zdravje KJZ\nProstor: Pred - Mala 
 - MF
LOCATION:Korytkova 2\, Pred - Mala - MF
ORGANIZER:Katedra za javno zdravje KJZ
RELATED-TO:mf-AFLABS-URNIK:srecanje:3270
X-WR-TIMEZONE:Europe/Ljubljana
END:VEVENT
BEGIN:VEVENT
SUMMARY:Javno zdravje v dentalni medicini (JZDM)\, Predavanje (P)\, [D2-01
 \, D2-02\, D2-03\, D2-04\, D2-05\, D2-06]
DTSTART;TZID=Europe/Ljubljana:20241015T090000
DTEND;TZID=Europe/Ljubljana:20241015T110000
DTSTAMP:20260420T070012Z
UID:mf-AFLABS-URNIK:premaknjeno-srecanje:19411
ATTENDEE:2. LETNIK (EMŠ DM)
CATEGORIES:Entry,Special
COLOR:forestgreen
DESCRIPTION:Predmet: Javno zdravje v dentalni medicini (JZDM)\, Predavanje
  (P)\, [D2-01\, D2-02\, D2-03\, D2-04\, D2-05\, D2-06]\nLetniki: 2. LETNIK
  (EMŠ DM)\nIzvajalci: Katedra za javno zdravje KJZ\nProstor: Pred - Mala 
 - MF
LOCATION:Korytkova 2\, Pred - Mala - MF
ORGANIZER:Katedra za javno zdravje KJZ
RELATED-TO:mf-AFLABS-URNIK:srecanje:3270
X-WR-TIMEZONE:Europe/Ljubljana
END:VEVENT
BEGIN:VEVENT
SUMMARY:Javno zdravje v dentalni medicini (JZDM)\, Predavanje (P)\, [D2-01
 \, D2-02\, D2-03\, D2-04\, D2-05\, D2-06]
DTSTART;TZID=Europe/Ljubljana:20241022T090000
DTEND;TZID=Europe/Ljubljana:20241022T110000
DTSTAMP:20260420T070012Z
UID:mf-AFLABS-URNIK:premaknjeno-srecanje:19412
ATTENDEE:2. LETNIK (EMŠ DM)
CATEGORIES:Entry,Special
COLOR:forestgreen
DESCRIPTION:Predmet: Javno zdravje v dentalni medicini (JZDM)\, Predavanje
  (P)\, [D2-01\, D2-02\, D2-03\, D2-04\, D2-05\, D2-06]\nLetniki: 2. LETNIK
  (EMŠ DM)\nIzvajalci: Katedra za javno zdravje KJZ\nProstor: Pred - Mala 
 - MF
LOCATION:Korytkova 2\, Pred - Mala - MF
ORGANIZER:Katedra za javno zdravje KJZ
RELATED-TO:mf-AFLABS-URNIK:srecanje:3270
X-WR-TIMEZONE:Europe/Ljubljana
END:VEVENT
BEGIN:VEVENT
SUMMARY:Javno zdravje v dentalni medicini (JZDM)\, Predavanje (P)\, [D2-01
 \, D2-02\, D2-03\, D2-04\, D2-05\, D2-06]
DTSTART;TZID=Europe/Ljubljana:20241029T090000
DTEND;TZID=Europe/Ljubljana:20241029T110000
DTSTAMP:20260420T070012Z
UID:mf-AFLABS-URNIK:premaknjeno-srecanje:19413
ATTENDEE:2. LETNIK (EMŠ DM)
CATEGORIES:Entry,Special
COLOR:forestgreen
DESCRIPTION:Predmet: Javno zdravje v dentalni medicini (JZDM)\, Predavanje
  (P)\, [D2-01\, D2-02\, D2-03\, D2-04\, D2-05\, D2-06]\nLetniki: 2. LETNIK
  (EMŠ DM)\nIzvajalci: Katedra za javno zdravje KJZ\nProstor: Pred - Mala 
 - MF
LOCATION:Korytkova 2\, Pred - Mala - MF
ORGANIZER:Katedra za javno zdravje KJZ
RELATED-TO:mf-AFLABS-URNIK:srecanje:3270
X-WR-TIMEZONE:Europe/Ljubljana
END:VEVENT
BEGIN:VEVENT
SUMMARY:Javno zdravje v dentalni medicini (JZDM)\, Vaje (V)\, [D2-01\, D2-
 02]
DTSTART;TZID=Europe/Ljubljana:20241007T120000
DTEND;TZID=Europe/Ljubljana:20241007T140000
DTSTAMP:20260420T070012Z
UID:mf-AFLABS-URNIK:premaknjeno-srecanje:19425
ATTENDEE:2. LETNIK (EMŠ DM)
CATEGORIES:Entry,Special
COLOR:forestgreen
DESCRIPTION:Predmet: Javno zdravje v dentalni medicini (JZDM)\, Vaje (V)\,
  [D2-01\, D2-02]\nLetniki: 2. LETNIK (EMŠ DM)\nIzvajalci: Katedra za javn
 o zdravje KJZ\nProstor: Sem - 1 - Katedra za javno zdravje
LOCATION:Zaloška 4\, Sem - 1 - Katedra za javno zdravje
ORGANIZER:Katedra za javno zdravje KJZ
RELATED-TO:mf-AFLABS-URNIK:srecanje:3273
X-WR-TIMEZONE:Europe/Ljubljana
END:VEVENT
BEGIN:VEVENT
SUMMARY:Javno zdravje v dentalni medicini (JZDM)\, Vaje (V)\, [D2-01\, D2-
 02]
DTSTART;TZID=Europe/Ljubljana:20241014T120000
DTEND;TZID=Europe/Ljubljana:20241014T140000
DTSTAMP:20260420T070012Z
UID:mf-AFLABS-URNIK:premaknjeno-srecanje:19426
ATTENDEE:2. LETNIK (EMŠ DM)
CATEGORIES:Entry,Special
COLOR:forestgreen
DESCRIPTION:Predmet: Javno zdravje v dentalni medicini (JZDM)\, Vaje (V)\,
  [D2-01\, D2-02]\nLetniki: 2. LETNIK (EMŠ DM)\nIzvajalci: Katedra za javn
 o zdravje KJZ\nProstor: Sem - 1 - Katedra za javno zdravje
LOCATION:Zaloška 4\, Sem - 1 - Katedra za javno zdravje
ORGANIZER:Katedra za javno zdravje KJZ
RELATED-TO:mf-AFLABS-URNIK:srecanje:3273
X-WR-TIMEZONE:Europe/Ljubljana
END:VEVENT
BEGIN:VEVENT
SUMMARY:Javno zdravje v dentalni medicini (JZDM)\, Vaje (V)\, [D2-01\, D2-
 02]
DTSTART;TZID=Europe/Ljubljana:20241021T120000
DTEND;TZID=Europe/Ljubljana:20241021T140000
DTSTAMP:20260420T070012Z
UID:mf-AFLABS-URNIK:premaknjeno-srecanje:19427
ATTENDEE:2. LETNIK (EMŠ DM)
CATEGORIES:Entry,Special
COLOR:forestgreen
DESCRIPTION:Predmet: Javno zdravje v dentalni medicini (JZDM)\, Vaje (V)\,
  [D2-01\, D2-02]\nLetniki: 2. LETNIK (EMŠ DM)\nIzvajalci: Katedra za javn
 o zdravje KJZ\nProstor: Sem - 1 - Katedra za javno zdravje
LOCATION:Zaloška 4\, Sem - 1 - Katedra za javno zdravje
ORGANIZER:Katedra za javno zdravje KJZ
RELATED-TO:mf-AFLABS-URNIK:srecanje:3273
X-WR-TIMEZONE:Europe/Ljubljana
END:VEVENT
BEGIN:VEVENT
SUMMARY:Javno zdravje v dentalni medicini (JZDM)\, Vaje (V)\, [D2-01\, D2-
 02]
DTSTART;TZID=Europe/Ljubljana:20241028T120000
DTEND;TZID=Europe/Ljubljana:20241028T140000
DTSTAMP:20260420T070012Z
UID:mf-AFLABS-URNIK:premaknjeno-srecanje:19428
ATTENDEE:2. LETNIK (EMŠ DM)
CATEGORIES:Entry,Special
COLOR:forestgreen
DESCRIPTION:Predmet: Javno zdravje v dentalni medicini (JZDM)\, Vaje (V)\,
  [D2-01\, D2-02]\nLetniki: 2. LETNIK (EMŠ DM)\nIzvajalci: Katedra za javn
 o zdravje KJZ\nProstor: Sem - 1 - Katedra za javno zdravje
LOCATION:Zaloška 4\, Sem - 1 - Katedra za javno zdravje
ORGANIZER:Katedra za javno zdravje KJZ
RELATED-TO:mf-AFLABS-URNIK:srecanje:3273
X-WR-TIMEZONE:Europe/Ljubljana
END:VEVENT
BEGIN:VEVENT
SUMMARY:Javno zdravje v dentalni medicini (JZDM)\, Vaje (V)\, [D2-05\, D2-
 06]
DTSTART;TZID=Europe/Ljubljana:20241007T140000
DTEND;TZID=Europe/Ljubljana:20241007T160000
DTSTAMP:20260420T070012Z
UID:mf-AFLABS-URNIK:premaknjeno-srecanje:19436
ATTENDEE:2. LETNIK (EMŠ DM)
CATEGORIES:Entry,Special
COLOR:forestgreen
DESCRIPTION:Predmet: Javno zdravje v dentalni medicini (JZDM)\, Vaje (V)\,
  [D2-05\, D2-06]\nLetniki: 2. LETNIK (EMŠ DM)\nIzvajalci: Katedra za javn
 o zdravje KJZ\nProstor: Sem - 1 - Katedra za javno zdravje
LOCATION:Zaloška 4\, Sem - 1 - Katedra za javno zdravje
ORGANIZER:Katedra za javno zdravje KJZ
RELATED-TO:mf-AFLABS-URNIK:srecanje:3274
X-WR-TIMEZONE:Europe/Ljubljana
END:VEVENT
BEGIN:VEVENT
SUMMARY:Javno zdravje v dentalni medicini (JZDM)\, Vaje (V)\, [D2-05\, D2-
 06]
DTSTART;TZID=Europe/Ljubljana:20241014T140000
DTEND;TZID=Europe/Ljubljana:20241014T160000
DTSTAMP:20260420T070012Z
UID:mf-AFLABS-URNIK:premaknjeno-srecanje:19437
ATTENDEE:2. LETNIK (EMŠ DM)
CATEGORIES:Entry,Special
COLOR:forestgreen
DESCRIPTION:Predmet: Javno zdravje v dentalni medicini (JZDM)\, Vaje (V)\,
  [D2-05\, D2-06]\nLetniki: 2. LETNIK (EMŠ DM)\nIzvajalci: Katedra za javn
 o zdravje KJZ\nProstor: Sem - 1 - Katedra za javno zdravje
LOCATION:Zaloška 4\, Sem - 1 - Katedra za javno zdravje
ORGANIZER:Katedra za javno zdravje KJZ
RELATED-TO:mf-AFLABS-URNIK:srecanje:3274
X-WR-TIMEZONE:Europe/Ljubljana
END:VEVENT
BEGIN:VEVENT
SUMMARY:Javno zdravje v dentalni medicini (JZDM)\, Vaje (V)\, [D2-05\, D2-
 06]
DTSTART;TZID=Europe/Ljubljana:20241021T140000
DTEND;TZID=Europe/Ljubljana:20241021T160000
DTSTAMP:20260420T070012Z
UID:mf-AFLABS-URNIK:premaknjeno-srecanje:19438
ATTENDEE:2. LETNIK (EMŠ DM)
CATEGORIES:Entry,Special
COLOR:forestgreen
DESCRIPTION:Predmet: Javno zdravje v dentalni medicini (JZDM)\, Vaje (V)\,
  [D2-05\, D2-06]\nLetniki: 2. LETNIK (EMŠ DM)\nIzvajalci: Katedra za javn
 o zdravje KJZ\nProstor: Sem - 1 - Katedra za javno zdravje
LOCATION:Zaloška 4\, Sem - 1 - Katedra za javno zdravje
ORGANIZER:Katedra za javno zdravje KJZ
RELATED-TO:mf-AFLABS-URNIK:srecanje:3274
X-WR-TIMEZONE:Europe/Ljubljana
END:VEVENT
BEGIN:VEVENT
SUMMARY:Javno zdravje v dentalni medicini (JZDM)\, Vaje (V)\, [D2-05\, D2-
 06]
DTSTART;TZID=Europe/Ljubljana:20241028T140000
DTEND;TZID=Europe/Ljubljana:20241028T160000
DTSTAMP:20260420T070012Z
UID:mf-AFLABS-URNIK:premaknjeno-srecanje:19439
ATTENDEE:2. LETNIK (EMŠ DM)
CATEGORIES:Entry,Special
COLOR:forestgreen
DESCRIPTION:Predmet: Javno zdravje v dentalni medicini (JZDM)\, Vaje (V)\,
  [D2-05\, D2-06]\nLetniki: 2. LETNIK (EMŠ DM)\nIzvajalci: Katedra za javn
 o zdravje KJZ\nProstor: Sem - 1 - Katedra za javno zdravje
LOCATION:Zaloška 4\, Sem - 1 - Katedra za javno zdravje
ORGANIZER:Katedra za javno zdravje KJZ
RELATED-TO:mf-AFLABS-URNIK:srecanje:3274
X-WR-TIMEZONE:Europe/Ljubljana
END:VEVENT
BEGIN:VEVENT
SUMMARY:Javno zdravje v dentalni medicini (JZDM)\, Vaje (V)\, [D2-03\, D2-
 04]
DTSTART;TZID=Europe/Ljubljana:20241007T100000
DTEND;TZID=Europe/Ljubljana:20241007T120000
DTSTAMP:20260420T070012Z
UID:mf-AFLABS-URNIK:premaknjeno-srecanje:19447
ATTENDEE:2. LETNIK (EMŠ DM)
CATEGORIES:Entry,Special
COLOR:forestgreen
DESCRIPTION:Predmet: Javno zdravje v dentalni medicini (JZDM)\, Vaje (V)\,
  [D2-03\, D2-04]\nLetniki: 2. LETNIK (EMŠ DM)\nIzvajalci: Katedra za javn
 o zdravje KJZ\nProstor: Sem - 1 - Katedra za javno zdravje
LOCATION:Zaloška 4\, Sem - 1 - Katedra za javno zdravje
ORGANIZER:Katedra za javno zdravje KJZ
RELATED-TO:mf-AFLABS-URNIK:srecanje:3275
X-WR-TIMEZONE:Europe/Ljubljana
END:VEVENT
BEGIN:VEVENT
SUMMARY:Javno zdravje v dentalni medicini (JZDM)\, Vaje (V)\, [D2-03\, D2-
 04]
DTSTART;TZID=Europe/Ljubljana:20241014T100000
DTEND;TZID=Europe/Ljubljana:20241014T120000
DTSTAMP:20260420T070012Z
UID:mf-AFLABS-URNIK:premaknjeno-srecanje:19448
ATTENDEE:2. LETNIK (EMŠ DM)
CATEGORIES:Entry,Special
COLOR:forestgreen
DESCRIPTION:Predmet: Javno zdravje v dentalni medicini (JZDM)\, Vaje (V)\,
  [D2-03\, D2-04]\nLetniki: 2. LETNIK (EMŠ DM)\nIzvajalci: Katedra za javn
 o zdravje KJZ\nProstor: Sem - 1 - Katedra za javno zdravje
LOCATION:Zaloška 4\, Sem - 1 - Katedra za javno zdravje
ORGANIZER:Katedra za javno zdravje KJZ
RELATED-TO:mf-AFLABS-URNIK:srecanje:3275
X-WR-TIMEZONE:Europe/Ljubljana
END:VEVENT
BEGIN:VEVENT
SUMMARY:Javno zdravje v dentalni medicini (JZDM)\, Vaje (V)\, [D2-03\, D2-
 04]
DTSTART;TZID=Europe/Ljubljana:20241021T100000
DTEND;TZID=Europe/Ljubljana:20241021T120000
DTSTAMP:20260420T070012Z
UID:mf-AFLABS-URNIK:premaknjeno-srecanje:19449
ATTENDEE:2. LETNIK (EMŠ DM)
CATEGORIES:Entry,Special
COLOR:forestgreen
DESCRIPTION:Predmet: Javno zdravje v dentalni medicini (JZDM)\, Vaje (V)\,
  [D2-03\, D2-04]\nLetniki: 2. LETNIK (EMŠ DM)\nIzvajalci: Katedra za javn
 o zdravje KJZ\nProstor: Sem - 1 - Katedra za javno zdravje
LOCATION:Zaloška 4\, Sem - 1 - Katedra za javno zdravje
ORGANIZER:Katedra za javno zdravje KJZ
RELATED-TO:mf-AFLABS-URNIK:srecanje:3275
X-WR-TIMEZONE:Europe/Ljubljana
END:VEVENT
BEGIN:VEVENT
SUMMARY:Javno zdravje v dentalni medicini (JZDM)\, Vaje (V)\, [D2-03\, D2-
 04]
DTSTART;TZID=Europe/Ljubljana:20241028T100000
DTEND;TZID=Europe/Ljubljana:20241028T120000
DTSTAMP:20260420T070012Z
UID:mf-AFLABS-URNIK:premaknjeno-srecanje:19450
ATTENDEE:2. LETNIK (EMŠ DM)
CATEGORIES:Entry,Special
COLOR:forestgreen
DESCRIPTION:Predmet: Javno zdravje v dentalni medicini (JZDM)\, Vaje (V)\,
  [D2-03\, D2-04]\nLetniki: 2. LETNIK (EMŠ DM)\nIzvajalci: Katedra za javn
 o zdravje KJZ\nProstor: Sem - 1 - Katedra za javno zdravje
LOCATION:Zaloška 4\, Sem - 1 - Katedra za javno zdravje
ORGANIZER:Katedra za javno zdravje KJZ
RELATED-TO:mf-AFLABS-URNIK:srecanje:3275
X-WR-TIMEZONE:Europe/Ljubljana
END:VEVENT
BEGIN:VEVENT
SUMMARY:Primarno zdravstveno varstvo (PZV)\, Predavanje (P)\, [M6-11\, M6-
 12\, M6-13\, M6-14\, M6-15]
DTSTART;TZID=Europe/Ljubljana:20241007T130000
DTEND;TZID=Europe/Ljubljana:20241007T183000
DTSTAMP:20260420T070012Z
UID:mf-AFLABS-URNIK:premaknjeno-srecanje:20297
ATTENDEE:6. LETNIK (EMŠ M)
CATEGORIES:Entry,Special
COLOR:forestgreen
DESCRIPTION:Predmet: Primarno zdravstveno varstvo (PZV)\, Predavanje (P)\,
  [M6-11\, M6-12\, M6-13\, M6-14\, M6-15]\nLetniki: 6. LETNIK (EMŠ M)\nIzv
 ajalci: Katedra za javno zdravje KJZ\nProstor: Pred - Travma - UKC
LOCATION:Zaloška 2\, Pred - Travma - UKC
ORGANIZER:Katedra za javno zdravje KJZ
RELATED-TO:mf-AFLABS-URNIK:srecanje:3447
X-WR-TIMEZONE:Europe/Ljubljana
END:VEVENT
BEGIN:VEVENT
SUMMARY:Primarno zdravstveno varstvo (PZV)\, Predavanje (P)\, [M6-11\, M6-
 12\, M6-13\, M6-14\, M6-15]
DTSTART;TZID=Europe/Ljubljana:20241014T130000
DTEND;TZID=Europe/Ljubljana:20241014T183000
DTSTAMP:20260420T070012Z
UID:mf-AFLABS-URNIK:premaknjeno-srecanje:20298
ATTENDEE:6. LETNIK (EMŠ M)
CATEGORIES:Entry,Special
COLOR:forestgreen
DESCRIPTION:Predmet: Primarno zdravstveno varstvo (PZV)\, Predavanje (P)\,
  [M6-11\, M6-12\, M6-13\, M6-14\, M6-15]\nLetniki: 6. LETNIK (EMŠ M)\nIzv
 ajalci: Katedra za javno zdravje KJZ\nProstor: Pred - Lesena - MF
LOCATION:Zaloška 4\, Pred - Lesena - MF
ORGANIZER:Katedra za javno zdravje KJZ
RELATED-TO:mf-AFLABS-URNIK:srecanje:3448
X-WR-TIMEZONE:Europe/Ljubljana
END:VEVENT
BEGIN:VEVENT
SUMMARY:Primarno zdravstveno varstvo (PZV)\, Predavanje (P)\, [M6-11\, M6-
 12\, M6-13\, M6-14\, M6-15]
DTSTART;TZID=Europe/Ljubljana:20241021T130000
DTEND;TZID=Europe/Ljubljana:20241021T183000
DTSTAMP:20260420T070012Z
UID:mf-AFLABS-URNIK:premaknjeno-srecanje:20299
ATTENDEE:6. LETNIK (EMŠ M)
CATEGORIES:Entry,Special
COLOR:forestgreen
DESCRIPTION:Predmet: Primarno zdravstveno varstvo (PZV)\, Predavanje (P)\,
  [M6-11\, M6-12\, M6-13\, M6-14\, M6-15]\nLetniki: 6. LETNIK (EMŠ M)\nIzv
 ajalci: Katedra za javno zdravje KJZ\nProstor: Pred - Lesena - MF
LOCATION:Zaloška 4\, Pred - Lesena - MF
ORGANIZER:Katedra za javno zdravje KJZ
RELATED-TO:mf-AFLABS-URNIK:srecanje:3448
X-WR-TIMEZONE:Europe/Ljubljana
END:VEVENT
BEGIN:VEVENT
SUMMARY:Javno zdravje v dentalni medicini (JZDM)\, Seminar (S)\, [D2-01\, 
 D2-02\, D2-03\, D2-04\, D2-05\, D2-06]
DTSTART;TZID=Europe/Ljubljana:20241023T160000
DTEND;TZID=Europe/Ljubljana:20241023T180000
DTSTAMP:20260420T070012Z
UID:mf-AFLABS-URNIK:premaknjeno-srecanje:19421
ATTENDEE:2. LETNIK (EMŠ DM)
CATEGORIES:Entry,Special
COLOR:forestgreen
DESCRIPTION:Predmet: Javno zdravje v dentalni medicini (JZDM)\, Seminar (S
 )\, [D2-01\, D2-02\, D2-03\, D2-04\, D2-05\, D2-06]\nLetniki: 2. LETNIK (E
 MŠ DM)\nIzvajalci: Katedra za javno zdravje KJZ\nProstor: Pred - Fiziolog
 ija
LOCATION:Zaloška 4\, Pred - Fiziologija
ORGANIZER:Katedra za javno zdravje KJZ
RELATED-TO:mf-AFLABS-URNIK:srecanje:3272
X-WR-TIMEZONE:Europe/Ljubljana
END:VEVENT
END:VCALENDAR
