BEGIN:VCALENDAR
VERSION:2.0
PRODID:-//AFLabs urnik izvoz - mf//aflabs.si//SI
DTSTAMP:20260420T065753Z
NAME:UL MF urnik
REFRESH-INTERVAL:PT1H
SOURCE:https://afurnik-mf.dev.aflabs.org/teacher/19?day=2026-10-12&export=
 1
URL:https://afurnik-mf.dev.aflabs.org/teacher/19?day=2026-10-12&export=1
X-PUBLISHED-TTL:PT1H
X-WR-CALNAME:UL MF urnik
X-WR-TIMEZONE:Europe/Ljubljana
BEGIN:VTIMEZONE
TZID:Europe/Ljubljana
BEGIN:DAYLIGHT
DTSTART:20260329T020000
RDATE:20260329T020000
RDATE:20270328T020000
TZNAME:CEST
TZOFFSETFROM:+0100
TZOFFSETTO:+0200
END:DAYLIGHT
BEGIN:STANDARD
DTSTART:20261025T030000
RDATE:20261025T030000
RDATE:20271031T030000
TZNAME:CET
TZOFFSETFROM:+0200
TZOFFSETTO:+0100
END:STANDARD
END:VTIMEZONE
BEGIN:VEVENT
SUMMARY:IZPIT: podaljšan čas
DTSTART;TZID=Europe/Ljubljana:20260908T070000
DTEND;TZID=Europe/Ljubljana:20260908T093000
DTSTAMP:20260420T065753Z
UID:mf-AFLABS-URNIK:rezervacija:9484
ATTENDEE:5. LETNIK (EMŠ M)
ATTENDEE:6. LETNIK (EMŠ M)
CATEGORIES:Reservation
COLOR:royalblue
DESCRIPTION:Predmeti: Medicina dela (MD)\, Perioperativna medicina (PERIOP
 M)\nLetniki: 5. LETNIK (EMŠ M)\, 6. LETNIK (EMŠ M)\nIzvajalci: \nProstor
 i: Sem - 2 - MF
LOCATION:Korytkova 2\, Sem - 2 - MF
X-WR-TIMEZONE:Europe/Ljubljana
END:VEVENT
BEGIN:VEVENT
SUMMARY:IZPIT:Medicina dela
DTSTART;TZID=Europe/Ljubljana:20260908T080000
DTEND;TZID=Europe/Ljubljana:20260908T093000
DTSTAMP:20260420T065753Z
UID:mf-AFLABS-URNIK:rezervacija:9855
ATTENDEE:5. LETNIK (EMŠ M)
CATEGORIES:Reservation
COLOR:royalblue
DESCRIPTION:Predmeti: Medicina dela (MD)\nLetniki: 5. LETNIK (EMŠ M)\nIzv
 ajalci: \nProstori: Pred - Mala - MF\, Sem - 2 - MF
LOCATION:Korytkova 2\, Pred - Mala - MF\, Korytkova 2\, Sem - 2 - MF
X-WR-TIMEZONE:Europe/Ljubljana
END:VEVENT
END:VCALENDAR
