BEGIN:VCALENDAR
VERSION:2.0
PRODID:-//AFLabs urnik izvoz - mf//aflabs.si//SI
DTSTAMP:20260420T075114Z
NAME:UL MF urnik
REFRESH-INTERVAL:PT1H
SOURCE:https://afurnik-mf.dev.aflabs.org/teacher/1?day=2023-08-28&export=1
URL:https://afurnik-mf.dev.aflabs.org/teacher/1?day=2023-08-28&export=1
X-PUBLISHED-TTL:PT1H
X-WR-CALNAME:UL MF urnik
X-WR-TIMEZONE:Europe/Ljubljana
BEGIN:VTIMEZONE
TZID:Europe/Ljubljana
BEGIN:DAYLIGHT
DTSTART:20260329T020000
RDATE:20260329T020000
RDATE:20270328T020000
TZNAME:CEST
TZOFFSETFROM:+0100
TZOFFSETTO:+0200
END:DAYLIGHT
BEGIN:STANDARD
DTSTART:20261025T030000
RDATE:20261025T030000
RDATE:20271031T030000
TZNAME:CET
TZOFFSETFROM:+0200
TZOFFSETTO:+0100
END:STANDARD
END:VTIMEZONE
BEGIN:VEVENT
SUMMARY:ANADM-Anatomija telesa (ANADM-AT)\, Predavanje (P)
DTSTART;TZID=Europe/Ljubljana:20231002T100000
DTEND;TZID=Europe/Ljubljana:20231002T110000
DTSTAMP:20260420T075114Z
UID:mf-AFLABS-URNIK:premaknjeno-srecanje:1927
ATTENDEE:1. LETNIK (EMŠ DM)
CATEGORIES:Entry,Standard
COLOR:darkgreen
DESCRIPTION:Predmet: ANADM-Anatomija telesa (ANADM-AT)\, Predavanje (P)\nL
 etniki: 1. LETNIK (EMŠ DM)\nIzvajalci: Inštitut za anatomijo IAN\nProsto
 r: Pred - Mala - MF
LOCATION:Korytkova 2\, Pred - Mala - MF
ORGANIZER:Inštitut za anatomijo IAN
RELATED-TO:mf-AFLABS-URNIK:srecanje:319
X-WR-TIMEZONE:Europe/Ljubljana
END:VEVENT
END:VCALENDAR
