BEGIN:VCALENDAR
VERSION:2.0
PRODID:-//AFLabs urnik izvoz - mf//aflabs.si//SI
DTSTAMP:20260420T075654Z
NAME:UL MF urnik
REFRESH-INTERVAL:PT1H
SOURCE:https://afurnik-mf.dev.aflabs.org/teacher/1?day=2024-09-09&export=1
URL:https://afurnik-mf.dev.aflabs.org/teacher/1?day=2024-09-09&export=1
X-PUBLISHED-TTL:PT1H
X-WR-CALNAME:UL MF urnik
X-WR-TIMEZONE:Europe/Ljubljana
BEGIN:VTIMEZONE
TZID:Europe/Ljubljana
BEGIN:DAYLIGHT
DTSTART:20260329T020000
RDATE:20260329T020000
RDATE:20270328T020000
TZNAME:CEST
TZOFFSETFROM:+0100
TZOFFSETTO:+0200
END:DAYLIGHT
BEGIN:STANDARD
DTSTART:20261025T030000
RDATE:20261025T030000
RDATE:20271031T030000
TZNAME:CET
TZOFFSETFROM:+0200
TZOFFSETTO:+0100
END:STANDARD
END:VTIMEZONE
BEGIN:VEVENT
SUMMARY:Funkcionalna in klinično-aplikativna histologija in anatomija (FK
 HA)\, Predavanje (P)\, [M2-01\, M2-02\, M2-03\, M2-04\, M2-05\, M2-06\, M2
 -07\, M2-08\, M2-09\, M2-10\, M2-11\, M2-12\, M2-13\, M2-14\, M2-15\, M2-1
 6\, M2-17\, M2-18\, M2-19\, M2-20]
DTSTART;TZID=Europe/Ljubljana:20241001T160000
DTEND;TZID=Europe/Ljubljana:20241001T170000
DTSTAMP:20260420T075654Z
UID:mf-AFLABS-URNIK:premaknjeno-srecanje:18073
ATTENDEE:2. LETNIK (EMŠ M)
CATEGORIES:Entry,Special
COLOR:forestgreen
DESCRIPTION:Predmet: Funkcionalna in klinično-aplikativna histologija in 
 anatomija (FKHA)\, Predavanje (P)\, [M2-01\, M2-02\, M2-03\, M2-04\, M2-05
 \, M2-06\, M2-07\, M2-08\, M2-09\, M2-10\, M2-11\, M2-12\, M2-13\, M2-14\,
  M2-15\, M2-16\, M2-17\, M2-18\, M2-19\, M2-20]\nLetniki: 2. LETNIK (EMŠ 
 M)\nIzvajalci: Inštitut za anatomijo IAN\, Inštitut za histologijo z emb
 rio IHE\nProstor: Pred - Velika - MF
LOCATION:Korytkova 2\, Pred - Velika - MF
ORGANIZER:Inštitut za anatomijo IAN, Inštitut za histologijo z embrio IH
 E
RELATED-TO:mf-AFLABS-URNIK:srecanje:3056
X-WR-TIMEZONE:Europe/Ljubljana
END:VEVENT
BEGIN:VEVENT
SUMMARY:Funkcionalna in klinično-aplikativna histologija in anatomija (FK
 HA)\, Predavanje (P)\, [M2-01\, M2-02\, M2-03\, M2-04\, M2-05\, M2-06\, M2
 -07\, M2-08\, M2-09\, M2-10\, M2-11\, M2-12\, M2-13\, M2-14\, M2-15\, M2-1
 6\, M2-17\, M2-18\, M2-19\, M2-20]
DTSTART;TZID=Europe/Ljubljana:20241008T160000
DTEND;TZID=Europe/Ljubljana:20241008T170000
DTSTAMP:20260420T075654Z
UID:mf-AFLABS-URNIK:premaknjeno-srecanje:18074
ATTENDEE:2. LETNIK (EMŠ M)
CATEGORIES:Entry,Special
COLOR:forestgreen
DESCRIPTION:Predmet: Funkcionalna in klinično-aplikativna histologija in 
 anatomija (FKHA)\, Predavanje (P)\, [M2-01\, M2-02\, M2-03\, M2-04\, M2-05
 \, M2-06\, M2-07\, M2-08\, M2-09\, M2-10\, M2-11\, M2-12\, M2-13\, M2-14\,
  M2-15\, M2-16\, M2-17\, M2-18\, M2-19\, M2-20]\nLetniki: 2. LETNIK (EMŠ 
 M)\nIzvajalci: Inštitut za anatomijo IAN\, Inštitut za histologijo z emb
 rio IHE\nProstor: Pred - Velika - MF
LOCATION:Korytkova 2\, Pred - Velika - MF
ORGANIZER:Inštitut za anatomijo IAN, Inštitut za histologijo z embrio IH
 E
RELATED-TO:mf-AFLABS-URNIK:srecanje:3056
X-WR-TIMEZONE:Europe/Ljubljana
END:VEVENT
BEGIN:VEVENT
SUMMARY:Struktura in funkcija živčevja (SFŽ)\, Predavanje (P)\, [M2-01\
 , M2-02\, M2-03\, M2-04\, M2-05\, M2-06\, M2-07\, M2-08\, M2-09\, M2-10\, 
 M2-11\, M2-12\, M2-13\, M2-14\, M2-15\, M2-16\, M2-17\, M2-18\, M2-19\, M2
 -20]
DTSTART;TZID=Europe/Ljubljana:20241001T090000
DTEND;TZID=Europe/Ljubljana:20241001T121500
DTSTAMP:20260420T075654Z
UID:mf-AFLABS-URNIK:premaknjeno-srecanje:18213
ATTENDEE:2. LETNIK (EMŠ M)
CATEGORIES:Entry,Special
COLOR:forestgreen
DESCRIPTION:Predmet: Struktura in funkcija živčevja (SFŽ)\, Predavanje 
 (P)\, [M2-01\, M2-02\, M2-03\, M2-04\, M2-05\, M2-06\, M2-07\, M2-08\, M2-
 09\, M2-10\, M2-11\, M2-12\, M2-13\, M2-14\, M2-15\, M2-16\, M2-17\, M2-18
 \, M2-19\, M2-20]\nLetniki: 2. LETNIK (EMŠ M)\nIzvajalci: Inštitut za fi
 ziologijo FIZIO\, Inštitut za anatomijo IAN\, Inštitut za histologijo z 
 embrio IHE\nProstor: Pred - Velika - MF
LOCATION:Korytkova 2\, Pred - Velika - MF
ORGANIZER:Inštitut za fiziologijo FIZIO, Inštitut za anatomijo IAN, Inš
 titut za histologijo z embrio IHE
RELATED-TO:mf-AFLABS-URNIK:srecanje:3078
X-WR-TIMEZONE:Europe/Ljubljana
END:VEVENT
BEGIN:VEVENT
SUMMARY:Anatomija (ANA)\, Predavanje (P)\, [M1-01\, M1-02\, M1-03\, M1-04\
 , M1-05\, M1-06\, M1-07\, M1-08\, M1-09\, M1-10\, M1-11\, M1-12\, M1-13\, 
 M1-14\, M1-15\, M1-16\, M1-17\, M1-18\, M1-19\, M1-20]
DTSTART;TZID=Europe/Ljubljana:20241007T100000
DTEND;TZID=Europe/Ljubljana:20241007T110000
DTSTAMP:20260420T075654Z
UID:mf-AFLABS-URNIK:premaknjeno-srecanje:16640
ATTENDEE:1. LETNIK (EMŠ M)
CATEGORIES:Entry,Special
COLOR:forestgreen
DESCRIPTION:Predmet: Anatomija (ANA)\, Predavanje (P)\, [M1-01\, M1-02\, M
 1-03\, M1-04\, M1-05\, M1-06\, M1-07\, M1-08\, M1-09\, M1-10\, M1-11\, M1-
 12\, M1-13\, M1-14\, M1-15\, M1-16\, M1-17\, M1-18\, M1-19\, M1-20]\nLetni
 ki: 1. LETNIK (EMŠ M)\nIzvajalci: Inštitut za anatomijo IAN\nProstor: Pr
 ed - Velika - MF
LOCATION:Korytkova 2\, Pred - Velika - MF
ORGANIZER:Inštitut za anatomijo IAN
RELATED-TO:mf-AFLABS-URNIK:srecanje:2905
X-WR-TIMEZONE:Europe/Ljubljana
END:VEVENT
BEGIN:VEVENT
SUMMARY:Anatomija (ANA)\, Predavanje (P)\, [M1-01\, M1-02\, M1-03\, M1-04\
 , M1-05\, M1-06\, M1-07\, M1-08\, M1-09\, M1-10\, M1-11\, M1-12\, M1-13\, 
 M1-14\, M1-15\, M1-16\, M1-17\, M1-18\, M1-19\, M1-20]
DTSTART;TZID=Europe/Ljubljana:20241014T100000
DTEND;TZID=Europe/Ljubljana:20241014T110000
DTSTAMP:20260420T075654Z
UID:mf-AFLABS-URNIK:premaknjeno-srecanje:16641
ATTENDEE:1. LETNIK (EMŠ M)
CATEGORIES:Entry,Special
COLOR:forestgreen
DESCRIPTION:Predmet: Anatomija (ANA)\, Predavanje (P)\, [M1-01\, M1-02\, M
 1-03\, M1-04\, M1-05\, M1-06\, M1-07\, M1-08\, M1-09\, M1-10\, M1-11\, M1-
 12\, M1-13\, M1-14\, M1-15\, M1-16\, M1-17\, M1-18\, M1-19\, M1-20]\nLetni
 ki: 1. LETNIK (EMŠ M)\nIzvajalci: Inštitut za anatomijo IAN\nProstor: Pr
 ed - Velika - MF
LOCATION:Korytkova 2\, Pred - Velika - MF
ORGANIZER:Inštitut za anatomijo IAN
RELATED-TO:mf-AFLABS-URNIK:srecanje:2905
X-WR-TIMEZONE:Europe/Ljubljana
END:VEVENT
BEGIN:VEVENT
SUMMARY:ANADM-Anatomija telesa (ANADM-AT)\, Predavanje (P)
DTSTART;TZID=Europe/Ljubljana:20241007T120000
DTEND;TZID=Europe/Ljubljana:20241007T130000
DTSTAMP:20260420T075654Z
UID:mf-AFLABS-URNIK:premaknjeno-srecanje:17678
ATTENDEE:1. LETNIK (EMŠ DM)
CATEGORIES:Entry,Special
COLOR:forestgreen
DESCRIPTION:Predmet: ANADM-Anatomija telesa (ANADM-AT)\, Predavanje (P)\nL
 etniki: 1. LETNIK (EMŠ DM)\nIzvajalci: Inštitut za anatomijo IAN\nProsto
 r: Pred - Mala - MF
LOCATION:Korytkova 2\, Pred - Mala - MF
ORGANIZER:Inštitut za anatomijo IAN
RELATED-TO:mf-AFLABS-URNIK:srecanje:3012
X-WR-TIMEZONE:Europe/Ljubljana
END:VEVENT
BEGIN:VEVENT
SUMMARY:ANADM-Anatomija telesa (ANADM-AT)\, Predavanje (P)
DTSTART;TZID=Europe/Ljubljana:20241014T120000
DTEND;TZID=Europe/Ljubljana:20241014T130000
DTSTAMP:20260420T075654Z
UID:mf-AFLABS-URNIK:premaknjeno-srecanje:17679
ATTENDEE:1. LETNIK (EMŠ DM)
CATEGORIES:Entry,Special
COLOR:forestgreen
DESCRIPTION:Predmet: ANADM-Anatomija telesa (ANADM-AT)\, Predavanje (P)\nL
 etniki: 1. LETNIK (EMŠ DM)\nIzvajalci: Inštitut za anatomijo IAN\nProsto
 r: Pred - Mala - MF
LOCATION:Korytkova 2\, Pred - Mala - MF
ORGANIZER:Inštitut za anatomijo IAN
RELATED-TO:mf-AFLABS-URNIK:srecanje:3012
X-WR-TIMEZONE:Europe/Ljubljana
END:VEVENT
BEGIN:VEVENT
SUMMARY:Anatomija (ANA)\, Vaje (V)\, [M1-13\, M1-14]
DTSTART;TZID=Europe/Ljubljana:20241008T110000
DTEND;TZID=Europe/Ljubljana:20241008T140000
DTSTAMP:20260420T075654Z
UID:mf-AFLABS-URNIK:premaknjeno-srecanje:16651
ATTENDEE:1. LETNIK (EMŠ M)
CATEGORIES:Entry,Special
COLOR:forestgreen
DESCRIPTION:Predmet: Anatomija (ANA)\, Vaje (V)\, [M1-13\, M1-14]\nLetniki
 : 1. LETNIK (EMŠ M)\nIzvajalci: Inštitut za anatomijo IAN\nProstor: Vaj 
 - 5 - Anatomija
LOCATION:Korytkova 2\, Vaj - 5 - Anatomija
ORGANIZER:Inštitut za anatomijo IAN
RELATED-TO:mf-AFLABS-URNIK:srecanje:2906
X-WR-TIMEZONE:Europe/Ljubljana
END:VEVENT
BEGIN:VEVENT
SUMMARY:Anatomija (ANA)\, Vaje (V)\, [M1-17\, M1-18]
DTSTART;TZID=Europe/Ljubljana:20241008T140000
DTEND;TZID=Europe/Ljubljana:20241008T170000
DTSTAMP:20260420T075654Z
UID:mf-AFLABS-URNIK:premaknjeno-srecanje:16662
ATTENDEE:1. LETNIK (EMŠ M)
CATEGORIES:Entry,Special
COLOR:forestgreen
DESCRIPTION:Predmet: Anatomija (ANA)\, Vaje (V)\, [M1-17\, M1-18]\nLetniki
 : 1. LETNIK (EMŠ M)\nIzvajalci: Inštitut za anatomijo IAN\nProstor: Vaj 
 - 5 - Anatomija
LOCATION:Korytkova 2\, Vaj - 5 - Anatomija
ORGANIZER:Inštitut za anatomijo IAN
RELATED-TO:mf-AFLABS-URNIK:srecanje:2077
X-WR-TIMEZONE:Europe/Ljubljana
END:VEVENT
BEGIN:VEVENT
SUMMARY:Anatomija (ANA)\, Vaje (V)\, [M1-15\, M1-16]
DTSTART;TZID=Europe/Ljubljana:20241008T110000
DTEND;TZID=Europe/Ljubljana:20241008T140000
DTSTAMP:20260420T075654Z
UID:mf-AFLABS-URNIK:premaknjeno-srecanje:16673
ATTENDEE:1. LETNIK (EMŠ M)
CATEGORIES:Entry,Special
COLOR:forestgreen
DESCRIPTION:Predmet: Anatomija (ANA)\, Vaje (V)\, [M1-15\, M1-16]\nLetniki
 : 1. LETNIK (EMŠ M)\nIzvajalci: Inštitut za anatomijo IAN\nProstor: Vaj 
 - 6 - Anatomija
LOCATION:Korytkova 2\, Vaj - 6 - Anatomija
ORGANIZER:Inštitut za anatomijo IAN
RELATED-TO:mf-AFLABS-URNIK:srecanje:2907
X-WR-TIMEZONE:Europe/Ljubljana
END:VEVENT
BEGIN:VEVENT
SUMMARY:Anatomija (ANA)\, Vaje (V)\, [M1-19\, M1-20]
DTSTART;TZID=Europe/Ljubljana:20241008T140000
DTEND;TZID=Europe/Ljubljana:20241008T170000
DTSTAMP:20260420T075654Z
UID:mf-AFLABS-URNIK:premaknjeno-srecanje:16684
ATTENDEE:1. LETNIK (EMŠ M)
CATEGORIES:Entry,Special
COLOR:forestgreen
DESCRIPTION:Predmet: Anatomija (ANA)\, Vaje (V)\, [M1-19\, M1-20]\nLetniki
 : 1. LETNIK (EMŠ M)\nIzvajalci: Inštitut za anatomijo IAN\nProstor: Vaj 
 - 6 - Anatomija
LOCATION:Korytkova 2\, Vaj - 6 - Anatomija
ORGANIZER:Inštitut za anatomijo IAN
RELATED-TO:mf-AFLABS-URNIK:srecanje:2908
X-WR-TIMEZONE:Europe/Ljubljana
END:VEVENT
BEGIN:VEVENT
SUMMARY:ANADM-Anatomija telesa (ANADM-AT)\, Vaje (V)\, [D1-05\, D1-06]
DTSTART;TZID=Europe/Ljubljana:20241008T080000
DTEND;TZID=Europe/Ljubljana:20241008T110000
DTSTAMP:20260420T075654Z
UID:mf-AFLABS-URNIK:premaknjeno-srecanje:17689
ATTENDEE:1. LETNIK (EMŠ DM)
CATEGORIES:Entry,Special
COLOR:forestgreen
DESCRIPTION:Predmet: ANADM-Anatomija telesa (ANADM-AT)\, Vaje (V)\, [D1-05
 \, D1-06]\nLetniki: 1. LETNIK (EMŠ DM)\nIzvajalci: Inštitut za anatomijo
  IAN\nProstor: Vaj - 4 - Anatomija
LOCATION:Korytkova 2\, Vaj - 4 - Anatomija
ORGANIZER:Inštitut za anatomijo IAN
RELATED-TO:mf-AFLABS-URNIK:srecanje:3013
X-WR-TIMEZONE:Europe/Ljubljana
END:VEVENT
BEGIN:VEVENT
SUMMARY:Struktura in funkcija živčevja (SFŽ)\, Predavanje (P)\, [M2-01\
 , M2-02\, M2-03\, M2-04\, M2-05\, M2-06\, M2-07\, M2-08\, M2-09\, M2-10\, 
 M2-11\, M2-12\, M2-13\, M2-14\, M2-15\, M2-16\, M2-17\, M2-18\, M2-19\, M2
 -20]
DTSTART;TZID=Europe/Ljubljana:20241008T080000
DTEND;TZID=Europe/Ljubljana:20241008T113000
DTSTAMP:20260420T075654Z
UID:mf-AFLABS-URNIK:premaknjeno-srecanje:18214
ATTENDEE:2. LETNIK (EMŠ M)
CATEGORIES:Entry,Special
COLOR:forestgreen
DESCRIPTION:Predmet: Struktura in funkcija živčevja (SFŽ)\, Predavanje 
 (P)\, [M2-01\, M2-02\, M2-03\, M2-04\, M2-05\, M2-06\, M2-07\, M2-08\, M2-
 09\, M2-10\, M2-11\, M2-12\, M2-13\, M2-14\, M2-15\, M2-16\, M2-17\, M2-18
 \, M2-19\, M2-20]\nLetniki: 2. LETNIK (EMŠ M)\nIzvajalci: Inštitut za fi
 ziologijo FIZIO\, Inštitut za anatomijo IAN\, Inštitut za histologijo z 
 embrio IHE\nProstor: Pred - Velika - MF
LOCATION:Korytkova 2\, Pred - Velika - MF
ORGANIZER:Inštitut za fiziologijo FIZIO, Inštitut za anatomijo IAN, Inš
 titut za histologijo z embrio IHE
RELATED-TO:mf-AFLABS-URNIK:srecanje:3079
X-WR-TIMEZONE:Europe/Ljubljana
END:VEVENT
BEGIN:VEVENT
SUMMARY:Anatomija (ANA)\, Vaje (V)\, [M1-05\, M1-06]
DTSTART;TZID=Europe/Ljubljana:20241009T080000
DTEND;TZID=Europe/Ljubljana:20241009T110000
DTSTAMP:20260420T075654Z
UID:mf-AFLABS-URNIK:premaknjeno-srecanje:16695
ATTENDEE:1. LETNIK (EMŠ M)
CATEGORIES:Entry,Special
COLOR:forestgreen
DESCRIPTION:Predmet: Anatomija (ANA)\, Vaje (V)\, [M1-05\, M1-06]\nLetniki
 : 1. LETNIK (EMŠ M)\nIzvajalci: Inštitut za anatomijo IAN\nProstor: Vaj 
 - 5 - Anatomija
LOCATION:Korytkova 2\, Vaj - 5 - Anatomija
ORGANIZER:Inštitut za anatomijo IAN
RELATED-TO:mf-AFLABS-URNIK:srecanje:2909
X-WR-TIMEZONE:Europe/Ljubljana
END:VEVENT
BEGIN:VEVENT
SUMMARY:Anatomija (ANA)\, Vaje (V)\, [M1-01\, M1-02]
DTSTART;TZID=Europe/Ljubljana:20241009T110000
DTEND;TZID=Europe/Ljubljana:20241009T140000
DTSTAMP:20260420T075654Z
UID:mf-AFLABS-URNIK:premaknjeno-srecanje:16706
ATTENDEE:1. LETNIK (EMŠ M)
CATEGORIES:Entry,Special
COLOR:forestgreen
DESCRIPTION:Predmet: Anatomija (ANA)\, Vaje (V)\, [M1-01\, M1-02]\nLetniki
 : 1. LETNIK (EMŠ M)\nIzvajalci: Inštitut za anatomijo IAN\nProstor: Vaj 
 - 5 - Anatomija
LOCATION:Korytkova 2\, Vaj - 5 - Anatomija
ORGANIZER:Inštitut za anatomijo IAN
RELATED-TO:mf-AFLABS-URNIK:srecanje:2910
X-WR-TIMEZONE:Europe/Ljubljana
END:VEVENT
BEGIN:VEVENT
SUMMARY:Anatomija (ANA)\, Vaje (V)\, [M1-09\, M1-10]
DTSTART;TZID=Europe/Ljubljana:20241009T140000
DTEND;TZID=Europe/Ljubljana:20241009T170000
DTSTAMP:20260420T075654Z
UID:mf-AFLABS-URNIK:premaknjeno-srecanje:16717
ATTENDEE:1. LETNIK (EMŠ M)
CATEGORIES:Entry,Special
COLOR:forestgreen
DESCRIPTION:Predmet: Anatomija (ANA)\, Vaje (V)\, [M1-09\, M1-10]\nLetniki
 : 1. LETNIK (EMŠ M)\nIzvajalci: Inštitut za anatomijo IAN\nProstor: Vaj 
 - 5 - Anatomija
LOCATION:Korytkova 2\, Vaj - 5 - Anatomija
ORGANIZER:Inštitut za anatomijo IAN
RELATED-TO:mf-AFLABS-URNIK:srecanje:2911
X-WR-TIMEZONE:Europe/Ljubljana
END:VEVENT
BEGIN:VEVENT
SUMMARY:Anatomija (ANA)\, Vaje (V)\, [M1-07\, M1-08]
DTSTART;TZID=Europe/Ljubljana:20241009T080000
DTEND;TZID=Europe/Ljubljana:20241009T110000
DTSTAMP:20260420T075654Z
UID:mf-AFLABS-URNIK:premaknjeno-srecanje:16728
ATTENDEE:1. LETNIK (EMŠ M)
CATEGORIES:Entry,Special
COLOR:forestgreen
DESCRIPTION:Predmet: Anatomija (ANA)\, Vaje (V)\, [M1-07\, M1-08]\nLetniki
 : 1. LETNIK (EMŠ M)\nIzvajalci: Inštitut za anatomijo IAN\nProstor: Vaj 
 - 6 - Anatomija
LOCATION:Korytkova 2\, Vaj - 6 - Anatomija
ORGANIZER:Inštitut za anatomijo IAN
RELATED-TO:mf-AFLABS-URNIK:srecanje:2912
X-WR-TIMEZONE:Europe/Ljubljana
END:VEVENT
BEGIN:VEVENT
SUMMARY:Anatomija (ANA)\, Vaje (V)\, [M1-03\, M1-04]
DTSTART;TZID=Europe/Ljubljana:20241009T110000
DTEND;TZID=Europe/Ljubljana:20241009T140000
DTSTAMP:20260420T075654Z
UID:mf-AFLABS-URNIK:premaknjeno-srecanje:16739
ATTENDEE:1. LETNIK (EMŠ M)
CATEGORIES:Entry,Special
COLOR:forestgreen
DESCRIPTION:Predmet: Anatomija (ANA)\, Vaje (V)\, [M1-03\, M1-04]\nLetniki
 : 1. LETNIK (EMŠ M)\nIzvajalci: Inštitut za anatomijo IAN\nProstor: Vaj 
 - 6 - Anatomija
LOCATION:Korytkova 2\, Vaj - 6 - Anatomija
ORGANIZER:Inštitut za anatomijo IAN
RELATED-TO:mf-AFLABS-URNIK:srecanje:2913
X-WR-TIMEZONE:Europe/Ljubljana
END:VEVENT
BEGIN:VEVENT
SUMMARY:Anatomija (ANA)\, Vaje (V)\, [M1-11\, M1-12]
DTSTART;TZID=Europe/Ljubljana:20241009T140000
DTEND;TZID=Europe/Ljubljana:20241009T170000
DTSTAMP:20260420T075654Z
UID:mf-AFLABS-URNIK:premaknjeno-srecanje:16750
ATTENDEE:1. LETNIK (EMŠ M)
CATEGORIES:Entry,Special
COLOR:forestgreen
DESCRIPTION:Predmet: Anatomija (ANA)\, Vaje (V)\, [M1-11\, M1-12]\nLetniki
 : 1. LETNIK (EMŠ M)\nIzvajalci: Inštitut za anatomijo IAN\nProstor: Vaj 
 - 6 - Anatomija
LOCATION:Korytkova 2\, Vaj - 6 - Anatomija
ORGANIZER:Inštitut za anatomijo IAN
RELATED-TO:mf-AFLABS-URNIK:srecanje:2914
X-WR-TIMEZONE:Europe/Ljubljana
END:VEVENT
BEGIN:VEVENT
SUMMARY:ANADM-Anatomija telesa (ANADM-AT)\, Vaje (V)\, [D1-01\, D1-02]
DTSTART;TZID=Europe/Ljubljana:20241010T080000
DTEND;TZID=Europe/Ljubljana:20241010T110000
DTSTAMP:20260420T075654Z
UID:mf-AFLABS-URNIK:premaknjeno-srecanje:17699
ATTENDEE:1. LETNIK (EMŠ DM)
CATEGORIES:Entry,Special
COLOR:forestgreen
DESCRIPTION:Predmet: ANADM-Anatomija telesa (ANADM-AT)\, Vaje (V)\, [D1-01
 \, D1-02]\nLetniki: 1. LETNIK (EMŠ DM)\nIzvajalci: Inštitut za anatomijo
  IAN\nProstor: Vaj - 4 - Anatomija
LOCATION:Korytkova 2\, Vaj - 4 - Anatomija
ORGANIZER:Inštitut za anatomijo IAN
RELATED-TO:mf-AFLABS-URNIK:srecanje:3014
X-WR-TIMEZONE:Europe/Ljubljana
END:VEVENT
BEGIN:VEVENT
SUMMARY:ANADM-Anatomija telesa (ANADM-AT)\, Vaje (V)\, [D1-03\, D1-04]
DTSTART;TZID=Europe/Ljubljana:20241010T140000
DTEND;TZID=Europe/Ljubljana:20241010T170000
DTSTAMP:20260420T075654Z
UID:mf-AFLABS-URNIK:premaknjeno-srecanje:17709
ATTENDEE:1. LETNIK (EMŠ DM)
CATEGORIES:Entry,Special
COLOR:forestgreen
DESCRIPTION:Predmet: ANADM-Anatomija telesa (ANADM-AT)\, Vaje (V)\, [D1-03
 \, D1-04]\nLetniki: 1. LETNIK (EMŠ DM)\nIzvajalci: Inštitut za anatomijo
  IAN\nProstor: Vaj - 4 - Anatomija
LOCATION:Korytkova 2\, Vaj - 4 - Anatomija
ORGANIZER:Inštitut za anatomijo IAN
RELATED-TO:mf-AFLABS-URNIK:srecanje:3015
X-WR-TIMEZONE:Europe/Ljubljana
END:VEVENT
END:VCALENDAR
