BEGIN:VCALENDAR
VERSION:2.0
PRODID:-//AFLabs urnik izvoz - mf//aflabs.si//SI
DTSTAMP:20260420T075538Z
NAME:UL MF urnik
REFRESH-INTERVAL:PT1H
SOURCE:https://afurnik-mf.dev.aflabs.org/teacher/1?day=2026-10-05&export=1
URL:https://afurnik-mf.dev.aflabs.org/teacher/1?day=2026-10-05&export=1
X-PUBLISHED-TTL:PT1H
X-WR-CALNAME:UL MF urnik
X-WR-TIMEZONE:Europe/Ljubljana
BEGIN:VTIMEZONE
TZID:Europe/Ljubljana
BEGIN:DAYLIGHT
DTSTART:20260329T020000
RDATE:20260329T020000
RDATE:20270328T020000
TZNAME:CEST
TZOFFSETFROM:+0100
TZOFFSETTO:+0200
END:DAYLIGHT
BEGIN:STANDARD
DTSTART:20261025T030000
RDATE:20261025T030000
RDATE:20271031T030000
TZNAME:CET
TZOFFSETFROM:+0200
TZOFFSETTO:+0100
END:STANDARD
END:VTIMEZONE
BEGIN:VEVENT
SUMMARY:IZPIT:Struktura in funkcija živčevja
DTSTART;TZID=Europe/Ljubljana:20260909T120000
DTEND;TZID=Europe/Ljubljana:20260909T140000
DTSTAMP:20260420T075538Z
UID:mf-AFLABS-URNIK:rezervacija:8685
ATTENDEE:2. LETNIK (EMŠ M)
CATEGORIES:Reservation
COLOR:royalblue
DESCRIPTION:Predmeti: Struktura in funkcija živčevja (SFŽ)\nLetniki: 2.
  LETNIK (EMŠ M)\nIzvajalci: Inštitut za fiziologijo FIZIO\, Inštitut za
  anatomijo IAN\, Inštitut za histologijo z embrio IHE\nProstori: Pred - V
 elika - MF\, Pred - Srednja - MF\, Pred - Mala - MF
LOCATION:Korytkova 2\, Pred - Velika - MF\, Korytkova 2\, Pred - Srednja -
  MF\, Korytkova 2\, Pred - Mala - MF
ORGANIZER:Inštitut za fiziologijo FIZIO, Inštitut za anatomijo IAN, Inš
 titut za histologijo z embrio IHE
X-WR-TIMEZONE:Europe/Ljubljana
END:VEVENT
BEGIN:VEVENT
SUMMARY:IZPIT:Anatomija
DTSTART;TZID=Europe/Ljubljana:20260831T080000
DTEND;TZID=Europe/Ljubljana:20260831T110000
DTSTAMP:20260420T075538Z
UID:mf-AFLABS-URNIK:rezervacija:8793
ATTENDEE:1. LETNIK (EMŠ M)
CATEGORIES:Reservation
COLOR:royalblue
DESCRIPTION:Predmeti: Anatomija (ANA)\nLetniki: 1. LETNIK (EMŠ M)\nIzvaja
 lci: Inštitut za anatomijo IAN\nProstori: Pred - Velika - MF\, Pred - Sre
 dnja - MF\, Pred - Mala - MF\, Sem - 2 - MF
LOCATION:Korytkova 2\, Pred - Velika - MF\, Korytkova 2\, Pred - Srednja -
  MF\, Korytkova 2\, Pred - Mala - MF\, Korytkova 2\, Sem - 2 - MF
ORGANIZER:Inštitut za anatomijo IAN
X-WR-TIMEZONE:Europe/Ljubljana
END:VEVENT
BEGIN:VEVENT
SUMMARY:IZPIT:Anatomija telesa
DTSTART;TZID=Europe/Ljubljana:20260831T080000
DTEND;TZID=Europe/Ljubljana:20260831T110000
DTSTAMP:20260420T075538Z
UID:mf-AFLABS-URNIK:rezervacija:8857
ATTENDEE:1. LETNIK (EMŠ DM)
CATEGORIES:Reservation
COLOR:royalblue
DESCRIPTION:Predmeti: ANADM-Anatomija telesa (ANADM-AT)\nLetniki: 1. LETNI
 K (EMŠ DM)\nIzvajalci: Inštitut za anatomijo IAN\nProstori: Pred - Velik
 a - MF\, Pred - Srednja - MF\, Pred - Mala - MF
LOCATION:Korytkova 2\, Pred - Velika - MF\, Korytkova 2\, Pred - Srednja -
  MF\, Korytkova 2\, Pred - Mala - MF
ORGANIZER:Inštitut za anatomijo IAN
X-WR-TIMEZONE:Europe/Ljubljana
END:VEVENT
END:VCALENDAR
