BEGIN:VCALENDAR
VERSION:2.0
PRODID:-//AFLabs urnik izvoz - mf//aflabs.si//SI
DTSTAMP:20260420T055512Z
NAME:UL MF urnik
REFRESH-INTERVAL:PT1H
SOURCE:https://afurnik-mf.dev.aflabs.org/teacher/21?day=2024-02-19&export=
 1
URL:https://afurnik-mf.dev.aflabs.org/teacher/21?day=2024-02-19&export=1
X-PUBLISHED-TTL:PT1H
X-WR-CALNAME:UL MF urnik
X-WR-TIMEZONE:Europe/Ljubljana
BEGIN:VTIMEZONE
TZID:Europe/Ljubljana
BEGIN:DAYLIGHT
DTSTART:20260329T020000
RDATE:20260329T020000
RDATE:20270328T020000
TZNAME:CEST
TZOFFSETFROM:+0100
TZOFFSETTO:+0200
END:DAYLIGHT
BEGIN:STANDARD
DTSTART:20261025T030000
RDATE:20261025T030000
RDATE:20271031T030000
TZNAME:CET
TZOFFSETFROM:+0200
TZOFFSETTO:+0100
END:STANDARD
END:VTIMEZONE
BEGIN:VEVENT
SUMMARY:Medicinska klinika 1 - Nevrologija (MEDK1-NEVRO)\, Predavanja\, se
 minar\, doš (Pr)\, [D4-01\, D4-02\, D4-03\, D4-04\, D4-05\, D4-06]
DTSTART;TZID=Europe/Ljubljana:20231204T080000
DTEND;TZID=Europe/Ljubljana:20231204T133000
DTSTAMP:20260420T055512Z
UID:mf-AFLABS-URNIK:premaknjeno-srecanje:6586
ATTENDEE:4. LETNIK (EMŠ DM)
CATEGORIES:Entry,Standard
COLOR:darkgreen
DESCRIPTION:Predmet: Medicinska klinika 1 - Nevrologija (MEDK1-NEVRO)\, Pr
 edavanja\, seminar\, doš (Pr)\, [D4-01\, D4-02\, D4-03\, D4-04\, D4-05\, 
 D4-06]\nLetniki: 4. LETNIK (EMŠ DM)\nIzvajalci: Katedra za nevrologijo KN
 \nProstor: Pred - 1 - UKC
LOCATION:Zaloška 7\, Pred - 1 - UKC
ORGANIZER:Katedra za nevrologijo KN
RELATED-TO:mf-AFLABS-URNIK:srecanje:1277
X-WR-TIMEZONE:Europe/Ljubljana
END:VEVENT
BEGIN:VEVENT
SUMMARY:Medicinska klinika 1 - Nevrologija (MEDK1-NEVRO)\, Predavanja\, se
 minar\, doš (Pr)\, [D4-01\, D4-02\, D4-03\, D4-04\, D4-05\, D4-06]
DTSTART;TZID=Europe/Ljubljana:20231211T080000
DTEND;TZID=Europe/Ljubljana:20231211T133000
DTSTAMP:20260420T055512Z
UID:mf-AFLABS-URNIK:premaknjeno-srecanje:6587
ATTENDEE:4. LETNIK (EMŠ DM)
CATEGORIES:Entry,Standard
COLOR:darkgreen
DESCRIPTION:Predmet: Medicinska klinika 1 - Nevrologija (MEDK1-NEVRO)\, Pr
 edavanja\, seminar\, doš (Pr)\, [D4-01\, D4-02\, D4-03\, D4-04\, D4-05\, 
 D4-06]\nLetniki: 4. LETNIK (EMŠ DM)\nIzvajalci: Katedra za nevrologijo KN
 \nProstor: Pred - 1 - UKC
LOCATION:Zaloška 7\, Pred - 1 - UKC
ORGANIZER:Katedra za nevrologijo KN
RELATED-TO:mf-AFLABS-URNIK:srecanje:1277
X-WR-TIMEZONE:Europe/Ljubljana
END:VEVENT
BEGIN:VEVENT
SUMMARY:Medicinska klinika 1 - Nevrologija (MEDK1-NEVRO)\, Predavanja\, se
 minar\, doš (Pr)\, [D4-01\, D4-02\, D4-03\, D4-04\, D4-05\, D4-06]
DTSTART;TZID=Europe/Ljubljana:20231218T080000
DTEND;TZID=Europe/Ljubljana:20231218T160000
DTSTAMP:20260420T055512Z
UID:mf-AFLABS-URNIK:premaknjeno-srecanje:6588
ATTENDEE:4. LETNIK (EMŠ DM)
CATEGORIES:Entry,Standard
COLOR:darkgreen
DESCRIPTION:Predmet: Medicinska klinika 1 - Nevrologija (MEDK1-NEVRO)\, Pr
 edavanja\, seminar\, doš (Pr)\, [D4-01\, D4-02\, D4-03\, D4-04\, D4-05\, 
 D4-06]\nLetniki: 4. LETNIK (EMŠ DM)\nIzvajalci: Katedra za nevrologijo KN
 \nProstor: Pred - 1 - UKC
LOCATION:Zaloška 7\, Pred - 1 - UKC
ORGANIZER:Katedra za nevrologijo KN
RELATED-TO:mf-AFLABS-URNIK:srecanje:1278
X-WR-TIMEZONE:Europe/Ljubljana
END:VEVENT
BEGIN:VEVENT
SUMMARY:Medicinska klinika 1 - Nevrologija (MEDK1-NEVRO)\, Predavanja\, se
 minar\, doš (Pr)\, [D4-01\, D4-02\, D4-03\, D4-04\, D4-05\, D4-06]
DTSTART;TZID=Europe/Ljubljana:20231218T160000
DTEND;TZID=Europe/Ljubljana:20231218T190000
DTSTAMP:20260420T055512Z
UID:mf-AFLABS-URNIK:premaknjeno-srecanje:6590
ATTENDEE:4. LETNIK (EMŠ DM)
CATEGORIES:Entry,Standard
COLOR:darkgreen
DESCRIPTION:Predmet: Medicinska klinika 1 - Nevrologija (MEDK1-NEVRO)\, Pr
 edavanja\, seminar\, doš (Pr)\, [D4-01\, D4-02\, D4-03\, D4-04\, D4-05\, 
 D4-06]\nLetniki: 4. LETNIK (EMŠ DM)\nIzvajalci: Katedra za nevrologijo KN
 \nProstor: Sem - NEVRO -
LOCATION:Sem - NEVRO -
ORGANIZER:Katedra za nevrologijo KN
RELATED-TO:mf-AFLABS-URNIK:srecanje:1280
X-WR-TIMEZONE:Europe/Ljubljana
END:VEVENT
BEGIN:VEVENT
SUMMARY:Medicinska klinika 1 - Nevrologija (MEDK1-NEVRO)\, Predavanja\, se
 minar\, doš (Pr)\, [D4-01\, D4-02\, D4-03\, D4-04\, D4-05\, D4-06]
DTSTART;TZID=Europe/Ljubljana:20240108T160000
DTEND;TZID=Europe/Ljubljana:20240108T190000
DTSTAMP:20260420T055512Z
UID:mf-AFLABS-URNIK:premaknjeno-srecanje:6591
ATTENDEE:4. LETNIK (EMŠ DM)
CATEGORIES:Entry,Standard
COLOR:darkgreen
DESCRIPTION:Predmet: Medicinska klinika 1 - Nevrologija (MEDK1-NEVRO)\, Pr
 edavanja\, seminar\, doš (Pr)\, [D4-01\, D4-02\, D4-03\, D4-04\, D4-05\, 
 D4-06]\nLetniki: 4. LETNIK (EMŠ DM)\nIzvajalci: Katedra za nevrologijo KN
 \nProstor: Sem - NEVRO -
LOCATION:Sem - NEVRO -
ORGANIZER:Katedra za nevrologijo KN
RELATED-TO:mf-AFLABS-URNIK:srecanje:1280
X-WR-TIMEZONE:Europe/Ljubljana
END:VEVENT
BEGIN:VEVENT
SUMMARY:Medicinska klinika 1 - Nevrologija (MEDK1-NEVRO)\, Predavanja\, se
 minar\, doš (Pr)\, [D4-01\, D4-02\, D4-03\, D4-04\, D4-05\, D4-06]
DTSTART;TZID=Europe/Ljubljana:20240108T080000
DTEND;TZID=Europe/Ljubljana:20240108T160000
DTSTAMP:20260420T055512Z
UID:mf-AFLABS-URNIK:premaknjeno-srecanje:6589
ATTENDEE:4. LETNIK (EMŠ DM)
CATEGORIES:Entry,Standard
COLOR:darkgreen
DESCRIPTION:Predmet: Medicinska klinika 1 - Nevrologija (MEDK1-NEVRO)\, Pr
 edavanja\, seminar\, doš (Pr)\, [D4-01\, D4-02\, D4-03\, D4-04\, D4-05\, 
 D4-06]\nLetniki: 4. LETNIK (EMŠ DM)\nIzvajalci: Katedra za nevrologijo KN
 \nProstor: Pred - 2 - UKC
LOCATION:Zaloška 7\, Pred - 2 - UKC
ORGANIZER:Katedra za nevrologijo KN
RELATED-TO:mf-AFLABS-URNIK:srecanje:1279
X-WR-TIMEZONE:Europe/Ljubljana
END:VEVENT
END:VCALENDAR
