BEGIN:VCALENDAR
VERSION:2.0
PRODID:-//AFLabs urnik izvoz - mf//aflabs.si//SI
DTSTAMP:20260420T043245Z
NAME:UL MF urnik
REFRESH-INTERVAL:PT1H
SOURCE:https://afurnik-mf.dev.aflabs.org/teacher/21?day=2024-10-01&export=
 1
URL:https://afurnik-mf.dev.aflabs.org/teacher/21?day=2024-10-01&export=1
X-PUBLISHED-TTL:PT1H
X-WR-CALNAME:UL MF urnik
X-WR-TIMEZONE:Europe/Ljubljana
BEGIN:VTIMEZONE
TZID:Europe/Ljubljana
BEGIN:DAYLIGHT
DTSTART:20260329T020000
RDATE:20260329T020000
RDATE:20270328T020000
TZNAME:CEST
TZOFFSETFROM:+0100
TZOFFSETTO:+0200
END:DAYLIGHT
BEGIN:STANDARD
DTSTART:20261025T030000
RDATE:20261025T030000
RDATE:20271031T030000
TZNAME:CET
TZOFFSETFROM:+0200
TZOFFSETTO:+0100
END:STANDARD
END:VTIMEZONE
BEGIN:VEVENT
SUMMARY:Živčevje (ŽIVČ)\, Predavanje (P)\, [M4-11\, M4-12\, M4-13\, M4
 -14\, M4-15]
DTSTART;TZID=Europe/Ljubljana:20241001T080000
DTEND;TZID=Europe/Ljubljana:20241001T130000
DTSTAMP:20260420T043245Z
UID:mf-AFLABS-URNIK:premaknjeno-srecanje:20946
ATTENDEE:4. LETNIK (EMŠ M)
CATEGORIES:Entry,Special
COLOR:forestgreen
DESCRIPTION:Predmet: Živčevje (ŽIVČ)\, Predavanje (P)\, [M4-11\, M4-12
 \, M4-13\, M4-14\, M4-15]\nLetniki: 4. LETNIK (EMŠ M)\nIzvajalci: Katedra
  za nevrologijo KN\nProstor: Pred - Lesena - MF
LOCATION:Zaloška 4\, Pred - Lesena - MF
ORGANIZER:Katedra za nevrologijo KN
RELATED-TO:mf-AFLABS-URNIK:srecanje:3824
X-WR-TIMEZONE:Europe/Ljubljana
END:VEVENT
BEGIN:VEVENT
SUMMARY:Živčevje (ŽIVČ)\, Predavanje (P)\, [M4-11\, M4-12\, M4-13\, M4
 -14\, M4-15]
DTSTART;TZID=Europe/Ljubljana:20241015T080000
DTEND;TZID=Europe/Ljubljana:20241015T130000
DTSTAMP:20260420T043245Z
UID:mf-AFLABS-URNIK:premaknjeno-srecanje:20962
ATTENDEE:4. LETNIK (EMŠ M)
CATEGORIES:Entry,Special
COLOR:forestgreen
DESCRIPTION:Predmet: Živčevje (ŽIVČ)\, Predavanje (P)\, [M4-11\, M4-12
 \, M4-13\, M4-14\, M4-15]\nLetniki: 4. LETNIK (EMŠ M)\nIzvajalci: Katedra
  za nevrologijo KN\nProstor: Pred - Lesena - MF
LOCATION:Zaloška 4\, Pred - Lesena - MF
ORGANIZER:Katedra za nevrologijo KN
RELATED-TO:mf-AFLABS-URNIK:srecanje:3824
X-WR-TIMEZONE:Europe/Ljubljana
END:VEVENT
BEGIN:VEVENT
SUMMARY:Živčevje (ŽIVČ)\, Predavanje (P)\, [M4-11\, M4-12\, M4-13\, M4
 -14\, M4-15]
DTSTART;TZID=Europe/Ljubljana:20241022T080000
DTEND;TZID=Europe/Ljubljana:20241022T130000
DTSTAMP:20260420T043245Z
UID:mf-AFLABS-URNIK:premaknjeno-srecanje:20969
ATTENDEE:4. LETNIK (EMŠ M)
CATEGORIES:Entry,Special
COLOR:forestgreen
DESCRIPTION:Predmet: Živčevje (ŽIVČ)\, Predavanje (P)\, [M4-11\, M4-12
 \, M4-13\, M4-14\, M4-15]\nLetniki: 4. LETNIK (EMŠ M)\nIzvajalci: Katedra
  za nevrologijo KN\nProstor: Pred - Lesena - MF
LOCATION:Zaloška 4\, Pred - Lesena - MF
ORGANIZER:Katedra za nevrologijo KN
RELATED-TO:mf-AFLABS-URNIK:srecanje:3824
X-WR-TIMEZONE:Europe/Ljubljana
END:VEVENT
BEGIN:VEVENT
SUMMARY:Živčevje (ŽIVČ)\, Predavanje (P)\, [M4-11\, M4-12\, M4-13\, M4
 -14\, M4-15]
DTSTART;TZID=Europe/Ljubljana:20241002T080000
DTEND;TZID=Europe/Ljubljana:20241002T140000
DTSTAMP:20260420T043245Z
UID:mf-AFLABS-URNIK:premaknjeno-srecanje:20947
ATTENDEE:4. LETNIK (EMŠ M)
CATEGORIES:Entry,Special
COLOR:forestgreen
DESCRIPTION:Predmet: Živčevje (ŽIVČ)\, Predavanje (P)\, [M4-11\, M4-12
 \, M4-13\, M4-14\, M4-15]\nLetniki: 4. LETNIK (EMŠ M)\nIzvajalci: Katedra
  za nevrologijo KN\nProstor: Pred - Lesena - MF
LOCATION:Zaloška 4\, Pred - Lesena - MF
ORGANIZER:Katedra za nevrologijo KN
RELATED-TO:mf-AFLABS-URNIK:srecanje:3825
X-WR-TIMEZONE:Europe/Ljubljana
END:VEVENT
BEGIN:VEVENT
SUMMARY:Živčevje (ŽIVČ)\, Predavanje (P)\, [M4-11\, M4-12\, M4-13\, M4
 -14\, M4-15]
DTSTART;TZID=Europe/Ljubljana:20241009T080000
DTEND;TZID=Europe/Ljubljana:20241009T140000
DTSTAMP:20260420T043245Z
UID:mf-AFLABS-URNIK:premaknjeno-srecanje:20956
ATTENDEE:4. LETNIK (EMŠ M)
CATEGORIES:Entry,Special
COLOR:forestgreen
DESCRIPTION:Predmet: Živčevje (ŽIVČ)\, Predavanje (P)\, [M4-11\, M4-12
 \, M4-13\, M4-14\, M4-15]\nLetniki: 4. LETNIK (EMŠ M)\nIzvajalci: Katedra
  za nevrologijo KN\nProstor: Pred - Lesena - MF
LOCATION:Zaloška 4\, Pred - Lesena - MF
ORGANIZER:Katedra za nevrologijo KN
RELATED-TO:mf-AFLABS-URNIK:srecanje:3825
X-WR-TIMEZONE:Europe/Ljubljana
END:VEVENT
BEGIN:VEVENT
SUMMARY:Živčevje (ŽIVČ)\, Predavanje (P)\, [M4-11\, M4-12\, M4-13\, M4
 -14\, M4-15]
DTSTART;TZID=Europe/Ljubljana:20241016T080000
DTEND;TZID=Europe/Ljubljana:20241016T140000
DTSTAMP:20260420T043245Z
UID:mf-AFLABS-URNIK:premaknjeno-srecanje:20964
ATTENDEE:4. LETNIK (EMŠ M)
CATEGORIES:Entry,Special
COLOR:forestgreen
DESCRIPTION:Predmet: Živčevje (ŽIVČ)\, Predavanje (P)\, [M4-11\, M4-12
 \, M4-13\, M4-14\, M4-15]\nLetniki: 4. LETNIK (EMŠ M)\nIzvajalci: Katedra
  za nevrologijo KN\nProstor: Pred - Lesena - MF
LOCATION:Zaloška 4\, Pred - Lesena - MF
ORGANIZER:Katedra za nevrologijo KN
RELATED-TO:mf-AFLABS-URNIK:srecanje:3825
X-WR-TIMEZONE:Europe/Ljubljana
END:VEVENT
BEGIN:VEVENT
SUMMARY:Živčevje (ŽIVČ)\, Predavanje (P)\, [M4-11\, M4-12\, M4-13\, M4
 -14\, M4-15]
DTSTART;TZID=Europe/Ljubljana:20241003T100000
DTEND;TZID=Europe/Ljubljana:20241003T140000
DTSTAMP:20260420T043245Z
UID:mf-AFLABS-URNIK:premaknjeno-srecanje:20948
ATTENDEE:4. LETNIK (EMŠ M)
CATEGORIES:Entry,Special
COLOR:forestgreen
DESCRIPTION:Predmet: Živčevje (ŽIVČ)\, Predavanje (P)\, [M4-11\, M4-12
 \, M4-13\, M4-14\, M4-15]\nLetniki: 4. LETNIK (EMŠ M)\nIzvajalci: Katedra
  za nevrologijo KN\nProstor: Pred - Lesena - MF
LOCATION:Zaloška 4\, Pred - Lesena - MF
ORGANIZER:Katedra za nevrologijo KN
RELATED-TO:mf-AFLABS-URNIK:srecanje:3826
X-WR-TIMEZONE:Europe/Ljubljana
END:VEVENT
BEGIN:VEVENT
SUMMARY:Živčevje (ŽIVČ)\, Predavanje (P)\, [M4-11\, M4-12\, M4-13\, M4
 -14\, M4-15]
DTSTART;TZID=Europe/Ljubljana:20241003T140000
DTEND;TZID=Europe/Ljubljana:20241003T150000
DTSTAMP:20260420T043245Z
UID:mf-AFLABS-URNIK:premaknjeno-srecanje:20950
ATTENDEE:4. LETNIK (EMŠ M)
CATEGORIES:Entry,Special
COLOR:forestgreen
DESCRIPTION:Predmet: Živčevje (ŽIVČ)\, Predavanje (P)\, [M4-11\, M4-12
 \, M4-13\, M4-14\, M4-15]\nLetniki: 4. LETNIK (EMŠ M)\nIzvajalci: Katedra
  za nevrologijo KN\nProstor: Pred - Lesena - MF
LOCATION:Zaloška 4\, Pred - Lesena - MF
ORGANIZER:Katedra za nevrologijo KN
RELATED-TO:mf-AFLABS-URNIK:srecanje:3828
X-WR-TIMEZONE:Europe/Ljubljana
END:VEVENT
BEGIN:VEVENT
SUMMARY:Živčevje (ŽIVČ)\, Predavanje (P)\, [M4-11\, M4-12\, M4-13\, M4
 -14\, M4-15]
DTSTART;TZID=Europe/Ljubljana:20241010T140000
DTEND;TZID=Europe/Ljubljana:20241010T150000
DTSTAMP:20260420T043245Z
UID:mf-AFLABS-URNIK:premaknjeno-srecanje:20959
ATTENDEE:4. LETNIK (EMŠ M)
CATEGORIES:Entry,Special
COLOR:forestgreen
DESCRIPTION:Predmet: Živčevje (ŽIVČ)\, Predavanje (P)\, [M4-11\, M4-12
 \, M4-13\, M4-14\, M4-15]\nLetniki: 4. LETNIK (EMŠ M)\nIzvajalci: Katedra
  za nevrologijo KN\nProstor: Pred - Lesena - MF
LOCATION:Zaloška 4\, Pred - Lesena - MF
ORGANIZER:Katedra za nevrologijo KN
RELATED-TO:mf-AFLABS-URNIK:srecanje:3828
X-WR-TIMEZONE:Europe/Ljubljana
END:VEVENT
BEGIN:VEVENT
SUMMARY:Živčevje (ŽIVČ)\, Predavanje (P)\, [M4-11\, M4-12\, M4-13\, M4
 -14\, M4-15]
DTSTART;TZID=Europe/Ljubljana:20241004T080000
DTEND;TZID=Europe/Ljubljana:20241004T130000
DTSTAMP:20260420T043245Z
UID:mf-AFLABS-URNIK:premaknjeno-srecanje:20949
ATTENDEE:4. LETNIK (EMŠ M)
CATEGORIES:Entry,Special
COLOR:forestgreen
DESCRIPTION:Predmet: Živčevje (ŽIVČ)\, Predavanje (P)\, [M4-11\, M4-12
 \, M4-13\, M4-14\, M4-15]\nLetniki: 4. LETNIK (EMŠ M)\nIzvajalci: Katedra
  za nevrologijo KN\nProstor: Pred - Lesena - MF
LOCATION:Zaloška 4\, Pred - Lesena - MF
ORGANIZER:Katedra za nevrologijo KN
RELATED-TO:mf-AFLABS-URNIK:srecanje:3827
X-WR-TIMEZONE:Europe/Ljubljana
END:VEVENT
BEGIN:VEVENT
SUMMARY:Živčevje (ŽIVČ)\, Predavanje (P)\, [M4-11\, M4-12\, M4-13\, M4
 -14\, M4-15]
DTSTART;TZID=Europe/Ljubljana:20241018T080000
DTEND;TZID=Europe/Ljubljana:20241018T130000
DTSTAMP:20260420T043245Z
UID:mf-AFLABS-URNIK:premaknjeno-srecanje:20967
ATTENDEE:4. LETNIK (EMŠ M)
CATEGORIES:Entry,Special
COLOR:forestgreen
DESCRIPTION:Predmet: Živčevje (ŽIVČ)\, Predavanje (P)\, [M4-11\, M4-12
 \, M4-13\, M4-14\, M4-15]\nLetniki: 4. LETNIK (EMŠ M)\nIzvajalci: Katedra
  za nevrologijo KN\nProstor: Pred - Lesena - MF
LOCATION:Zaloška 4\, Pred - Lesena - MF
ORGANIZER:Katedra za nevrologijo KN
RELATED-TO:mf-AFLABS-URNIK:srecanje:3827
X-WR-TIMEZONE:Europe/Ljubljana
END:VEVENT
BEGIN:VEVENT
SUMMARY:Živčevje (ŽIVČ)\, Predavanje (P)\, [M4-11\, M4-12\, M4-13\, M4
 -14\, M4-15]
DTSTART;TZID=Europe/Ljubljana:20241025T080000
DTEND;TZID=Europe/Ljubljana:20241025T130000
DTSTAMP:20260420T043245Z
UID:mf-AFLABS-URNIK:premaknjeno-srecanje:20972
ATTENDEE:4. LETNIK (EMŠ M)
CATEGORIES:Entry,Special
COLOR:forestgreen
DESCRIPTION:Predmet: Živčevje (ŽIVČ)\, Predavanje (P)\, [M4-11\, M4-12
 \, M4-13\, M4-14\, M4-15]\nLetniki: 4. LETNIK (EMŠ M)\nIzvajalci: Katedra
  za nevrologijo KN\nProstor: Pred - Lesena - MF
LOCATION:Zaloška 4\, Pred - Lesena - MF
ORGANIZER:Katedra za nevrologijo KN
RELATED-TO:mf-AFLABS-URNIK:srecanje:3827
X-WR-TIMEZONE:Europe/Ljubljana
END:VEVENT
BEGIN:VEVENT
SUMMARY:Živčevje (ŽIVČ)\, Predavanje (P)\, [M4-11\, M4-12\, M4-13\, M4
 -14\, M4-15]
DTSTART;TZID=Europe/Ljubljana:20241004T140000
DTEND;TZID=Europe/Ljubljana:20241004T150000
DTSTAMP:20260420T043245Z
UID:mf-AFLABS-URNIK:premaknjeno-srecanje:20951
ATTENDEE:4. LETNIK (EMŠ M)
CATEGORIES:Entry,Special
COLOR:forestgreen
DESCRIPTION:Predmet: Živčevje (ŽIVČ)\, Predavanje (P)\, [M4-11\, M4-12
 \, M4-13\, M4-14\, M4-15]\nLetniki: 4. LETNIK (EMŠ M)\nIzvajalci: Katedra
  za nevrologijo KN\nProstor: Pred - Lesena - MF
LOCATION:Zaloška 4\, Pred - Lesena - MF
ORGANIZER:Katedra za nevrologijo KN
RELATED-TO:mf-AFLABS-URNIK:srecanje:3829
X-WR-TIMEZONE:Europe/Ljubljana
END:VEVENT
BEGIN:VEVENT
SUMMARY:Živčevje (ŽIVČ)\, Predavanje (P)\, [M4-11\, M4-12\, M4-13\, M4
 -14\, M4-15]
DTSTART;TZID=Europe/Ljubljana:20241007T080000
DTEND;TZID=Europe/Ljubljana:20241007T130000
DTSTAMP:20260420T043245Z
UID:mf-AFLABS-URNIK:premaknjeno-srecanje:20952
ATTENDEE:4. LETNIK (EMŠ M)
CATEGORIES:Entry,Special
COLOR:forestgreen
DESCRIPTION:Predmet: Živčevje (ŽIVČ)\, Predavanje (P)\, [M4-11\, M4-12
 \, M4-13\, M4-14\, M4-15]\nLetniki: 4. LETNIK (EMŠ M)\nIzvajalci: Katedra
  za nevrologijo KN\nProstor: Pred - Lesena - MF
LOCATION:Zaloška 4\, Pred - Lesena - MF
ORGANIZER:Katedra za nevrologijo KN
RELATED-TO:mf-AFLABS-URNIK:srecanje:3830
X-WR-TIMEZONE:Europe/Ljubljana
END:VEVENT
BEGIN:VEVENT
SUMMARY:Živčevje (ŽIVČ)\, Predavanje (P)\, [M4-11\, M4-12\, M4-13\, M4
 -14\, M4-15]
DTSTART;TZID=Europe/Ljubljana:20241014T080000
DTEND;TZID=Europe/Ljubljana:20241014T130000
DTSTAMP:20260420T043245Z
UID:mf-AFLABS-URNIK:premaknjeno-srecanje:20961
ATTENDEE:4. LETNIK (EMŠ M)
CATEGORIES:Entry,Special
COLOR:forestgreen
DESCRIPTION:Predmet: Živčevje (ŽIVČ)\, Predavanje (P)\, [M4-11\, M4-12
 \, M4-13\, M4-14\, M4-15]\nLetniki: 4. LETNIK (EMŠ M)\nIzvajalci: Katedra
  za nevrologijo KN\nProstor: Pred - Lesena - MF
LOCATION:Zaloška 4\, Pred - Lesena - MF
ORGANIZER:Katedra za nevrologijo KN
RELATED-TO:mf-AFLABS-URNIK:srecanje:3830
X-WR-TIMEZONE:Europe/Ljubljana
END:VEVENT
BEGIN:VEVENT
SUMMARY:Živčevje (ŽIVČ)\, Predavanje (P)\, [M4-11\, M4-12\, M4-13\, M4
 -14\, M4-15]
DTSTART;TZID=Europe/Ljubljana:20241021T080000
DTEND;TZID=Europe/Ljubljana:20241021T130000
DTSTAMP:20260420T043245Z
UID:mf-AFLABS-URNIK:premaknjeno-srecanje:20968
ATTENDEE:4. LETNIK (EMŠ M)
CATEGORIES:Entry,Special
COLOR:forestgreen
DESCRIPTION:Predmet: Živčevje (ŽIVČ)\, Predavanje (P)\, [M4-11\, M4-12
 \, M4-13\, M4-14\, M4-15]\nLetniki: 4. LETNIK (EMŠ M)\nIzvajalci: Katedra
  za nevrologijo KN\nProstor: Pred - Lesena - MF
LOCATION:Zaloška 4\, Pred - Lesena - MF
ORGANIZER:Katedra za nevrologijo KN
RELATED-TO:mf-AFLABS-URNIK:srecanje:3830
X-WR-TIMEZONE:Europe/Ljubljana
END:VEVENT
BEGIN:VEVENT
SUMMARY:Živčevje (ŽIVČ)\, Predavanje (P)\, [M4-11\, M4-12\, M4-13\, M4
 -14\, M4-15]
DTSTART;TZID=Europe/Ljubljana:20241028T080000
DTEND;TZID=Europe/Ljubljana:20241028T130000
DTSTAMP:20260420T043245Z
UID:mf-AFLABS-URNIK:premaknjeno-srecanje:20976
ATTENDEE:4. LETNIK (EMŠ M)
CATEGORIES:Entry,Special
COLOR:forestgreen
DESCRIPTION:Predmet: Živčevje (ŽIVČ)\, Predavanje (P)\, [M4-11\, M4-12
 \, M4-13\, M4-14\, M4-15]\nLetniki: 4. LETNIK (EMŠ M)\nIzvajalci: Katedra
  za nevrologijo KN\nProstor: Pred - Lesena - MF
LOCATION:Zaloška 4\, Pred - Lesena - MF
ORGANIZER:Katedra za nevrologijo KN
RELATED-TO:mf-AFLABS-URNIK:srecanje:3830
X-WR-TIMEZONE:Europe/Ljubljana
END:VEVENT
BEGIN:VEVENT
SUMMARY:Živčevje (ŽIVČ)\, Predavanje (P)\, [M4-11\, M4-12\, M4-13\, M4
 -14\, M4-15]
DTSTART;TZID=Europe/Ljubljana:20241007T130000
DTEND;TZID=Europe/Ljubljana:20241007T140000
DTSTAMP:20260420T043245Z
UID:mf-AFLABS-URNIK:premaknjeno-srecanje:20954
ATTENDEE:4. LETNIK (EMŠ M)
CATEGORIES:Entry,Special
COLOR:forestgreen
DESCRIPTION:Predmet: Živčevje (ŽIVČ)\, Predavanje (P)\, [M4-11\, M4-12
 \, M4-13\, M4-14\, M4-15]\nLetniki: 4. LETNIK (EMŠ M)\nIzvajalci: Katedra
  za nevrologijo KN\nProstor: Pred - Lesena - MF
LOCATION:Zaloška 4\, Pred - Lesena - MF
ORGANIZER:Katedra za nevrologijo KN
RELATED-TO:mf-AFLABS-URNIK:srecanje:3832
X-WR-TIMEZONE:Europe/Ljubljana
END:VEVENT
BEGIN:VEVENT
SUMMARY:Živčevje (ŽIVČ)\, Predavanje (P)\, [M4-11\, M4-12\, M4-13\, M4
 -14\, M4-15]
DTSTART;TZID=Europe/Ljubljana:20241008T100000
DTEND;TZID=Europe/Ljubljana:20241008T130000
DTSTAMP:20260420T043245Z
UID:mf-AFLABS-URNIK:premaknjeno-srecanje:20953
ATTENDEE:4. LETNIK (EMŠ M)
CATEGORIES:Entry,Special
COLOR:forestgreen
DESCRIPTION:Predmet: Živčevje (ŽIVČ)\, Predavanje (P)\, [M4-11\, M4-12
 \, M4-13\, M4-14\, M4-15]\nLetniki: 4. LETNIK (EMŠ M)\nIzvajalci: Katedra
  za nevrologijo KN\nProstor: Pred - Lesena - MF
LOCATION:Zaloška 4\, Pred - Lesena - MF
ORGANIZER:Katedra za nevrologijo KN
RELATED-TO:mf-AFLABS-URNIK:srecanje:3831
X-WR-TIMEZONE:Europe/Ljubljana
END:VEVENT
BEGIN:VEVENT
SUMMARY:Živčevje (ŽIVČ)\, Predavanje (P)\, [M4-11\, M4-12\, M4-13\, M4
 -14\, M4-15]
DTSTART;TZID=Europe/Ljubljana:20241008T130000
DTEND;TZID=Europe/Ljubljana:20241008T140000
DTSTAMP:20260420T043245Z
UID:mf-AFLABS-URNIK:premaknjeno-srecanje:20955
ATTENDEE:4. LETNIK (EMŠ M)
CATEGORIES:Entry,Special
COLOR:forestgreen
DESCRIPTION:Predmet: Živčevje (ŽIVČ)\, Predavanje (P)\, [M4-11\, M4-12
 \, M4-13\, M4-14\, M4-15]\nLetniki: 4. LETNIK (EMŠ M)\nIzvajalci: Katedra
  za nevrologijo KN\nProstor: Pred - Lesena - MF
LOCATION:Zaloška 4\, Pred - Lesena - MF
ORGANIZER:Katedra za nevrologijo KN
RELATED-TO:mf-AFLABS-URNIK:srecanje:3833
X-WR-TIMEZONE:Europe/Ljubljana
END:VEVENT
BEGIN:VEVENT
SUMMARY:Živčevje (ŽIVČ)\, Predavanje (P)\, [M4-11\, M4-12\, M4-13\, M4
 -14\, M4-15]
DTSTART;TZID=Europe/Ljubljana:20241015T130000
DTEND;TZID=Europe/Ljubljana:20241015T140000
DTSTAMP:20260420T043245Z
UID:mf-AFLABS-URNIK:premaknjeno-srecanje:20963
ATTENDEE:4. LETNIK (EMŠ M)
CATEGORIES:Entry,Special
COLOR:forestgreen
DESCRIPTION:Predmet: Živčevje (ŽIVČ)\, Predavanje (P)\, [M4-11\, M4-12
 \, M4-13\, M4-14\, M4-15]\nLetniki: 4. LETNIK (EMŠ M)\nIzvajalci: Katedra
  za nevrologijo KN\nProstor: Pred - Lesena - MF
LOCATION:Zaloška 4\, Pred - Lesena - MF
ORGANIZER:Katedra za nevrologijo KN
RELATED-TO:mf-AFLABS-URNIK:srecanje:3833
X-WR-TIMEZONE:Europe/Ljubljana
END:VEVENT
BEGIN:VEVENT
SUMMARY:Živčevje (ŽIVČ)\, Predavanje (P)\, [M4-11\, M4-12\, M4-13\, M4
 -14\, M4-15]
DTSTART;TZID=Europe/Ljubljana:20241009T140000
DTEND;TZID=Europe/Ljubljana:20241009T150000
DTSTAMP:20260420T043245Z
UID:mf-AFLABS-URNIK:premaknjeno-srecanje:20958
ATTENDEE:4. LETNIK (EMŠ M)
CATEGORIES:Entry,Special
COLOR:forestgreen
DESCRIPTION:Predmet: Živčevje (ŽIVČ)\, Predavanje (P)\, [M4-11\, M4-12
 \, M4-13\, M4-14\, M4-15]\nLetniki: 4. LETNIK (EMŠ M)\nIzvajalci: Katedra
  za nevrologijo KN\nProstor: Pred - Lesena - MF
LOCATION:Zaloška 4\, Pred - Lesena - MF
ORGANIZER:Katedra za nevrologijo KN
RELATED-TO:mf-AFLABS-URNIK:srecanje:3835
X-WR-TIMEZONE:Europe/Ljubljana
END:VEVENT
BEGIN:VEVENT
SUMMARY:Živčevje (ŽIVČ)\, Predavanje (P)\, [M4-11\, M4-12\, M4-13\, M4
 -14\, M4-15]
DTSTART;TZID=Europe/Ljubljana:20241016T140000
DTEND;TZID=Europe/Ljubljana:20241016T150000
DTSTAMP:20260420T043245Z
UID:mf-AFLABS-URNIK:premaknjeno-srecanje:20966
ATTENDEE:4. LETNIK (EMŠ M)
CATEGORIES:Entry,Special
COLOR:forestgreen
DESCRIPTION:Predmet: Živčevje (ŽIVČ)\, Predavanje (P)\, [M4-11\, M4-12
 \, M4-13\, M4-14\, M4-15]\nLetniki: 4. LETNIK (EMŠ M)\nIzvajalci: Katedra
  za nevrologijo KN\nProstor: Pred - Lesena - MF
LOCATION:Zaloška 4\, Pred - Lesena - MF
ORGANIZER:Katedra za nevrologijo KN
RELATED-TO:mf-AFLABS-URNIK:srecanje:3835
X-WR-TIMEZONE:Europe/Ljubljana
END:VEVENT
BEGIN:VEVENT
SUMMARY:Živčevje (ŽIVČ)\, Predavanje (P)\, [M4-11\, M4-12\, M4-13\, M4
 -14\, M4-15]
DTSTART;TZID=Europe/Ljubljana:20241010T080000
DTEND;TZID=Europe/Ljubljana:20241010T140000
DTSTAMP:20260420T043245Z
UID:mf-AFLABS-URNIK:premaknjeno-srecanje:20957
ATTENDEE:4. LETNIK (EMŠ M)
CATEGORIES:Entry,Special
COLOR:forestgreen
DESCRIPTION:Predmet: Živčevje (ŽIVČ)\, Predavanje (P)\, [M4-11\, M4-12
 \, M4-13\, M4-14\, M4-15]\nLetniki: 4. LETNIK (EMŠ M)\nIzvajalci: Katedra
  za nevrologijo KN\nProstor: Pred - Lesena - MF
LOCATION:Zaloška 4\, Pred - Lesena - MF
ORGANIZER:Katedra za nevrologijo KN
RELATED-TO:mf-AFLABS-URNIK:srecanje:3834
X-WR-TIMEZONE:Europe/Ljubljana
END:VEVENT
BEGIN:VEVENT
SUMMARY:Živčevje (ŽIVČ)\, Predavanje (P)\, [M4-11\, M4-12\, M4-13\, M4
 -14\, M4-15]
DTSTART;TZID=Europe/Ljubljana:20241017T080000
DTEND;TZID=Europe/Ljubljana:20241017T140000
DTSTAMP:20260420T043245Z
UID:mf-AFLABS-URNIK:premaknjeno-srecanje:20965
ATTENDEE:4. LETNIK (EMŠ M)
CATEGORIES:Entry,Special
COLOR:forestgreen
DESCRIPTION:Predmet: Živčevje (ŽIVČ)\, Predavanje (P)\, [M4-11\, M4-12
 \, M4-13\, M4-14\, M4-15]\nLetniki: 4. LETNIK (EMŠ M)\nIzvajalci: Katedra
  za nevrologijo KN\nProstor: Pred - Lesena - MF
LOCATION:Zaloška 4\, Pred - Lesena - MF
ORGANIZER:Katedra za nevrologijo KN
RELATED-TO:mf-AFLABS-URNIK:srecanje:3834
X-WR-TIMEZONE:Europe/Ljubljana
END:VEVENT
BEGIN:VEVENT
SUMMARY:Živčevje (ŽIVČ)\, Predavanje (P)\, [M4-11\, M4-12\, M4-13\, M4
 -14\, M4-15]
DTSTART;TZID=Europe/Ljubljana:20241011T080000
DTEND;TZID=Europe/Ljubljana:20241011T160000
DTSTAMP:20260420T043245Z
UID:mf-AFLABS-URNIK:premaknjeno-srecanje:20960
ATTENDEE:4. LETNIK (EMŠ M)
CATEGORIES:Entry,Special
COLOR:forestgreen
DESCRIPTION:Predmet: Živčevje (ŽIVČ)\, Predavanje (P)\, [M4-11\, M4-12
 \, M4-13\, M4-14\, M4-15]\nLetniki: 4. LETNIK (EMŠ M)\nIzvajalci: Katedra
  za nevrologijo KN\nProstor: Pred - Lesena - MF
LOCATION:Zaloška 4\, Pred - Lesena - MF
ORGANIZER:Katedra za nevrologijo KN
RELATED-TO:mf-AFLABS-URNIK:srecanje:3836
X-WR-TIMEZONE:Europe/Ljubljana
END:VEVENT
BEGIN:VEVENT
SUMMARY:Živčevje (ŽIVČ)\, Predavanje (P)\, [M4-11\, M4-12\, M4-13\, M4
 -14\, M4-15]
DTSTART;TZID=Europe/Ljubljana:20241022T130000
DTEND;TZID=Europe/Ljubljana:20241022T150000
DTSTAMP:20260420T043245Z
UID:mf-AFLABS-URNIK:premaknjeno-srecanje:20973
ATTENDEE:4. LETNIK (EMŠ M)
CATEGORIES:Entry,Special
COLOR:forestgreen
DESCRIPTION:Predmet: Živčevje (ŽIVČ)\, Predavanje (P)\, [M4-11\, M4-12
 \, M4-13\, M4-14\, M4-15]\nLetniki: 4. LETNIK (EMŠ M)\nIzvajalci: Katedra
  za nevrologijo KN\nProstor: Pred - Lesena - MF
LOCATION:Zaloška 4\, Pred - Lesena - MF
ORGANIZER:Katedra za nevrologijo KN
RELATED-TO:mf-AFLABS-URNIK:srecanje:3839
X-WR-TIMEZONE:Europe/Ljubljana
END:VEVENT
BEGIN:VEVENT
SUMMARY:Živčevje (ŽIVČ)\, Predavanje (P)\, [M4-11\, M4-12\, M4-13\, M4
 -14\, M4-15]
DTSTART;TZID=Europe/Ljubljana:20241023T130000
DTEND;TZID=Europe/Ljubljana:20241023T140000
DTSTAMP:20260420T043245Z
UID:mf-AFLABS-URNIK:premaknjeno-srecanje:20974
ATTENDEE:4. LETNIK (EMŠ M)
CATEGORIES:Entry,Special
COLOR:forestgreen
DESCRIPTION:Predmet: Živčevje (ŽIVČ)\, Predavanje (P)\, [M4-11\, M4-12
 \, M4-13\, M4-14\, M4-15]\nLetniki: 4. LETNIK (EMŠ M)\nIzvajalci: Katedra
  za nevrologijo KN\nProstor: Pred - Lesena - MF
LOCATION:Zaloška 4\, Pred - Lesena - MF
ORGANIZER:Katedra za nevrologijo KN
RELATED-TO:mf-AFLABS-URNIK:srecanje:3840
X-WR-TIMEZONE:Europe/Ljubljana
END:VEVENT
BEGIN:VEVENT
SUMMARY:Živčevje (ŽIVČ)\, Predavanje (P)\, [M4-11\, M4-12\, M4-13\, M4
 -14\, M4-15]
DTSTART;TZID=Europe/Ljubljana:20241023T080000
DTEND;TZID=Europe/Ljubljana:20241023T130000
DTSTAMP:20260420T043245Z
UID:mf-AFLABS-URNIK:premaknjeno-srecanje:21579
ATTENDEE:4. LETNIK (EMŠ M)
CATEGORIES:Entry,Standard
COLOR:darkgreen
DESCRIPTION:Predmet: Živčevje (ŽIVČ)\, Predavanje (P)\, [M4-11\, M4-12
 \, M4-13\, M4-14\, M4-15]\nLetniki: 4. LETNIK (EMŠ M)\nIzvajalci: Katedra
  za nevrologijo KN\nProstor: Pred - Lesena - MF
LOCATION:Zaloška 4\, Pred - Lesena - MF
ORGANIZER:Katedra za nevrologijo KN
RELATED-TO:mf-AFLABS-URNIK:srecanje:3837
X-WR-TIMEZONE:Europe/Ljubljana
END:VEVENT
BEGIN:VEVENT
SUMMARY:Živčevje (ŽIVČ)\, Predavanje (P)\, [M4-11\, M4-12\, M4-13\, M4
 -14\, M4-15]
DTSTART;TZID=Europe/Ljubljana:20241024T080000
DTEND;TZID=Europe/Ljubljana:20241024T130000
DTSTAMP:20260420T043245Z
UID:mf-AFLABS-URNIK:premaknjeno-srecanje:20971
ATTENDEE:4. LETNIK (EMŠ M)
CATEGORIES:Entry,Special
COLOR:forestgreen
DESCRIPTION:Predmet: Živčevje (ŽIVČ)\, Predavanje (P)\, [M4-11\, M4-12
 \, M4-13\, M4-14\, M4-15]\nLetniki: 4. LETNIK (EMŠ M)\nIzvajalci: Katedra
  za nevrologijo KN\nProstor: Pred - Lesena - MF
LOCATION:Zaloška 4\, Pred - Lesena - MF
ORGANIZER:Katedra za nevrologijo KN
RELATED-TO:mf-AFLABS-URNIK:srecanje:3838
X-WR-TIMEZONE:Europe/Ljubljana
END:VEVENT
BEGIN:VEVENT
SUMMARY:Živčevje (ŽIVČ)\, Predavanje (P)\, [M4-11\, M4-12\, M4-13\, M4
 -14\, M4-15]
DTSTART;TZID=Europe/Ljubljana:20241024T130000
DTEND;TZID=Europe/Ljubljana:20241024T140000
DTSTAMP:20260420T043245Z
UID:mf-AFLABS-URNIK:premaknjeno-srecanje:20975
ATTENDEE:4. LETNIK (EMŠ M)
CATEGORIES:Entry,Special
COLOR:forestgreen
DESCRIPTION:Predmet: Živčevje (ŽIVČ)\, Predavanje (P)\, [M4-11\, M4-12
 \, M4-13\, M4-14\, M4-15]\nLetniki: 4. LETNIK (EMŠ M)\nIzvajalci: Katedra
  za nevrologijo KN\nProstor: Pred - Lesena - MF
LOCATION:Zaloška 4\, Pred - Lesena - MF
ORGANIZER:Katedra za nevrologijo KN
RELATED-TO:mf-AFLABS-URNIK:srecanje:3841
X-WR-TIMEZONE:Europe/Ljubljana
END:VEVENT
BEGIN:VEVENT
SUMMARY:Živčevje (ŽIVČ)\, Vaje (V)\, [M4-11\, M4-12\, M4-13\, M4-14\, 
 M4-15]
DTSTART;TZID=Europe/Ljubljana:20241029T080000
DTEND;TZID=Europe/Ljubljana:20241029T150000
DTSTAMP:20260420T043245Z
UID:mf-AFLABS-URNIK:premaknjeno-srecanje:20977
ATTENDEE:4. LETNIK (EMŠ M)
CATEGORIES:Entry,Special
COLOR:forestgreen
DESCRIPTION:Predmet: Živčevje (ŽIVČ)\, Vaje (V)\, [M4-11\, M4-12\, M4-
 13\, M4-14\, M4-15]\nLetniki: 4. LETNIK (EMŠ M)\nIzvajalci: Katedra za ne
 vrologijo KN\nProstor: Drugje
LOCATION:Drugje
ORGANIZER:Katedra za nevrologijo KN
RELATED-TO:mf-AFLABS-URNIK:srecanje:3842
X-WR-TIMEZONE:Europe/Ljubljana
END:VEVENT
BEGIN:VEVENT
SUMMARY:Živčevje (ŽIVČ)\, Vaje (V)\, [M4-11\, M4-12\, M4-13\, M4-14\, 
 M4-15]
DTSTART;TZID=Europe/Ljubljana:20241030T080000
DTEND;TZID=Europe/Ljubljana:20241030T150000
DTSTAMP:20260420T043245Z
UID:mf-AFLABS-URNIK:premaknjeno-srecanje:20978
ATTENDEE:4. LETNIK (EMŠ M)
CATEGORIES:Entry,Special
COLOR:forestgreen
DESCRIPTION:Predmet: Živčevje (ŽIVČ)\, Vaje (V)\, [M4-11\, M4-12\, M4-
 13\, M4-14\, M4-15]\nLetniki: 4. LETNIK (EMŠ M)\nIzvajalci: Katedra za ne
 vrologijo KN\nProstor: Drugje
LOCATION:Drugje
ORGANIZER:Katedra za nevrologijo KN
RELATED-TO:mf-AFLABS-URNIK:srecanje:3843
X-WR-TIMEZONE:Europe/Ljubljana
END:VEVENT
END:VCALENDAR
