BEGIN:VCALENDAR
VERSION:2.0
PRODID:-//AFLabs urnik izvoz - mf//aflabs.si//SI
DTSTAMP:20260420T065741Z
NAME:UL MF urnik
REFRESH-INTERVAL:PT1H
SOURCE:https://afurnik-mf.dev.aflabs.org/teacher/22?day=2023-09-25&export=
 1
URL:https://afurnik-mf.dev.aflabs.org/teacher/22?day=2023-09-25&export=1
X-PUBLISHED-TTL:PT1H
X-WR-CALNAME:UL MF urnik
X-WR-TIMEZONE:Europe/Ljubljana
BEGIN:VTIMEZONE
TZID:Europe/Ljubljana
BEGIN:DAYLIGHT
DTSTART:20260329T020000
RDATE:20260329T020000
RDATE:20270328T020000
TZNAME:CEST
TZOFFSETFROM:+0100
TZOFFSETTO:+0200
END:DAYLIGHT
BEGIN:STANDARD
DTSTART:20261025T030000
RDATE:20261025T030000
RDATE:20271031T030000
TZNAME:CET
TZOFFSETFROM:+0200
TZOFFSETTO:+0100
END:STANDARD
END:VTIMEZONE
BEGIN:VEVENT
SUMMARY:Maksilofacialna in oralna kirurgija 2 (MAFA2)\, Predavnja (Pr)\, [
 D5-01\, D5-02\, D5-03\, D5-04\, D5-05\, D5-06]
DTSTART;TZID=Europe/Ljubljana:20231003T130000
DTEND;TZID=Europe/Ljubljana:20231003T150000
DTSTAMP:20260420T065741Z
UID:mf-AFLABS-URNIK:premaknjeno-srecanje:8014
ATTENDEE:5. LETNIK (EMŠ DM)
CATEGORIES:Entry,Standard
COLOR:darkgreen
DESCRIPTION:Predmet: Maksilofacialna in oralna kirurgija 2 (MAFA2)\, Preda
 vnja (Pr)\, [D5-01\, D5-02\, D5-03\, D5-04\, D5-05\, D5-06]\nLetniki: 5. L
 ETNIK (EMŠ DM)\nIzvajalci: Katedra za maksilofacialno  in o KMOK\nProstor
 : Pred - Stoma
LOCATION:Hrvatski trg 6\, Pred - Stoma
ORGANIZER:Katedra za maksilofacialno  in o KMOK
RELATED-TO:mf-AFLABS-URNIK:srecanje:1617
X-WR-TIMEZONE:Europe/Ljubljana
END:VEVENT
BEGIN:VEVENT
SUMMARY:Maksilofacialna in oralna kirurgija 2 (MAFA2)\, Predavnja (Pr)\, [
 D5-01\, D5-02\, D5-03\, D5-04\, D5-05\, D5-06]
DTSTART;TZID=Europe/Ljubljana:20231010T130000
DTEND;TZID=Europe/Ljubljana:20231010T150000
DTSTAMP:20260420T065741Z
UID:mf-AFLABS-URNIK:premaknjeno-srecanje:8015
ATTENDEE:5. LETNIK (EMŠ DM)
CATEGORIES:Entry,Standard
COLOR:darkgreen
DESCRIPTION:Predmet: Maksilofacialna in oralna kirurgija 2 (MAFA2)\, Preda
 vnja (Pr)\, [D5-01\, D5-02\, D5-03\, D5-04\, D5-05\, D5-06]\nLetniki: 5. L
 ETNIK (EMŠ DM)\nIzvajalci: Katedra za maksilofacialno  in o KMOK\nProstor
 : Pred - Stoma
LOCATION:Hrvatski trg 6\, Pred - Stoma
ORGANIZER:Katedra za maksilofacialno  in o KMOK
RELATED-TO:mf-AFLABS-URNIK:srecanje:1617
X-WR-TIMEZONE:Europe/Ljubljana
END:VEVENT
BEGIN:VEVENT
SUMMARY:Maksilofacialna in oralna kirurgija 2 (MAFA2)\, Predavnja (Pr)\, [
 D5-01\, D5-02\, D5-03\, D5-04\, D5-05\, D5-06]
DTSTART;TZID=Europe/Ljubljana:20231017T130000
DTEND;TZID=Europe/Ljubljana:20231017T150000
DTSTAMP:20260420T065741Z
UID:mf-AFLABS-URNIK:premaknjeno-srecanje:8016
ATTENDEE:5. LETNIK (EMŠ DM)
CATEGORIES:Entry,Standard
COLOR:darkgreen
DESCRIPTION:Predmet: Maksilofacialna in oralna kirurgija 2 (MAFA2)\, Preda
 vnja (Pr)\, [D5-01\, D5-02\, D5-03\, D5-04\, D5-05\, D5-06]\nLetniki: 5. L
 ETNIK (EMŠ DM)\nIzvajalci: Katedra za maksilofacialno  in o KMOK\nProstor
 : Pred - Stoma
LOCATION:Hrvatski trg 6\, Pred - Stoma
ORGANIZER:Katedra za maksilofacialno  in o KMOK
RELATED-TO:mf-AFLABS-URNIK:srecanje:1617
X-WR-TIMEZONE:Europe/Ljubljana
END:VEVENT
BEGIN:VEVENT
SUMMARY:Maksilofacialna in oralna kirurgija 2 (MAFA2)\, Predavnja (Pr)\, [
 D5-01\, D5-02\, D5-03\, D5-04\, D5-05\, D5-06]
DTSTART;TZID=Europe/Ljubljana:20231024T130000
DTEND;TZID=Europe/Ljubljana:20231024T150000
DTSTAMP:20260420T065741Z
UID:mf-AFLABS-URNIK:premaknjeno-srecanje:8017
ATTENDEE:5. LETNIK (EMŠ DM)
CATEGORIES:Entry,Standard
COLOR:darkgreen
DESCRIPTION:Predmet: Maksilofacialna in oralna kirurgija 2 (MAFA2)\, Preda
 vnja (Pr)\, [D5-01\, D5-02\, D5-03\, D5-04\, D5-05\, D5-06]\nLetniki: 5. L
 ETNIK (EMŠ DM)\nIzvajalci: Katedra za maksilofacialno  in o KMOK\nProstor
 : Pred - Stoma
LOCATION:Hrvatski trg 6\, Pred - Stoma
ORGANIZER:Katedra za maksilofacialno  in o KMOK
RELATED-TO:mf-AFLABS-URNIK:srecanje:1617
X-WR-TIMEZONE:Europe/Ljubljana
END:VEVENT
BEGIN:VEVENT
SUMMARY:Pediatrija s klinično genetiko (PEDKG)\, Predavanje (P)\, [D5-01\
 , D5-02\, D5-03\, D5-04\, D5-05\, D5-06]
DTSTART;TZID=Europe/Ljubljana:20231024T150000
DTEND;TZID=Europe/Ljubljana:20231024T160000
DTSTAMP:20260420T065741Z
UID:mf-AFLABS-URNIK:premaknjeno-srecanje:8161
ATTENDEE:5. LETNIK (EMŠ DM)
CATEGORIES:Entry,Standard
COLOR:darkgreen
DESCRIPTION:Predmet: Pediatrija s klinično genetiko (PEDKG)\, Predavanje 
 (P)\, [D5-01\, D5-02\, D5-03\, D5-04\, D5-05\, D5-06]\nLetniki: 5. LETNIK 
 (EMŠ DM)\nIzvajalci: Katedra za infekcijske bolezni i KIBE\, Katedra za m
 aksilofacialno  in o KMOK\, Katedra za otroško in preventivn KOPZ\, Kated
 ra za radiologijo KRD\, Katedra za ustne bolezni in paro KUBP\, Katedra za
  zobne bolezni in norm KZBNMZO\nProstor: Pred - Stoma
LOCATION:Hrvatski trg 6\, Pred - Stoma
ORGANIZER:Katedra za infekcijske bolezni i KIBE, Katedra za maksilofacialn
 o  in o KMOK, Katedra za otroško in preventivn KOPZ, Katedra za radiologi
 jo KRD, Katedra za ustne bolezni in paro KUBP, Katedra za zobne bolezni in
  norm KZBNMZO
RELATED-TO:mf-AFLABS-URNIK:srecanje:1633
X-WR-TIMEZONE:Europe/Ljubljana
END:VEVENT
BEGIN:VEVENT
SUMMARY:Pediatrija s klinično genetiko (PEDKG)\, Predavanje (P)\, [D5-01\
 , D5-02\, D5-03\, D5-04\, D5-05\, D5-06]
DTSTART;TZID=Europe/Ljubljana:20231026T130000
DTEND;TZID=Europe/Ljubljana:20231026T160000
DTSTAMP:20260420T065741Z
UID:mf-AFLABS-URNIK:premaknjeno-srecanje:8166
ATTENDEE:5. LETNIK (EMŠ DM)
CATEGORIES:Entry,Standard
COLOR:darkgreen
DESCRIPTION:Predmet: Pediatrija s klinično genetiko (PEDKG)\, Predavanje 
 (P)\, [D5-01\, D5-02\, D5-03\, D5-04\, D5-05\, D5-06]\nLetniki: 5. LETNIK 
 (EMŠ DM)\nIzvajalci: Katedra za infekcijske bolezni i KIBE\, Katedra za m
 aksilofacialno  in o KMOK\, Katedra za otroško in preventivn KOPZ\, Kated
 ra za radiologijo KRD\, Katedra za ustne bolezni in paro KUBP\, Katedra za
  zobne bolezni in norm KZBNMZO\nProstor: Pred - Stoma
LOCATION:Hrvatski trg 6\, Pred - Stoma
ORGANIZER:Katedra za infekcijske bolezni i KIBE, Katedra za maksilofacialn
 o  in o KMOK, Katedra za otroško in preventivn KOPZ, Katedra za radiologi
 jo KRD, Katedra za ustne bolezni in paro KUBP, Katedra za zobne bolezni in
  norm KZBNMZO
RELATED-TO:mf-AFLABS-URNIK:srecanje:1634
X-WR-TIMEZONE:Europe/Ljubljana
END:VEVENT
END:VCALENDAR
