BEGIN:VCALENDAR
VERSION:2.0
PRODID:-//AFLabs urnik izvoz - mf//aflabs.si//SI
DTSTAMP:20260420T054602Z
NAME:UL MF urnik
REFRESH-INTERVAL:PT1H
SOURCE:https://afurnik-mf.dev.aflabs.org/teacher/22?day=2024-10-01&export=
 1
URL:https://afurnik-mf.dev.aflabs.org/teacher/22?day=2024-10-01&export=1
X-PUBLISHED-TTL:PT1H
X-WR-CALNAME:UL MF urnik
X-WR-TIMEZONE:Europe/Ljubljana
BEGIN:VTIMEZONE
TZID:Europe/Ljubljana
BEGIN:DAYLIGHT
DTSTART:20260329T020000
RDATE:20260329T020000
RDATE:20270328T020000
TZNAME:CEST
TZOFFSETFROM:+0100
TZOFFSETTO:+0200
END:DAYLIGHT
BEGIN:STANDARD
DTSTART:20261025T030000
RDATE:20261025T030000
RDATE:20271031T030000
TZNAME:CET
TZOFFSETFROM:+0200
TZOFFSETTO:+0100
END:STANDARD
END:VTIMEZONE
BEGIN:VEVENT
SUMMARY:Maksilofacialna in oralna kirurgija 2 (MAFA2)\, Predavnja (Pr)
DTSTART;TZID=Europe/Ljubljana:20241001T130000
DTEND;TZID=Europe/Ljubljana:20241001T150000
DTSTAMP:20260420T054602Z
UID:mf-AFLABS-URNIK:premaknjeno-srecanje:13258
ATTENDEE:5. LETNIK (EMŠ DM)
CATEGORIES:Entry,Special
COLOR:forestgreen
DESCRIPTION:Predmet: Maksilofacialna in oralna kirurgija 2 (MAFA2)\, Preda
 vnja (Pr)\nLetniki: 5. LETNIK (EMŠ DM)\nIzvajalci: Katedra za maksilofaci
 alno  in o KMOK\nProstor: Pred - Stoma
LOCATION:Hrvatski trg 6\, Pred - Stoma
ORGANIZER:Katedra za maksilofacialno  in o KMOK
RELATED-TO:mf-AFLABS-URNIK:srecanje:2517
X-WR-TIMEZONE:Europe/Ljubljana
END:VEVENT
BEGIN:VEVENT
SUMMARY:Maksilofacialna in oralna kirurgija 2 (MAFA2)\, Predavnja (Pr)
DTSTART;TZID=Europe/Ljubljana:20241008T130000
DTEND;TZID=Europe/Ljubljana:20241008T150000
DTSTAMP:20260420T054602Z
UID:mf-AFLABS-URNIK:premaknjeno-srecanje:13259
ATTENDEE:5. LETNIK (EMŠ DM)
CATEGORIES:Entry,Special
COLOR:forestgreen
DESCRIPTION:Predmet: Maksilofacialna in oralna kirurgija 2 (MAFA2)\, Preda
 vnja (Pr)\nLetniki: 5. LETNIK (EMŠ DM)\nIzvajalci: Katedra za maksilofaci
 alno  in o KMOK\nProstor: Pred - Stoma
LOCATION:Hrvatski trg 6\, Pred - Stoma
ORGANIZER:Katedra za maksilofacialno  in o KMOK
RELATED-TO:mf-AFLABS-URNIK:srecanje:2517
X-WR-TIMEZONE:Europe/Ljubljana
END:VEVENT
BEGIN:VEVENT
SUMMARY:Maksilofacialna in oralna kirurgija 2 (MAFA2)\, Predavnja (Pr)
DTSTART;TZID=Europe/Ljubljana:20241015T130000
DTEND;TZID=Europe/Ljubljana:20241015T150000
DTSTAMP:20260420T054602Z
UID:mf-AFLABS-URNIK:premaknjeno-srecanje:13260
ATTENDEE:5. LETNIK (EMŠ DM)
CATEGORIES:Entry,Special
COLOR:forestgreen
DESCRIPTION:Predmet: Maksilofacialna in oralna kirurgija 2 (MAFA2)\, Preda
 vnja (Pr)\nLetniki: 5. LETNIK (EMŠ DM)\nIzvajalci: Katedra za maksilofaci
 alno  in o KMOK\nProstor: Pred - Stoma
LOCATION:Hrvatski trg 6\, Pred - Stoma
ORGANIZER:Katedra za maksilofacialno  in o KMOK
RELATED-TO:mf-AFLABS-URNIK:srecanje:2517
X-WR-TIMEZONE:Europe/Ljubljana
END:VEVENT
BEGIN:VEVENT
SUMMARY:Maksilofacialna in oralna kirurgija 2 (MAFA2)\, Predavnja (Pr)
DTSTART;TZID=Europe/Ljubljana:20241022T130000
DTEND;TZID=Europe/Ljubljana:20241022T150000
DTSTAMP:20260420T054602Z
UID:mf-AFLABS-URNIK:premaknjeno-srecanje:13261
ATTENDEE:5. LETNIK (EMŠ DM)
CATEGORIES:Entry,Special
COLOR:forestgreen
DESCRIPTION:Predmet: Maksilofacialna in oralna kirurgija 2 (MAFA2)\, Preda
 vnja (Pr)\nLetniki: 5. LETNIK (EMŠ DM)\nIzvajalci: Katedra za maksilofaci
 alno  in o KMOK\nProstor: Pred - Stoma
LOCATION:Hrvatski trg 6\, Pred - Stoma
ORGANIZER:Katedra za maksilofacialno  in o KMOK
RELATED-TO:mf-AFLABS-URNIK:srecanje:2517
X-WR-TIMEZONE:Europe/Ljubljana
END:VEVENT
BEGIN:VEVENT
SUMMARY:Maksilofacialna in oralna kirurgija 2 (MAFA2)\, Predavnja (Pr)
DTSTART;TZID=Europe/Ljubljana:20241029T130000
DTEND;TZID=Europe/Ljubljana:20241029T150000
DTSTAMP:20260420T054602Z
UID:mf-AFLABS-URNIK:premaknjeno-srecanje:13262
ATTENDEE:5. LETNIK (EMŠ DM)
CATEGORIES:Entry,Special
COLOR:forestgreen
DESCRIPTION:Predmet: Maksilofacialna in oralna kirurgija 2 (MAFA2)\, Preda
 vnja (Pr)\nLetniki: 5. LETNIK (EMŠ DM)\nIzvajalci: Katedra za maksilofaci
 alno  in o KMOK\nProstor: Pred - Stoma
LOCATION:Hrvatski trg 6\, Pred - Stoma
ORGANIZER:Katedra za maksilofacialno  in o KMOK
RELATED-TO:mf-AFLABS-URNIK:srecanje:2517
X-WR-TIMEZONE:Europe/Ljubljana
END:VEVENT
BEGIN:VEVENT
SUMMARY:Maksilofacialna in oralna kirurgija 2 (MAFA2)\, Predavnja (Pr)
DTSTART;TZID=Europe/Ljubljana:20241105T130000
DTEND;TZID=Europe/Ljubljana:20241105T150000
DTSTAMP:20260420T054602Z
UID:mf-AFLABS-URNIK:premaknjeno-srecanje:13263
ATTENDEE:5. LETNIK (EMŠ DM)
CATEGORIES:Entry,Special
COLOR:forestgreen
DESCRIPTION:Predmet: Maksilofacialna in oralna kirurgija 2 (MAFA2)\, Preda
 vnja (Pr)\nLetniki: 5. LETNIK (EMŠ DM)\nIzvajalci: Katedra za maksilofaci
 alno  in o KMOK\nProstor: Pred - Stoma
LOCATION:Hrvatski trg 6\, Pred - Stoma
ORGANIZER:Katedra za maksilofacialno  in o KMOK
RELATED-TO:mf-AFLABS-URNIK:srecanje:2517
X-WR-TIMEZONE:Europe/Ljubljana
END:VEVENT
BEGIN:VEVENT
SUMMARY:Pediatrija s klinično genetiko (PEDKG)\, Predavanje (P)
DTSTART;TZID=Europe/Ljubljana:20241022T150000
DTEND;TZID=Europe/Ljubljana:20241022T160000
DTSTAMP:20260420T054602Z
UID:mf-AFLABS-URNIK:premaknjeno-srecanje:13516
ATTENDEE:5. LETNIK (EMŠ DM)
CATEGORIES:Entry,Special
COLOR:forestgreen
DESCRIPTION:Predmet: Pediatrija s klinično genetiko (PEDKG)\, Predavanje 
 (P)\nLetniki: 5. LETNIK (EMŠ DM)\nIzvajalci: Katedra za infekcijske bolez
 ni i KIBE\, Katedra za maksilofacialno  in o KMOK\, Katedra za otroško in
  preventivn KOPZ\, Katedra za radiologijo KRD\, Katedra za ustne bolezni i
 n paro KUBP\, Katedra za zobne bolezni in norm KZBNMZO\nProstor: Pred - St
 oma
LOCATION:Hrvatski trg 6\, Pred - Stoma
ORGANIZER:Katedra za infekcijske bolezni i KIBE, Katedra za maksilofacialn
 o  in o KMOK, Katedra za otroško in preventivn KOPZ, Katedra za radiologi
 jo KRD, Katedra za ustne bolezni in paro KUBP, Katedra za zobne bolezni in
  norm KZBNMZO
RELATED-TO:mf-AFLABS-URNIK:srecanje:2538
X-WR-TIMEZONE:Europe/Ljubljana
END:VEVENT
BEGIN:VEVENT
SUMMARY:Pediatrija s klinično genetiko (PEDKG)\, Predavanje (P)
DTSTART;TZID=Europe/Ljubljana:20241029T150000
DTEND;TZID=Europe/Ljubljana:20241029T160000
DTSTAMP:20260420T054602Z
UID:mf-AFLABS-URNIK:premaknjeno-srecanje:13517
ATTENDEE:5. LETNIK (EMŠ DM)
CATEGORIES:Entry,Special
COLOR:forestgreen
DESCRIPTION:Predmet: Pediatrija s klinično genetiko (PEDKG)\, Predavanje 
 (P)\nLetniki: 5. LETNIK (EMŠ DM)\nIzvajalci: Katedra za infekcijske bolez
 ni i KIBE\, Katedra za maksilofacialno  in o KMOK\, Katedra za otroško in
  preventivn KOPZ\, Katedra za radiologijo KRD\, Katedra za ustne bolezni i
 n paro KUBP\, Katedra za zobne bolezni in norm KZBNMZO\nProstor: Pred - St
 oma
LOCATION:Hrvatski trg 6\, Pred - Stoma
ORGANIZER:Katedra za infekcijske bolezni i KIBE, Katedra za maksilofacialn
 o  in o KMOK, Katedra za otroško in preventivn KOPZ, Katedra za radiologi
 jo KRD, Katedra za ustne bolezni in paro KUBP, Katedra za zobne bolezni in
  norm KZBNMZO
RELATED-TO:mf-AFLABS-URNIK:srecanje:2538
X-WR-TIMEZONE:Europe/Ljubljana
END:VEVENT
BEGIN:VEVENT
SUMMARY:Pediatrija s klinično genetiko (PEDKG)\, Predavanje (P)
DTSTART;TZID=Europe/Ljubljana:20241105T150000
DTEND;TZID=Europe/Ljubljana:20241105T160000
DTSTAMP:20260420T054602Z
UID:mf-AFLABS-URNIK:premaknjeno-srecanje:13518
ATTENDEE:5. LETNIK (EMŠ DM)
CATEGORIES:Entry,Special
COLOR:forestgreen
DESCRIPTION:Predmet: Pediatrija s klinično genetiko (PEDKG)\, Predavanje 
 (P)\nLetniki: 5. LETNIK (EMŠ DM)\nIzvajalci: Katedra za infekcijske bolez
 ni i KIBE\, Katedra za maksilofacialno  in o KMOK\, Katedra za otroško in
  preventivn KOPZ\, Katedra za radiologijo KRD\, Katedra za ustne bolezni i
 n paro KUBP\, Katedra za zobne bolezni in norm KZBNMZO\nProstor: Pred - St
 oma
LOCATION:Hrvatski trg 6\, Pred - Stoma
ORGANIZER:Katedra za infekcijske bolezni i KIBE, Katedra za maksilofacialn
 o  in o KMOK, Katedra za otroško in preventivn KOPZ, Katedra za radiologi
 jo KRD, Katedra za ustne bolezni in paro KUBP, Katedra za zobne bolezni in
  norm KZBNMZO
RELATED-TO:mf-AFLABS-URNIK:srecanje:2538
X-WR-TIMEZONE:Europe/Ljubljana
END:VEVENT
BEGIN:VEVENT
SUMMARY:Pediatrija s klinično genetiko (PEDKG)\, Predavanje (P)
DTSTART;TZID=Europe/Ljubljana:20241024T130000
DTEND;TZID=Europe/Ljubljana:20241024T160000
DTSTAMP:20260420T054602Z
UID:mf-AFLABS-URNIK:premaknjeno-srecanje:13521
ATTENDEE:5. LETNIK (EMŠ DM)
CATEGORIES:Entry,Special
COLOR:forestgreen
DESCRIPTION:Predmet: Pediatrija s klinično genetiko (PEDKG)\, Predavanje 
 (P)\nLetniki: 5. LETNIK (EMŠ DM)\nIzvajalci: Katedra za infekcijske bolez
 ni i KIBE\, Katedra za maksilofacialno  in o KMOK\, Katedra za otroško in
  preventivn KOPZ\, Katedra za radiologijo KRD\, Katedra za ustne bolezni i
 n paro KUBP\, Katedra za zobne bolezni in norm KZBNMZO\nProstor: Pred - St
 oma
LOCATION:Hrvatski trg 6\, Pred - Stoma
ORGANIZER:Katedra za infekcijske bolezni i KIBE, Katedra za maksilofacialn
 o  in o KMOK, Katedra za otroško in preventivn KOPZ, Katedra za radiologi
 jo KRD, Katedra za ustne bolezni in paro KUBP, Katedra za zobne bolezni in
  norm KZBNMZO
RELATED-TO:mf-AFLABS-URNIK:srecanje:2539
X-WR-TIMEZONE:Europe/Ljubljana
END:VEVENT
BEGIN:VEVENT
SUMMARY:Maksilofacialna kirurgija s temelji dentalne medicine (MAFA)\, Pre
 davanje (P)\, [M5-06\, M5-07\, M5-08\, M5-09\, M5-10]
DTSTART;TZID=Europe/Ljubljana:20241028T120000
DTEND;TZID=Europe/Ljubljana:20241028T150000
DTSTAMP:20260420T054602Z
UID:mf-AFLABS-URNIK:premaknjeno-srecanje:20812
ATTENDEE:5. LETNIK (EMŠ M)
CATEGORIES:Entry,Special
COLOR:forestgreen
DESCRIPTION:Predmet: Maksilofacialna kirurgija s temelji dentalne medicine
  (MAFA)\, Predavanje (P)\, [M5-06\, M5-07\, M5-08\, M5-09\, M5-10]\nLetnik
 i: 5. LETNIK (EMŠ M)\nIzvajalci: Katedra za maksilofacialno  in o KMOK\nP
 rostor: Pred - Travma - UKC
LOCATION:Zaloška 2\, Pred - Travma - UKC
ORGANIZER:Katedra za maksilofacialno  in o KMOK
RELATED-TO:mf-AFLABS-URNIK:srecanje:3741
X-WR-TIMEZONE:Europe/Ljubljana
END:VEVENT
BEGIN:VEVENT
SUMMARY:Maksilofacialna kirurgija s temelji dentalne medicine (MAFA)\, Vaj
 e (V)\, [M5-06\, M5-07\, M5-08\, M5-09\, M5-10]
DTSTART;TZID=Europe/Ljubljana:20241029T090000
DTEND;TZID=Europe/Ljubljana:20241029T130000
DTSTAMP:20260420T054602Z
UID:mf-AFLABS-URNIK:premaknjeno-srecanje:20813
ATTENDEE:5. LETNIK (EMŠ M)
CATEGORIES:Entry,Special
COLOR:forestgreen
DESCRIPTION:Predmet: Maksilofacialna kirurgija s temelji dentalne medicine
  (MAFA)\, Vaje (V)\, [M5-06\, M5-07\, M5-08\, M5-09\, M5-10]\nLetniki: 5. 
 LETNIK (EMŠ M)\nIzvajalci: Katedra za maksilofacialno  in o KMOK\nProstor
 : Knjižnica - 57 - Stoma
LOCATION:Hrvatski trg 6\, Knjižnica - 57 - Stoma
ORGANIZER:Katedra za maksilofacialno  in o KMOK
RELATED-TO:mf-AFLABS-URNIK:srecanje:3742
X-WR-TIMEZONE:Europe/Ljubljana
END:VEVENT
BEGIN:VEVENT
SUMMARY:Maksilofacialna kirurgija s temelji dentalne medicine (MAFA)\, Vaj
 e (V)\, [M5-06\, M5-07\, M5-08\, M5-09\, M5-10]
DTSTART;TZID=Europe/Ljubljana:20241105T090000
DTEND;TZID=Europe/Ljubljana:20241105T130000
DTSTAMP:20260420T054602Z
UID:mf-AFLABS-URNIK:premaknjeno-srecanje:20820
ATTENDEE:5. LETNIK (EMŠ M)
CATEGORIES:Entry,Special
COLOR:forestgreen
DESCRIPTION:Predmet: Maksilofacialna kirurgija s temelji dentalne medicine
  (MAFA)\, Vaje (V)\, [M5-06\, M5-07\, M5-08\, M5-09\, M5-10]\nLetniki: 5. 
 LETNIK (EMŠ M)\nIzvajalci: Katedra za maksilofacialno  in o KMOK\nProstor
 : Knjižnica - 57 - Stoma
LOCATION:Hrvatski trg 6\, Knjižnica - 57 - Stoma
ORGANIZER:Katedra za maksilofacialno  in o KMOK
RELATED-TO:mf-AFLABS-URNIK:srecanje:3742
X-WR-TIMEZONE:Europe/Ljubljana
END:VEVENT
BEGIN:VEVENT
SUMMARY:Maksilofacialna kirurgija s temelji dentalne medicine (MAFA)\, Pre
 davanje (P)\, [M5-06\, M5-07\, M5-08\, M5-09\, M5-10]
DTSTART;TZID=Europe/Ljubljana:20241029T130000
DTEND;TZID=Europe/Ljubljana:20241029T150000
DTSTAMP:20260420T054602Z
UID:mf-AFLABS-URNIK:premaknjeno-srecanje:20815
ATTENDEE:5. LETNIK (EMŠ M)
CATEGORIES:Entry,Special
COLOR:forestgreen
DESCRIPTION:Predmet: Maksilofacialna kirurgija s temelji dentalne medicine
  (MAFA)\, Predavanje (P)\, [M5-06\, M5-07\, M5-08\, M5-09\, M5-10]\nLetnik
 i: 5. LETNIK (EMŠ M)\nIzvajalci: Katedra za maksilofacialno  in o KMOK\nP
 rostor: Pred - Lesena - MF
LOCATION:Zaloška 4\, Pred - Lesena - MF
ORGANIZER:Katedra za maksilofacialno  in o KMOK
RELATED-TO:mf-AFLABS-URNIK:srecanje:3744
X-WR-TIMEZONE:Europe/Ljubljana
END:VEVENT
BEGIN:VEVENT
SUMMARY:Maksilofacialna kirurgija s temelji dentalne medicine (MAFA)\, Pre
 davanje (P)\, [M5-06\, M5-07\, M5-08\, M5-09\, M5-10]
DTSTART;TZID=Europe/Ljubljana:20241105T130000
DTEND;TZID=Europe/Ljubljana:20241105T150000
DTSTAMP:20260420T054602Z
UID:mf-AFLABS-URNIK:premaknjeno-srecanje:20823
ATTENDEE:5. LETNIK (EMŠ M)
CATEGORIES:Entry,Special
COLOR:forestgreen
DESCRIPTION:Predmet: Maksilofacialna kirurgija s temelji dentalne medicine
  (MAFA)\, Predavanje (P)\, [M5-06\, M5-07\, M5-08\, M5-09\, M5-10]\nLetnik
 i: 5. LETNIK (EMŠ M)\nIzvajalci: Katedra za maksilofacialno  in o KMOK\nP
 rostor: Pred - Lesena - MF
LOCATION:Zaloška 4\, Pred - Lesena - MF
ORGANIZER:Katedra za maksilofacialno  in o KMOK
RELATED-TO:mf-AFLABS-URNIK:srecanje:3744
X-WR-TIMEZONE:Europe/Ljubljana
END:VEVENT
BEGIN:VEVENT
SUMMARY:Maksilofacialna kirurgija s temelji dentalne medicine (MAFA)\, Vaj
 e (V)\, [M5-06\, M5-07\, M5-08\, M5-09\, M5-10]
DTSTART;TZID=Europe/Ljubljana:20241029T150000
DTEND;TZID=Europe/Ljubljana:20241029T170000
DTSTAMP:20260420T054602Z
UID:mf-AFLABS-URNIK:premaknjeno-srecanje:20817
ATTENDEE:5. LETNIK (EMŠ M)
CATEGORIES:Entry,Special
COLOR:forestgreen
DESCRIPTION:Predmet: Maksilofacialna kirurgija s temelji dentalne medicine
  (MAFA)\, Vaje (V)\, [M5-06\, M5-07\, M5-08\, M5-09\, M5-10]\nLetniki: 5. 
 LETNIK (EMŠ M)\nIzvajalci: Katedra za maksilofacialno  in o KMOK\nProstor
 : Knjižnica - 57 - Stoma
LOCATION:Hrvatski trg 6\, Knjižnica - 57 - Stoma
ORGANIZER:Katedra za maksilofacialno  in o KMOK
RELATED-TO:mf-AFLABS-URNIK:srecanje:3746
X-WR-TIMEZONE:Europe/Ljubljana
END:VEVENT
BEGIN:VEVENT
SUMMARY:Maksilofacialna kirurgija s temelji dentalne medicine (MAFA)\, Vaj
 e (V)\, [M5-06\, M5-07\, M5-08\, M5-09\, M5-10]
DTSTART;TZID=Europe/Ljubljana:20241105T150000
DTEND;TZID=Europe/Ljubljana:20241105T170000
DTSTAMP:20260420T054602Z
UID:mf-AFLABS-URNIK:premaknjeno-srecanje:20826
ATTENDEE:5. LETNIK (EMŠ M)
CATEGORIES:Entry,Special
COLOR:forestgreen
DESCRIPTION:Predmet: Maksilofacialna kirurgija s temelji dentalne medicine
  (MAFA)\, Vaje (V)\, [M5-06\, M5-07\, M5-08\, M5-09\, M5-10]\nLetniki: 5. 
 LETNIK (EMŠ M)\nIzvajalci: Katedra za maksilofacialno  in o KMOK\nProstor
 : Knjižnica - 57 - Stoma
LOCATION:Hrvatski trg 6\, Knjižnica - 57 - Stoma
ORGANIZER:Katedra za maksilofacialno  in o KMOK
RELATED-TO:mf-AFLABS-URNIK:srecanje:3746
X-WR-TIMEZONE:Europe/Ljubljana
END:VEVENT
BEGIN:VEVENT
SUMMARY:Maksilofacialna kirurgija s temelji dentalne medicine (MAFA)\, Vaj
 e (V)\, [M5-06\, M5-07\, M5-08\, M5-09\, M5-10]
DTSTART;TZID=Europe/Ljubljana:20241030T090000
DTEND;TZID=Europe/Ljubljana:20241030T130000
DTSTAMP:20260420T054602Z
UID:mf-AFLABS-URNIK:premaknjeno-srecanje:20814
ATTENDEE:5. LETNIK (EMŠ M)
CATEGORIES:Entry,Special
COLOR:forestgreen
DESCRIPTION:Predmet: Maksilofacialna kirurgija s temelji dentalne medicine
  (MAFA)\, Vaje (V)\, [M5-06\, M5-07\, M5-08\, M5-09\, M5-10]\nLetniki: 5. 
 LETNIK (EMŠ M)\nIzvajalci: Katedra za maksilofacialno  in o KMOK\nProstor
 : Knjižnica - 57 - Stoma
LOCATION:Hrvatski trg 6\, Knjižnica - 57 - Stoma
ORGANIZER:Katedra za maksilofacialno  in o KMOK
RELATED-TO:mf-AFLABS-URNIK:srecanje:3743
X-WR-TIMEZONE:Europe/Ljubljana
END:VEVENT
BEGIN:VEVENT
SUMMARY:Maksilofacialna kirurgija s temelji dentalne medicine (MAFA)\, Pre
 davanje (P)\, [M5-06\, M5-07\, M5-08\, M5-09\, M5-10]
DTSTART;TZID=Europe/Ljubljana:20241030T130000
DTEND;TZID=Europe/Ljubljana:20241030T150000
DTSTAMP:20260420T054602Z
UID:mf-AFLABS-URNIK:premaknjeno-srecanje:20816
ATTENDEE:5. LETNIK (EMŠ M)
CATEGORIES:Entry,Special
COLOR:forestgreen
DESCRIPTION:Predmet: Maksilofacialna kirurgija s temelji dentalne medicine
  (MAFA)\, Predavanje (P)\, [M5-06\, M5-07\, M5-08\, M5-09\, M5-10]\nLetnik
 i: 5. LETNIK (EMŠ M)\nIzvajalci: Katedra za maksilofacialno  in o KMOK\nP
 rostor: Pred - Lesena - MF
LOCATION:Zaloška 4\, Pred - Lesena - MF
ORGANIZER:Katedra za maksilofacialno  in o KMOK
RELATED-TO:mf-AFLABS-URNIK:srecanje:3745
X-WR-TIMEZONE:Europe/Ljubljana
END:VEVENT
BEGIN:VEVENT
SUMMARY:Maksilofacialna kirurgija s temelji dentalne medicine (MAFA)\, Vaj
 e (V)\, [M5-06\, M5-07\, M5-08\, M5-09\, M5-10]
DTSTART;TZID=Europe/Ljubljana:20241030T150000
DTEND;TZID=Europe/Ljubljana:20241030T170000
DTSTAMP:20260420T054602Z
UID:mf-AFLABS-URNIK:premaknjeno-srecanje:20818
ATTENDEE:5. LETNIK (EMŠ M)
CATEGORIES:Entry,Special
COLOR:forestgreen
DESCRIPTION:Predmet: Maksilofacialna kirurgija s temelji dentalne medicine
  (MAFA)\, Vaje (V)\, [M5-06\, M5-07\, M5-08\, M5-09\, M5-10]\nLetniki: 5. 
 LETNIK (EMŠ M)\nIzvajalci: Katedra za maksilofacialno  in o KMOK\nProstor
 : Knjižnica - 57 - Stoma
LOCATION:Hrvatski trg 6\, Knjižnica - 57 - Stoma
ORGANIZER:Katedra za maksilofacialno  in o KMOK
RELATED-TO:mf-AFLABS-URNIK:srecanje:3747
X-WR-TIMEZONE:Europe/Ljubljana
END:VEVENT
BEGIN:VEVENT
SUMMARY:Maksilofacialna kirurgija s temelji dentalne medicine (MAFA)\, Vaj
 e (V)\, [M5-06\, M5-07\, M5-08\, M5-09\, M5-10]
DTSTART;TZID=Europe/Ljubljana:20241104T090000
DTEND;TZID=Europe/Ljubljana:20241104T130000
DTSTAMP:20260420T054602Z
UID:mf-AFLABS-URNIK:premaknjeno-srecanje:20819
ATTENDEE:5. LETNIK (EMŠ M)
CATEGORIES:Entry,Special
COLOR:forestgreen
DESCRIPTION:Predmet: Maksilofacialna kirurgija s temelji dentalne medicine
  (MAFA)\, Vaje (V)\, [M5-06\, M5-07\, M5-08\, M5-09\, M5-10]\nLetniki: 5. 
 LETNIK (EMŠ M)\nIzvajalci: Katedra za maksilofacialno  in o KMOK\nProstor
 : Knjižnica - 57 - Stoma
LOCATION:Hrvatski trg 6\, Knjižnica - 57 - Stoma
ORGANIZER:Katedra za maksilofacialno  in o KMOK
RELATED-TO:mf-AFLABS-URNIK:srecanje:3748
X-WR-TIMEZONE:Europe/Ljubljana
END:VEVENT
BEGIN:VEVENT
SUMMARY:Maksilofacialna kirurgija s temelji dentalne medicine (MAFA)\, Pre
 davanje (P)\, [M5-06\, M5-07\, M5-08\, M5-09\, M5-10]
DTSTART;TZID=Europe/Ljubljana:20241104T130000
DTEND;TZID=Europe/Ljubljana:20241104T150000
DTSTAMP:20260420T054602Z
UID:mf-AFLABS-URNIK:premaknjeno-srecanje:20822
ATTENDEE:5. LETNIK (EMŠ M)
CATEGORIES:Entry,Special
COLOR:forestgreen
DESCRIPTION:Predmet: Maksilofacialna kirurgija s temelji dentalne medicine
  (MAFA)\, Predavanje (P)\, [M5-06\, M5-07\, M5-08\, M5-09\, M5-10]\nLetnik
 i: 5. LETNIK (EMŠ M)\nIzvajalci: Katedra za maksilofacialno  in o KMOK\nP
 rostor: Pred - Lesena - MF
LOCATION:Zaloška 4\, Pred - Lesena - MF
ORGANIZER:Katedra za maksilofacialno  in o KMOK
RELATED-TO:mf-AFLABS-URNIK:srecanje:3749
X-WR-TIMEZONE:Europe/Ljubljana
END:VEVENT
BEGIN:VEVENT
SUMMARY:Maksilofacialna kirurgija s temelji dentalne medicine (MAFA)\, Vaj
 e (V)\, [M5-06\, M5-07\, M5-08\, M5-09\, M5-10]
DTSTART;TZID=Europe/Ljubljana:20241104T150000
DTEND;TZID=Europe/Ljubljana:20241104T170000
DTSTAMP:20260420T054602Z
UID:mf-AFLABS-URNIK:premaknjeno-srecanje:20825
ATTENDEE:5. LETNIK (EMŠ M)
CATEGORIES:Entry,Special
COLOR:forestgreen
DESCRIPTION:Predmet: Maksilofacialna kirurgija s temelji dentalne medicine
  (MAFA)\, Vaje (V)\, [M5-06\, M5-07\, M5-08\, M5-09\, M5-10]\nLetniki: 5. 
 LETNIK (EMŠ M)\nIzvajalci: Katedra za maksilofacialno  in o KMOK\nProstor
 : Knjižnica - 57 - Stoma
LOCATION:Hrvatski trg 6\, Knjižnica - 57 - Stoma
ORGANIZER:Katedra za maksilofacialno  in o KMOK
RELATED-TO:mf-AFLABS-URNIK:srecanje:3750
X-WR-TIMEZONE:Europe/Ljubljana
END:VEVENT
END:VCALENDAR
