BEGIN:VCALENDAR
VERSION:2.0
PRODID:-//AFLabs urnik izvoz - mf//aflabs.si//SI
DTSTAMP:20260420T104647Z
NAME:UL MF urnik
REFRESH-INTERVAL:PT1H
SOURCE:https://afurnik-mf.dev.aflabs.org/teacher/27?day=2024-09-09&export=
 1
URL:https://afurnik-mf.dev.aflabs.org/teacher/27?day=2024-09-09&export=1
X-PUBLISHED-TTL:PT1H
X-WR-CALNAME:UL MF urnik
X-WR-TIMEZONE:Europe/Ljubljana
BEGIN:VTIMEZONE
TZID:Europe/Ljubljana
BEGIN:DAYLIGHT
DTSTART:20260329T020000
RDATE:20260329T020000
RDATE:20270328T020000
TZNAME:CEST
TZOFFSETFROM:+0100
TZOFFSETTO:+0200
END:DAYLIGHT
BEGIN:STANDARD
DTSTART:20261025T030000
RDATE:20261025T030000
RDATE:20271031T030000
TZNAME:CET
TZOFFSETFROM:+0200
TZOFFSETTO:+0100
END:STANDARD
END:VTIMEZONE
BEGIN:VEVENT
SUMMARY:Otroško in preventivno zobozdravstvo 2 (OPZ2)\, klinične vaje (k
 v)\, [D5-02]
DTSTART;TZID=Europe/Ljubljana:20241001T073000
DTEND;TZID=Europe/Ljubljana:20241001T090000
DTSTAMP:20260420T104647Z
UID:mf-AFLABS-URNIK:premaknjeno-srecanje:13339
ATTENDEE:5. LETNIK (EMŠ DM)
CATEGORIES:Entry,Special
COLOR:forestgreen
DESCRIPTION:Predmet: Otroško in preventivno zobozdravstvo 2 (OPZ2)\, klin
 ične vaje (kv)\, [D5-02]\nLetniki: 5. LETNIK (EMŠ DM)\nIzvajalci: Katedr
 a za otroško in preventivn KOPZ\nProstor: Vaj - KOPZ - 47 - Stoma - UKC
LOCATION:Hrvatski trg 6\, Vaj - KOPZ - 47 - Stoma - UKC
ORGANIZER:Katedra za otroško in preventivn KOPZ
RELATED-TO:mf-AFLABS-URNIK:srecanje:2532
X-WR-TIMEZONE:Europe/Ljubljana
END:VEVENT
BEGIN:VEVENT
SUMMARY:Otroško in preventivno zobozdravstvo 2 (OPZ2)\, klinične vaje (k
 v)\, [D5-02]
DTSTART;TZID=Europe/Ljubljana:20241008T073000
DTEND;TZID=Europe/Ljubljana:20241008T090000
DTSTAMP:20260420T104647Z
UID:mf-AFLABS-URNIK:premaknjeno-srecanje:13340
ATTENDEE:5. LETNIK (EMŠ DM)
CATEGORIES:Entry,Special
COLOR:forestgreen
DESCRIPTION:Predmet: Otroško in preventivno zobozdravstvo 2 (OPZ2)\, klin
 ične vaje (kv)\, [D5-02]\nLetniki: 5. LETNIK (EMŠ DM)\nIzvajalci: Katedr
 a za otroško in preventivn KOPZ\nProstor: Vaj - KOPZ - 47 - Stoma - UKC
LOCATION:Hrvatski trg 6\, Vaj - KOPZ - 47 - Stoma - UKC
ORGANIZER:Katedra za otroško in preventivn KOPZ
RELATED-TO:mf-AFLABS-URNIK:srecanje:2532
X-WR-TIMEZONE:Europe/Ljubljana
END:VEVENT
BEGIN:VEVENT
SUMMARY:Otroško in preventivno zobozdravstvo 2 (OPZ2)\, klinične vaje (k
 v)\, [D5-01]
DTSTART;TZID=Europe/Ljubljana:20241001T091500
DTEND;TZID=Europe/Ljubljana:20241001T104500
DTSTAMP:20260420T104647Z
UID:mf-AFLABS-URNIK:premaknjeno-srecanje:13354
ATTENDEE:5. LETNIK (EMŠ DM)
CATEGORIES:Entry,Special
COLOR:forestgreen
DESCRIPTION:Predmet: Otroško in preventivno zobozdravstvo 2 (OPZ2)\, klin
 ične vaje (kv)\, [D5-01]\nLetniki: 5. LETNIK (EMŠ DM)\nIzvajalci: Katedr
 a za otroško in preventivn KOPZ\nProstor: Vaj - KOPZ - 47 - Stoma - UKC
LOCATION:Hrvatski trg 6\, Vaj - KOPZ - 47 - Stoma - UKC
ORGANIZER:Katedra za otroško in preventivn KOPZ
RELATED-TO:mf-AFLABS-URNIK:srecanje:2533
X-WR-TIMEZONE:Europe/Ljubljana
END:VEVENT
BEGIN:VEVENT
SUMMARY:Otroško in preventivno zobozdravstvo 2 (OPZ2)\, klinične vaje (k
 v)\, [D5-01]
DTSTART;TZID=Europe/Ljubljana:20241008T091500
DTEND;TZID=Europe/Ljubljana:20241008T104500
DTSTAMP:20260420T104647Z
UID:mf-AFLABS-URNIK:premaknjeno-srecanje:13355
ATTENDEE:5. LETNIK (EMŠ DM)
CATEGORIES:Entry,Special
COLOR:forestgreen
DESCRIPTION:Predmet: Otroško in preventivno zobozdravstvo 2 (OPZ2)\, klin
 ične vaje (kv)\, [D5-01]\nLetniki: 5. LETNIK (EMŠ DM)\nIzvajalci: Katedr
 a za otroško in preventivn KOPZ\nProstor: Vaj - KOPZ - 47 - Stoma - UKC
LOCATION:Hrvatski trg 6\, Vaj - KOPZ - 47 - Stoma - UKC
ORGANIZER:Katedra za otroško in preventivn KOPZ
RELATED-TO:mf-AFLABS-URNIK:srecanje:2533
X-WR-TIMEZONE:Europe/Ljubljana
END:VEVENT
BEGIN:VEVENT
SUMMARY:Otroško in preventivno zobozdravstvo 2 (OPZ2)\, klinične vaje (k
 v)\, [D5-03]
DTSTART;TZID=Europe/Ljubljana:20241001T110000
DTEND;TZID=Europe/Ljubljana:20241001T123000
DTSTAMP:20260420T104647Z
UID:mf-AFLABS-URNIK:premaknjeno-srecanje:13369
ATTENDEE:5. LETNIK (EMŠ DM)
CATEGORIES:Entry,Special
COLOR:forestgreen
DESCRIPTION:Predmet: Otroško in preventivno zobozdravstvo 2 (OPZ2)\, klin
 ične vaje (kv)\, [D5-03]\nLetniki: 5. LETNIK (EMŠ DM)\nIzvajalci: Katedr
 a za otroško in preventivn KOPZ\nProstor: Vaj - KOPZ - 47 - Stoma - UKC
LOCATION:Hrvatski trg 6\, Vaj - KOPZ - 47 - Stoma - UKC
ORGANIZER:Katedra za otroško in preventivn KOPZ
RELATED-TO:mf-AFLABS-URNIK:srecanje:2534
X-WR-TIMEZONE:Europe/Ljubljana
END:VEVENT
BEGIN:VEVENT
SUMMARY:Otroško in preventivno zobozdravstvo 2 (OPZ2)\, klinične vaje (k
 v)\, [D5-03]
DTSTART;TZID=Europe/Ljubljana:20241008T110000
DTEND;TZID=Europe/Ljubljana:20241008T123000
DTSTAMP:20260420T104647Z
UID:mf-AFLABS-URNIK:premaknjeno-srecanje:13370
ATTENDEE:5. LETNIK (EMŠ DM)
CATEGORIES:Entry,Special
COLOR:forestgreen
DESCRIPTION:Predmet: Otroško in preventivno zobozdravstvo 2 (OPZ2)\, klin
 ične vaje (kv)\, [D5-03]\nLetniki: 5. LETNIK (EMŠ DM)\nIzvajalci: Katedr
 a za otroško in preventivn KOPZ\nProstor: Vaj - KOPZ - 47 - Stoma - UKC
LOCATION:Hrvatski trg 6\, Vaj - KOPZ - 47 - Stoma - UKC
ORGANIZER:Katedra za otroško in preventivn KOPZ
RELATED-TO:mf-AFLABS-URNIK:srecanje:2534
X-WR-TIMEZONE:Europe/Ljubljana
END:VEVENT
BEGIN:VEVENT
SUMMARY:Otroško in preventivno zobozdravstvo 2 (OPZ2)\, klinične vaje (k
 v)\, [D5-05]
DTSTART;TZID=Europe/Ljubljana:20241002T073000
DTEND;TZID=Europe/Ljubljana:20241002T090000
DTSTAMP:20260420T104647Z
UID:mf-AFLABS-URNIK:premaknjeno-srecanje:13384
ATTENDEE:5. LETNIK (EMŠ DM)
CATEGORIES:Entry,Special
COLOR:forestgreen
DESCRIPTION:Predmet: Otroško in preventivno zobozdravstvo 2 (OPZ2)\, klin
 ične vaje (kv)\, [D5-05]\nLetniki: 5. LETNIK (EMŠ DM)\nIzvajalci: Katedr
 a za otroško in preventivn KOPZ\nProstor: Vaj - KOPZ - 47 - Stoma - UKC
LOCATION:Hrvatski trg 6\, Vaj - KOPZ - 47 - Stoma - UKC
ORGANIZER:Katedra za otroško in preventivn KOPZ
RELATED-TO:mf-AFLABS-URNIK:srecanje:2535
X-WR-TIMEZONE:Europe/Ljubljana
END:VEVENT
BEGIN:VEVENT
SUMMARY:Otroško in preventivno zobozdravstvo 2 (OPZ2)\, klinične vaje (k
 v)\, [D5-05]
DTSTART;TZID=Europe/Ljubljana:20241009T073000
DTEND;TZID=Europe/Ljubljana:20241009T090000
DTSTAMP:20260420T104647Z
UID:mf-AFLABS-URNIK:premaknjeno-srecanje:13385
ATTENDEE:5. LETNIK (EMŠ DM)
CATEGORIES:Entry,Special
COLOR:forestgreen
DESCRIPTION:Predmet: Otroško in preventivno zobozdravstvo 2 (OPZ2)\, klin
 ične vaje (kv)\, [D5-05]\nLetniki: 5. LETNIK (EMŠ DM)\nIzvajalci: Katedr
 a za otroško in preventivn KOPZ\nProstor: Vaj - KOPZ - 47 - Stoma - UKC
LOCATION:Hrvatski trg 6\, Vaj - KOPZ - 47 - Stoma - UKC
ORGANIZER:Katedra za otroško in preventivn KOPZ
RELATED-TO:mf-AFLABS-URNIK:srecanje:2535
X-WR-TIMEZONE:Europe/Ljubljana
END:VEVENT
BEGIN:VEVENT
SUMMARY:Otroško in preventivno zobozdravstvo 2 (OPZ2)\, klinične vaje (k
 v)\, [D5-04]
DTSTART;TZID=Europe/Ljubljana:20241002T091500
DTEND;TZID=Europe/Ljubljana:20241002T104500
DTSTAMP:20260420T104647Z
UID:mf-AFLABS-URNIK:premaknjeno-srecanje:13398
ATTENDEE:5. LETNIK (EMŠ DM)
CATEGORIES:Entry,Special
COLOR:forestgreen
DESCRIPTION:Predmet: Otroško in preventivno zobozdravstvo 2 (OPZ2)\, klin
 ične vaje (kv)\, [D5-04]\nLetniki: 5. LETNIK (EMŠ DM)\nIzvajalci: Katedr
 a za otroško in preventivn KOPZ\nProstor: Vaj - KOPZ - 47 - Stoma - UKC
LOCATION:Hrvatski trg 6\, Vaj - KOPZ - 47 - Stoma - UKC
ORGANIZER:Katedra za otroško in preventivn KOPZ
RELATED-TO:mf-AFLABS-URNIK:srecanje:2536
X-WR-TIMEZONE:Europe/Ljubljana
END:VEVENT
BEGIN:VEVENT
SUMMARY:Otroško in preventivno zobozdravstvo 2 (OPZ2)\, klinične vaje (k
 v)\, [D5-04]
DTSTART;TZID=Europe/Ljubljana:20241009T091500
DTEND;TZID=Europe/Ljubljana:20241009T104500
DTSTAMP:20260420T104647Z
UID:mf-AFLABS-URNIK:premaknjeno-srecanje:13399
ATTENDEE:5. LETNIK (EMŠ DM)
CATEGORIES:Entry,Special
COLOR:forestgreen
DESCRIPTION:Predmet: Otroško in preventivno zobozdravstvo 2 (OPZ2)\, klin
 ične vaje (kv)\, [D5-04]\nLetniki: 5. LETNIK (EMŠ DM)\nIzvajalci: Katedr
 a za otroško in preventivn KOPZ\nProstor: Vaj - KOPZ - 47 - Stoma - UKC
LOCATION:Hrvatski trg 6\, Vaj - KOPZ - 47 - Stoma - UKC
ORGANIZER:Katedra za otroško in preventivn KOPZ
RELATED-TO:mf-AFLABS-URNIK:srecanje:2536
X-WR-TIMEZONE:Europe/Ljubljana
END:VEVENT
BEGIN:VEVENT
SUMMARY:Otroško in preventivno zobozdravstvo 2 (OPZ2)\, klinične vaje (k
 v)\, [D5-06]
DTSTART;TZID=Europe/Ljubljana:20241002T110000
DTEND;TZID=Europe/Ljubljana:20241002T123000
DTSTAMP:20260420T104647Z
UID:mf-AFLABS-URNIK:premaknjeno-srecanje:13412
ATTENDEE:5. LETNIK (EMŠ DM)
CATEGORIES:Entry,Special
COLOR:forestgreen
DESCRIPTION:Predmet: Otroško in preventivno zobozdravstvo 2 (OPZ2)\, klin
 ične vaje (kv)\, [D5-06]\nLetniki: 5. LETNIK (EMŠ DM)\nIzvajalci: Katedr
 a za otroško in preventivn KOPZ\nProstor: Vaj - KOPZ - 47 - Stoma - UKC
LOCATION:Hrvatski trg 6\, Vaj - KOPZ - 47 - Stoma - UKC
ORGANIZER:Katedra za otroško in preventivn KOPZ
RELATED-TO:mf-AFLABS-URNIK:srecanje:2537
X-WR-TIMEZONE:Europe/Ljubljana
END:VEVENT
BEGIN:VEVENT
SUMMARY:Otroško in preventivno zobozdravstvo 2 (OPZ2)\, klinične vaje (k
 v)\, [D5-06]
DTSTART;TZID=Europe/Ljubljana:20241009T110000
DTEND;TZID=Europe/Ljubljana:20241009T123000
DTSTAMP:20260420T104647Z
UID:mf-AFLABS-URNIK:premaknjeno-srecanje:13413
ATTENDEE:5. LETNIK (EMŠ DM)
CATEGORIES:Entry,Special
COLOR:forestgreen
DESCRIPTION:Predmet: Otroško in preventivno zobozdravstvo 2 (OPZ2)\, klin
 ične vaje (kv)\, [D5-06]\nLetniki: 5. LETNIK (EMŠ DM)\nIzvajalci: Katedr
 a za otroško in preventivn KOPZ\nProstor: Vaj - KOPZ - 47 - Stoma - UKC
LOCATION:Hrvatski trg 6\, Vaj - KOPZ - 47 - Stoma - UKC
ORGANIZER:Katedra za otroško in preventivn KOPZ
RELATED-TO:mf-AFLABS-URNIK:srecanje:2537
X-WR-TIMEZONE:Europe/Ljubljana
END:VEVENT
BEGIN:VEVENT
SUMMARY:Otroško in preventivno zobozdravstvo 3 (OPZ3)\, klinične vaje (k
 v)\, [D6-05]
DTSTART;TZID=Europe/Ljubljana:20241002T123000
DTEND;TZID=Europe/Ljubljana:20241002T140000
DTSTAMP:20260420T104647Z
UID:mf-AFLABS-URNIK:premaknjeno-srecanje:14449
ATTENDEE:6. LETNIK (EMŠ DM)
CATEGORIES:Entry,Special
COLOR:forestgreen
DESCRIPTION:Predmet: Otroško in preventivno zobozdravstvo 3 (OPZ3)\, klin
 ične vaje (kv)\, [D6-05]\nLetniki: 6. LETNIK (EMŠ DM)\nIzvajalci: Katedr
 a za otroško in preventivn KOPZ\nProstor: Vaj - KOPZ - 47 - Stoma - UKC
LOCATION:Hrvatski trg 6\, Vaj - KOPZ - 47 - Stoma - UKC
ORGANIZER:Katedra za otroško in preventivn KOPZ
RELATED-TO:mf-AFLABS-URNIK:srecanje:2602
X-WR-TIMEZONE:Europe/Ljubljana
END:VEVENT
BEGIN:VEVENT
SUMMARY:Otroško in preventivno zobozdravstvo 3 (OPZ3)\, klinične vaje (k
 v)\, [D6-05]
DTSTART;TZID=Europe/Ljubljana:20241009T123000
DTEND;TZID=Europe/Ljubljana:20241009T140000
DTSTAMP:20260420T104647Z
UID:mf-AFLABS-URNIK:premaknjeno-srecanje:14450
ATTENDEE:6. LETNIK (EMŠ DM)
CATEGORIES:Entry,Special
COLOR:forestgreen
DESCRIPTION:Predmet: Otroško in preventivno zobozdravstvo 3 (OPZ3)\, klin
 ične vaje (kv)\, [D6-05]\nLetniki: 6. LETNIK (EMŠ DM)\nIzvajalci: Katedr
 a za otroško in preventivn KOPZ\nProstor: Vaj - KOPZ - 47 - Stoma - UKC
LOCATION:Hrvatski trg 6\, Vaj - KOPZ - 47 - Stoma - UKC
ORGANIZER:Katedra za otroško in preventivn KOPZ
RELATED-TO:mf-AFLABS-URNIK:srecanje:2602
X-WR-TIMEZONE:Europe/Ljubljana
END:VEVENT
BEGIN:VEVENT
SUMMARY:Otroško in preventivno zobozdravstvo 3 (OPZ3)\, klinične vaje (k
 v)\, [D6-04]
DTSTART;TZID=Europe/Ljubljana:20241002T143000
DTEND;TZID=Europe/Ljubljana:20241002T160000
DTSTAMP:20260420T104647Z
UID:mf-AFLABS-URNIK:premaknjeno-srecanje:14463
ATTENDEE:6. LETNIK (EMŠ DM)
CATEGORIES:Entry,Special
COLOR:forestgreen
DESCRIPTION:Predmet: Otroško in preventivno zobozdravstvo 3 (OPZ3)\, klin
 ične vaje (kv)\, [D6-04]\nLetniki: 6. LETNIK (EMŠ DM)\nIzvajalci: Katedr
 a za otroško in preventivn KOPZ\nProstor: Vaj - KOPZ - 47 - Stoma - UKC
LOCATION:Hrvatski trg 6\, Vaj - KOPZ - 47 - Stoma - UKC
ORGANIZER:Katedra za otroško in preventivn KOPZ
RELATED-TO:mf-AFLABS-URNIK:srecanje:2603
X-WR-TIMEZONE:Europe/Ljubljana
END:VEVENT
BEGIN:VEVENT
SUMMARY:Otroško in preventivno zobozdravstvo 3 (OPZ3)\, klinične vaje (k
 v)\, [D6-04]
DTSTART;TZID=Europe/Ljubljana:20241009T143000
DTEND;TZID=Europe/Ljubljana:20241009T160000
DTSTAMP:20260420T104647Z
UID:mf-AFLABS-URNIK:premaknjeno-srecanje:14464
ATTENDEE:6. LETNIK (EMŠ DM)
CATEGORIES:Entry,Special
COLOR:forestgreen
DESCRIPTION:Predmet: Otroško in preventivno zobozdravstvo 3 (OPZ3)\, klin
 ične vaje (kv)\, [D6-04]\nLetniki: 6. LETNIK (EMŠ DM)\nIzvajalci: Katedr
 a za otroško in preventivn KOPZ\nProstor: Vaj - KOPZ - 47 - Stoma - UKC
LOCATION:Hrvatski trg 6\, Vaj - KOPZ - 47 - Stoma - UKC
ORGANIZER:Katedra za otroško in preventivn KOPZ
RELATED-TO:mf-AFLABS-URNIK:srecanje:2603
X-WR-TIMEZONE:Europe/Ljubljana
END:VEVENT
BEGIN:VEVENT
SUMMARY:Otroško in preventivno zobozdravstvo 3 (OPZ3)\, klinične vaje (k
 v)\, [D6-01]
DTSTART;TZID=Europe/Ljubljana:20241003T073000
DTEND;TZID=Europe/Ljubljana:20241003T090000
DTSTAMP:20260420T104647Z
UID:mf-AFLABS-URNIK:premaknjeno-srecanje:14477
ATTENDEE:6. LETNIK (EMŠ DM)
CATEGORIES:Entry,Special
COLOR:forestgreen
DESCRIPTION:Predmet: Otroško in preventivno zobozdravstvo 3 (OPZ3)\, klin
 ične vaje (kv)\, [D6-01]\nLetniki: 6. LETNIK (EMŠ DM)\nIzvajalci: Katedr
 a za otroško in preventivn KOPZ\nProstor: Vaj - KOPZ - 47 - Stoma - UKC
LOCATION:Hrvatski trg 6\, Vaj - KOPZ - 47 - Stoma - UKC
ORGANIZER:Katedra za otroško in preventivn KOPZ
RELATED-TO:mf-AFLABS-URNIK:srecanje:2604
X-WR-TIMEZONE:Europe/Ljubljana
END:VEVENT
BEGIN:VEVENT
SUMMARY:Otroško in preventivno zobozdravstvo 3 (OPZ3)\, klinične vaje (k
 v)\, [D6-01]
DTSTART;TZID=Europe/Ljubljana:20241010T073000
DTEND;TZID=Europe/Ljubljana:20241010T090000
DTSTAMP:20260420T104647Z
UID:mf-AFLABS-URNIK:premaknjeno-srecanje:14478
ATTENDEE:6. LETNIK (EMŠ DM)
CATEGORIES:Entry,Special
COLOR:forestgreen
DESCRIPTION:Predmet: Otroško in preventivno zobozdravstvo 3 (OPZ3)\, klin
 ične vaje (kv)\, [D6-01]\nLetniki: 6. LETNIK (EMŠ DM)\nIzvajalci: Katedr
 a za otroško in preventivn KOPZ\nProstor: Vaj - KOPZ - 47 - Stoma - UKC
LOCATION:Hrvatski trg 6\, Vaj - KOPZ - 47 - Stoma - UKC
ORGANIZER:Katedra za otroško in preventivn KOPZ
RELATED-TO:mf-AFLABS-URNIK:srecanje:2604
X-WR-TIMEZONE:Europe/Ljubljana
END:VEVENT
BEGIN:VEVENT
SUMMARY:Otroško in preventivno zobozdravstvo 3 (OPZ3)\, klinične vaje (k
 v)\, [D6-02]
DTSTART;TZID=Europe/Ljubljana:20241003T090000
DTEND;TZID=Europe/Ljubljana:20241003T103000
DTSTAMP:20260420T104647Z
UID:mf-AFLABS-URNIK:premaknjeno-srecanje:14490
ATTENDEE:6. LETNIK (EMŠ DM)
CATEGORIES:Entry,Special
COLOR:forestgreen
DESCRIPTION:Predmet: Otroško in preventivno zobozdravstvo 3 (OPZ3)\, klin
 ične vaje (kv)\, [D6-02]\nLetniki: 6. LETNIK (EMŠ DM)\nIzvajalci: Katedr
 a za otroško in preventivn KOPZ\nProstor: Vaj - KOPZ - 47 - Stoma - UKC
LOCATION:Hrvatski trg 6\, Vaj - KOPZ - 47 - Stoma - UKC
ORGANIZER:Katedra za otroško in preventivn KOPZ
RELATED-TO:mf-AFLABS-URNIK:srecanje:2605
X-WR-TIMEZONE:Europe/Ljubljana
END:VEVENT
BEGIN:VEVENT
SUMMARY:Otroško in preventivno zobozdravstvo 3 (OPZ3)\, klinične vaje (k
 v)\, [D6-02]
DTSTART;TZID=Europe/Ljubljana:20241010T090000
DTEND;TZID=Europe/Ljubljana:20241010T103000
DTSTAMP:20260420T104647Z
UID:mf-AFLABS-URNIK:premaknjeno-srecanje:14491
ATTENDEE:6. LETNIK (EMŠ DM)
CATEGORIES:Entry,Special
COLOR:forestgreen
DESCRIPTION:Predmet: Otroško in preventivno zobozdravstvo 3 (OPZ3)\, klin
 ične vaje (kv)\, [D6-02]\nLetniki: 6. LETNIK (EMŠ DM)\nIzvajalci: Katedr
 a za otroško in preventivn KOPZ\nProstor: Vaj - KOPZ - 47 - Stoma - UKC
LOCATION:Hrvatski trg 6\, Vaj - KOPZ - 47 - Stoma - UKC
ORGANIZER:Katedra za otroško in preventivn KOPZ
RELATED-TO:mf-AFLABS-URNIK:srecanje:2605
X-WR-TIMEZONE:Europe/Ljubljana
END:VEVENT
BEGIN:VEVENT
SUMMARY:Otroško in preventivno zobozdravstvo 3 (OPZ3)\, klinične vaje (k
 v)\, [D6-03]
DTSTART;TZID=Europe/Ljubljana:20241003T110000
DTEND;TZID=Europe/Ljubljana:20241003T123000
DTSTAMP:20260420T104647Z
UID:mf-AFLABS-URNIK:premaknjeno-srecanje:22026
ATTENDEE:6. LETNIK (EMŠ DM)
CATEGORIES:Entry,Standard
COLOR:darkgreen
DESCRIPTION:Predmet: Otroško in preventivno zobozdravstvo 3 (OPZ3)\, klin
 ične vaje (kv)\, [D6-03]\nLetniki: 6. LETNIK (EMŠ DM)\nIzvajalci: Katedr
 a za otroško in preventivn KOPZ\nProstor: Vaj - KOPZ - 47 - Stoma - UKC
LOCATION:Hrvatski trg 6\, Vaj - KOPZ - 47 - Stoma - UKC
ORGANIZER:Katedra za otroško in preventivn KOPZ
RELATED-TO:mf-AFLABS-URNIK:srecanje:2606
X-WR-TIMEZONE:Europe/Ljubljana
END:VEVENT
BEGIN:VEVENT
SUMMARY:Otroško in preventivno zobozdravstvo 3 (OPZ3)\, klinične vaje (k
 v)\, [D6-03]
DTSTART;TZID=Europe/Ljubljana:20241010T110000
DTEND;TZID=Europe/Ljubljana:20241010T123000
DTSTAMP:20260420T104647Z
UID:mf-AFLABS-URNIK:premaknjeno-srecanje:22027
ATTENDEE:6. LETNIK (EMŠ DM)
CATEGORIES:Entry,Standard
COLOR:darkgreen
DESCRIPTION:Predmet: Otroško in preventivno zobozdravstvo 3 (OPZ3)\, klin
 ične vaje (kv)\, [D6-03]\nLetniki: 6. LETNIK (EMŠ DM)\nIzvajalci: Katedr
 a za otroško in preventivn KOPZ\nProstor: Vaj - KOPZ - 47 - Stoma - UKC
LOCATION:Hrvatski trg 6\, Vaj - KOPZ - 47 - Stoma - UKC
ORGANIZER:Katedra za otroško in preventivn KOPZ
RELATED-TO:mf-AFLABS-URNIK:srecanje:2606
X-WR-TIMEZONE:Europe/Ljubljana
END:VEVENT
BEGIN:VEVENT
SUMMARY:Otroško in preventivno zobozdravstvo 3 (OPZ3)\, klinične vaje (k
 v)\, [D6-06]
DTSTART;TZID=Europe/Ljubljana:20241003T123000
DTEND;TZID=Europe/Ljubljana:20241003T140000
DTSTAMP:20260420T104647Z
UID:mf-AFLABS-URNIK:premaknjeno-srecanje:22039
ATTENDEE:6. LETNIK (EMŠ DM)
CATEGORIES:Entry,Standard
COLOR:darkgreen
DESCRIPTION:Predmet: Otroško in preventivno zobozdravstvo 3 (OPZ3)\, klin
 ične vaje (kv)\, [D6-06]\nLetniki: 6. LETNIK (EMŠ DM)\nIzvajalci: Katedr
 a za otroško in preventivn KOPZ\nProstor: Vaj - KOPZ - 47 - Stoma - UKC
LOCATION:Hrvatski trg 6\, Vaj - KOPZ - 47 - Stoma - UKC
ORGANIZER:Katedra za otroško in preventivn KOPZ
RELATED-TO:mf-AFLABS-URNIK:srecanje:2607
X-WR-TIMEZONE:Europe/Ljubljana
END:VEVENT
BEGIN:VEVENT
SUMMARY:Otroško in preventivno zobozdravstvo 3 (OPZ3)\, klinične vaje (k
 v)\, [D6-06]
DTSTART;TZID=Europe/Ljubljana:20241010T123000
DTEND;TZID=Europe/Ljubljana:20241010T140000
DTSTAMP:20260420T104647Z
UID:mf-AFLABS-URNIK:premaknjeno-srecanje:22040
ATTENDEE:6. LETNIK (EMŠ DM)
CATEGORIES:Entry,Standard
COLOR:darkgreen
DESCRIPTION:Predmet: Otroško in preventivno zobozdravstvo 3 (OPZ3)\, klin
 ične vaje (kv)\, [D6-06]\nLetniki: 6. LETNIK (EMŠ DM)\nIzvajalci: Katedr
 a za otroško in preventivn KOPZ\nProstor: Vaj - KOPZ - 47 - Stoma - UKC
LOCATION:Hrvatski trg 6\, Vaj - KOPZ - 47 - Stoma - UKC
ORGANIZER:Katedra za otroško in preventivn KOPZ
RELATED-TO:mf-AFLABS-URNIK:srecanje:2607
X-WR-TIMEZONE:Europe/Ljubljana
END:VEVENT
BEGIN:VEVENT
SUMMARY:Otroško in preventivno zobozdravstvo 3 (OPZ3)\, Predavanje (P)
DTSTART;TZID=Europe/Ljubljana:20241007T080000
DTEND;TZID=Europe/Ljubljana:20241007T100000
DTSTAMP:20260420T104647Z
UID:mf-AFLABS-URNIK:premaknjeno-srecanje:14435
ATTENDEE:6. LETNIK (EMŠ DM)
CATEGORIES:Entry,Special
COLOR:forestgreen
DESCRIPTION:Predmet: Otroško in preventivno zobozdravstvo 3 (OPZ3)\, Pred
 avanje (P)\nLetniki: 6. LETNIK (EMŠ DM)\nIzvajalci: Katedra za otroško i
 n preventivn KOPZ\nProstor: Pred - Stoma
LOCATION:Hrvatski trg 6\, Pred - Stoma
ORGANIZER:Katedra za otroško in preventivn KOPZ
RELATED-TO:mf-AFLABS-URNIK:srecanje:2600
X-WR-TIMEZONE:Europe/Ljubljana
END:VEVENT
BEGIN:VEVENT
SUMMARY:Otroško in preventivno zobozdravstvo 3 (OPZ3)\, Predavanje (P)
DTSTART;TZID=Europe/Ljubljana:20241014T080000
DTEND;TZID=Europe/Ljubljana:20241014T100000
DTSTAMP:20260420T104647Z
UID:mf-AFLABS-URNIK:premaknjeno-srecanje:14436
ATTENDEE:6. LETNIK (EMŠ DM)
CATEGORIES:Entry,Special
COLOR:forestgreen
DESCRIPTION:Predmet: Otroško in preventivno zobozdravstvo 3 (OPZ3)\, Pred
 avanje (P)\nLetniki: 6. LETNIK (EMŠ DM)\nIzvajalci: Katedra za otroško i
 n preventivn KOPZ\nProstor: Pred - Stoma
LOCATION:Hrvatski trg 6\, Pred - Stoma
ORGANIZER:Katedra za otroško in preventivn KOPZ
RELATED-TO:mf-AFLABS-URNIK:srecanje:2600
X-WR-TIMEZONE:Europe/Ljubljana
END:VEVENT
END:VCALENDAR
