BEGIN:VCALENDAR
VERSION:2.0
PRODID:-//AFLabs urnik izvoz - mf//aflabs.si//SI
DTSTAMP:20260420T075055Z
NAME:UL MF urnik
REFRESH-INTERVAL:PT1H
SOURCE:https://afurnik-mf.dev.aflabs.org/teacher/29?day=2023-08-28&export=
 1
URL:https://afurnik-mf.dev.aflabs.org/teacher/29?day=2023-08-28&export=1
X-PUBLISHED-TTL:PT1H
X-WR-CALNAME:UL MF urnik
X-WR-TIMEZONE:Europe/Ljubljana
BEGIN:VTIMEZONE
TZID:Europe/Ljubljana
BEGIN:DAYLIGHT
DTSTART:20260329T020000
RDATE:20260329T020000
RDATE:20270328T020000
TZNAME:CEST
TZOFFSETFROM:+0100
TZOFFSETTO:+0200
END:DAYLIGHT
BEGIN:STANDARD
DTSTART:20261025T030000
RDATE:20261025T030000
RDATE:20271031T030000
TZNAME:CET
TZOFFSETFROM:+0200
TZOFFSETTO:+0100
END:STANDARD
END:VTIMEZONE
BEGIN:VEVENT
SUMMARY:Patologija za dentalno medicino (PATODM)\, Vaje (V)\, [D3-01\, D3-
 02]
DTSTART;TZID=Europe/Ljubljana:20231002T150000
DTEND;TZID=Europe/Ljubljana:20231002T163000
DTSTAMP:20260420T075055Z
UID:mf-AFLABS-URNIK:premaknjeno-srecanje:4747
ATTENDEE:3. LETNIK (EMŠ DM)
CATEGORIES:Entry,Standard
COLOR:darkgreen
DESCRIPTION:Predmet: Patologija za dentalno medicino (PATODM)\, Vaje (V)\,
  [D3-01\, D3-02]\nLetniki: 3. LETNIK (EMŠ DM)\nIzvajalci: Katedra za pato
 logijo KPAT\nProstor: Vajalnice PATO
LOCATION:Vajalnice PATO
ORGANIZER:Katedra za patologijo KPAT
RELATED-TO:mf-AFLABS-URNIK:srecanje:796
X-WR-TIMEZONE:Europe/Ljubljana
END:VEVENT
BEGIN:VEVENT
SUMMARY:Patologija za dentalno medicino (PATODM)\, Vaje (V)\, [D3-03\, D3-
 04]
DTSTART;TZID=Europe/Ljubljana:20231002T163000
DTEND;TZID=Europe/Ljubljana:20231002T180000
DTSTAMP:20260420T075055Z
UID:mf-AFLABS-URNIK:premaknjeno-srecanje:4759
ATTENDEE:3. LETNIK (EMŠ DM)
CATEGORIES:Entry,Standard
COLOR:darkgreen
DESCRIPTION:Predmet: Patologija za dentalno medicino (PATODM)\, Vaje (V)\,
  [D3-03\, D3-04]\nLetniki: 3. LETNIK (EMŠ DM)\nIzvajalci: Katedra za pato
 logijo KPAT\nProstor: Vajalnice PATO
LOCATION:Vajalnice PATO
ORGANIZER:Katedra za patologijo KPAT
RELATED-TO:mf-AFLABS-URNIK:srecanje:797
X-WR-TIMEZONE:Europe/Ljubljana
END:VEVENT
BEGIN:VEVENT
SUMMARY:Patologija za dentalno medicino (PATODM)\, Vaje (V)\, [D3-05\, D3-
 06]
DTSTART;TZID=Europe/Ljubljana:20231002T180000
DTEND;TZID=Europe/Ljubljana:20231002T193000
DTSTAMP:20260420T075055Z
UID:mf-AFLABS-URNIK:premaknjeno-srecanje:4771
ATTENDEE:3. LETNIK (EMŠ DM)
CATEGORIES:Entry,Standard
COLOR:darkgreen
DESCRIPTION:Predmet: Patologija za dentalno medicino (PATODM)\, Vaje (V)\,
  [D3-05\, D3-06]\nLetniki: 3. LETNIK (EMŠ DM)\nIzvajalci: Katedra za pato
 logijo KPAT\nProstor: Vajalnice PATO
LOCATION:Vajalnice PATO
ORGANIZER:Katedra za patologijo KPAT
RELATED-TO:mf-AFLABS-URNIK:srecanje:798
X-WR-TIMEZONE:Europe/Ljubljana
END:VEVENT
BEGIN:VEVENT
SUMMARY:Patologija (PATO)\, Seminar/vaje (S/V)\, [M3-17\, M3-18]
DTSTART;TZID=Europe/Ljubljana:20231002T110000
DTEND;TZID=Europe/Ljubljana:20231002T123000
DTSTAMP:20260420T075055Z
UID:mf-AFLABS-URNIK:premaknjeno-srecanje:5872
ATTENDEE:3. LETNIK (EMŠ M)
CATEGORIES:Entry,Standard
COLOR:darkgreen
DESCRIPTION:Predmet: Patologija (PATO)\, Seminar/vaje (S/V)\, [M3-17\, M3-
 18]\nLetniki: 3. LETNIK (EMŠ M)\nIzvajalci: Katedra za patologijo KPAT\nP
 rostor: Vajalnice PATO
LOCATION:Vajalnice PATO
ORGANIZER:Katedra za patologijo KPAT
RELATED-TO:mf-AFLABS-URNIK:srecanje:989
X-WR-TIMEZONE:Europe/Ljubljana
END:VEVENT
BEGIN:VEVENT
SUMMARY:Patologija (PATO)\, Seminar/vaje (S/V)\, [M3-19\, M3-20]
DTSTART;TZID=Europe/Ljubljana:20231002T123000
DTEND;TZID=Europe/Ljubljana:20231002T140000
DTSTAMP:20260420T075055Z
UID:mf-AFLABS-URNIK:premaknjeno-srecanje:5884
ATTENDEE:3. LETNIK (EMŠ M)
CATEGORIES:Entry,Standard
COLOR:darkgreen
DESCRIPTION:Predmet: Patologija (PATO)\, Seminar/vaje (S/V)\, [M3-19\, M3-
 20]\nLetniki: 3. LETNIK (EMŠ M)\nIzvajalci: Katedra za patologijo KPAT\nP
 rostor: Vajalnice PATO
LOCATION:Vajalnice PATO
ORGANIZER:Katedra za patologijo KPAT
RELATED-TO:mf-AFLABS-URNIK:srecanje:990
X-WR-TIMEZONE:Europe/Ljubljana
END:VEVENT
BEGIN:VEVENT
SUMMARY:Patologija (PATO)\, Seminar/vaje (S/V)\, [M3-13\, M3-14]
DTSTART;TZID=Europe/Ljubljana:20231002T080000
DTEND;TZID=Europe/Ljubljana:20231002T093000
DTSTAMP:20260420T075055Z
UID:mf-AFLABS-URNIK:premaknjeno-srecanje:5896
ATTENDEE:3. LETNIK (EMŠ M)
CATEGORIES:Entry,Standard
COLOR:darkgreen
DESCRIPTION:Predmet: Patologija (PATO)\, Seminar/vaje (S/V)\, [M3-13\, M3-
 14]\nLetniki: 3. LETNIK (EMŠ M)\nIzvajalci: Katedra za patologijo KPAT\nP
 rostor: Vajalnice PATO
LOCATION:Vajalnice PATO
ORGANIZER:Katedra za patologijo KPAT
RELATED-TO:mf-AFLABS-URNIK:srecanje:991
X-WR-TIMEZONE:Europe/Ljubljana
END:VEVENT
BEGIN:VEVENT
SUMMARY:Patologija (PATO)\, Seminar/vaje (S/V)\, [M3-15\, M3-16]
DTSTART;TZID=Europe/Ljubljana:20231002T093000
DTEND;TZID=Europe/Ljubljana:20231002T110000
DTSTAMP:20260420T075055Z
UID:mf-AFLABS-URNIK:premaknjeno-srecanje:5908
ATTENDEE:3. LETNIK (EMŠ M)
CATEGORIES:Entry,Standard
COLOR:darkgreen
DESCRIPTION:Predmet: Patologija (PATO)\, Seminar/vaje (S/V)\, [M3-15\, M3-
 16]\nLetniki: 3. LETNIK (EMŠ M)\nIzvajalci: Katedra za patologijo KPAT\nP
 rostor: Vajalnice PATO
LOCATION:Vajalnice PATO
ORGANIZER:Katedra za patologijo KPAT
RELATED-TO:mf-AFLABS-URNIK:srecanje:992
X-WR-TIMEZONE:Europe/Ljubljana
END:VEVENT
END:VCALENDAR
