BEGIN:VCALENDAR
VERSION:2.0
PRODID:-//AFLabs urnik izvoz - mf//aflabs.si//SI
DTSTAMP:20260420T075656Z
NAME:UL MF urnik
REFRESH-INTERVAL:PT1H
SOURCE:https://afurnik-mf.dev.aflabs.org/teacher/29?day=2024-09-02&export=
 1
URL:https://afurnik-mf.dev.aflabs.org/teacher/29?day=2024-09-02&export=1
X-PUBLISHED-TTL:PT1H
X-WR-CALNAME:UL MF urnik
X-WR-TIMEZONE:Europe/Ljubljana
BEGIN:VTIMEZONE
TZID:Europe/Ljubljana
BEGIN:DAYLIGHT
DTSTART:20260329T020000
RDATE:20260329T020000
RDATE:20270328T020000
TZNAME:CEST
TZOFFSETFROM:+0100
TZOFFSETTO:+0200
END:DAYLIGHT
BEGIN:STANDARD
DTSTART:20261025T030000
RDATE:20261025T030000
RDATE:20271031T030000
TZNAME:CET
TZOFFSETFROM:+0200
TZOFFSETTO:+0100
END:STANDARD
END:VTIMEZONE
BEGIN:VEVENT
SUMMARY:Patologija za dentalno medicino (PATODM)\, Predavanje/seminar (P/S
 )
DTSTART;TZID=Europe/Ljubljana:20241002T140000
DTEND;TZID=Europe/Ljubljana:20241002T170000
DTSTAMP:20260420T075656Z
UID:mf-AFLABS-URNIK:premaknjeno-srecanje:15310
ATTENDEE:3. LETNIK (EMŠ DM)
CATEGORIES:Entry,Special
COLOR:forestgreen
DESCRIPTION:Predmet: Patologija za dentalno medicino (PATODM)\, Predavanje
 /seminar (P/S)\nLetniki: 3. LETNIK (EMŠ DM)\nIzvajalci: Katedra za patolo
 gijo KPAT\nProstor: Pred - Mala - MF
LOCATION:Korytkova 2\, Pred - Mala - MF
ORGANIZER:Katedra za patologijo KPAT
RELATED-TO:mf-AFLABS-URNIK:srecanje:2677
X-WR-TIMEZONE:Europe/Ljubljana
END:VEVENT
BEGIN:VEVENT
SUMMARY:Patologija za dentalno medicino (PATODM)\, Predavanje/seminar (P/S
 )
DTSTART;TZID=Europe/Ljubljana:20241003T160000
DTEND;TZID=Europe/Ljubljana:20241003T180000
DTSTAMP:20260420T075656Z
UID:mf-AFLABS-URNIK:premaknjeno-srecanje:15583
ATTENDEE:3. LETNIK (EMŠ DM)
CATEGORIES:Entry,Special
COLOR:forestgreen
DESCRIPTION:Predmet: Patologija za dentalno medicino (PATODM)\, Predavanje
 /seminar (P/S)\nLetniki: 3. LETNIK (EMŠ DM)\nIzvajalci: Katedra za patolo
 gijo KPAT\nProstor: Pred - Mala - MF
LOCATION:Korytkova 2\, Pred - Mala - MF
ORGANIZER:Katedra za patologijo KPAT
RELATED-TO:mf-AFLABS-URNIK:srecanje:2716
X-WR-TIMEZONE:Europe/Ljubljana
END:VEVENT
BEGIN:VEVENT
SUMMARY:Patologija (PATO)\, Predavanje/seminar (P/S)
DTSTART;TZID=Europe/Ljubljana:20241003T130000
DTEND;TZID=Europe/Ljubljana:20241003T160000
DTSTAMP:20260420T075656Z
UID:mf-AFLABS-URNIK:premaknjeno-srecanje:16572
ATTENDEE:3. LETNIK (EMŠ M)
CATEGORIES:Entry,Special
COLOR:forestgreen
DESCRIPTION:Predmet: Patologija (PATO)\, Predavanje/seminar (P/S)\nLetniki
 : 3. LETNIK (EMŠ M)\nIzvajalci: Katedra za patologijo KPAT\nProstor: Pred
  - Velika - MF
LOCATION:Korytkova 2\, Pred - Velika - MF
ORGANIZER:Katedra za patologijo KPAT
RELATED-TO:mf-AFLABS-URNIK:srecanje:2897
X-WR-TIMEZONE:Europe/Ljubljana
END:VEVENT
BEGIN:VEVENT
SUMMARY:Patologija za dentalno medicino (PATODM)\, Vaje (V)\, [D3-01\, D3-
 02]
DTSTART;TZID=Europe/Ljubljana:20241007T150000
DTEND;TZID=Europe/Ljubljana:20241007T163000
DTSTAMP:20260420T075656Z
UID:mf-AFLABS-URNIK:premaknjeno-srecanje:15420
ATTENDEE:3. LETNIK (EMŠ DM)
CATEGORIES:Entry,Special
COLOR:forestgreen
DESCRIPTION:Predmet: Patologija za dentalno medicino (PATODM)\, Vaje (V)\,
  [D3-01\, D3-02]\nLetniki: 3. LETNIK (EMŠ DM)\nIzvajalci: Katedra za pato
 logijo KPAT\nProstor: Vajalnice PATO
LOCATION:Vajalnice PATO
ORGANIZER:Katedra za patologijo KPAT
RELATED-TO:mf-AFLABS-URNIK:srecanje:2702
X-WR-TIMEZONE:Europe/Ljubljana
END:VEVENT
BEGIN:VEVENT
SUMMARY:Patologija za dentalno medicino (PATODM)\, Vaje (V)\, [D3-03\, D3-
 04]
DTSTART;TZID=Europe/Ljubljana:20241007T163000
DTEND;TZID=Europe/Ljubljana:20241007T180000
DTSTAMP:20260420T075656Z
UID:mf-AFLABS-URNIK:premaknjeno-srecanje:15431
ATTENDEE:3. LETNIK (EMŠ DM)
CATEGORIES:Entry,Special
COLOR:forestgreen
DESCRIPTION:Predmet: Patologija za dentalno medicino (PATODM)\, Vaje (V)\,
  [D3-03\, D3-04]\nLetniki: 3. LETNIK (EMŠ DM)\nIzvajalci: Katedra za pato
 logijo KPAT\nProstor: Vajalnice PATO
LOCATION:Vajalnice PATO
ORGANIZER:Katedra za patologijo KPAT
RELATED-TO:mf-AFLABS-URNIK:srecanje:2703
X-WR-TIMEZONE:Europe/Ljubljana
END:VEVENT
BEGIN:VEVENT
SUMMARY:Patologija za dentalno medicino (PATODM)\, Vaje (V)\, [D3-05\, D3-
 06]
DTSTART;TZID=Europe/Ljubljana:20241007T180000
DTEND;TZID=Europe/Ljubljana:20241007T193000
DTSTAMP:20260420T075656Z
UID:mf-AFLABS-URNIK:premaknjeno-srecanje:15442
ATTENDEE:3. LETNIK (EMŠ DM)
CATEGORIES:Entry,Special
COLOR:forestgreen
DESCRIPTION:Predmet: Patologija za dentalno medicino (PATODM)\, Vaje (V)\,
  [D3-05\, D3-06]\nLetniki: 3. LETNIK (EMŠ DM)\nIzvajalci: Katedra za pato
 logijo KPAT\nProstor: Vajalnice PATO
LOCATION:Vajalnice PATO
ORGANIZER:Katedra za patologijo KPAT
RELATED-TO:mf-AFLABS-URNIK:srecanje:2704
X-WR-TIMEZONE:Europe/Ljubljana
END:VEVENT
BEGIN:VEVENT
SUMMARY:Patologija (PATO)\, Seminar/vaje (S/V)\, [M3-17\, M3-18]
DTSTART;TZID=Europe/Ljubljana:20241007T110000
DTEND;TZID=Europe/Ljubljana:20241007T123000
DTSTAMP:20260420T075656Z
UID:mf-AFLABS-URNIK:premaknjeno-srecanje:16524
ATTENDEE:3. LETNIK (EMŠ M)
CATEGORIES:Entry,Special
COLOR:forestgreen
DESCRIPTION:Predmet: Patologija (PATO)\, Seminar/vaje (S/V)\, [M3-17\, M3-
 18]\nLetniki: 3. LETNIK (EMŠ M)\nIzvajalci: Katedra za patologijo KPAT\nP
 rostor: Vajalnice PATO
LOCATION:Vajalnice PATO
ORGANIZER:Katedra za patologijo KPAT
RELATED-TO:mf-AFLABS-URNIK:srecanje:2893
X-WR-TIMEZONE:Europe/Ljubljana
END:VEVENT
BEGIN:VEVENT
SUMMARY:Patologija (PATO)\, Seminar/vaje (S/V)\, [M3-19\, M3-20]
DTSTART;TZID=Europe/Ljubljana:20241007T123000
DTEND;TZID=Europe/Ljubljana:20241007T140000
DTSTAMP:20260420T075656Z
UID:mf-AFLABS-URNIK:premaknjeno-srecanje:16536
ATTENDEE:3. LETNIK (EMŠ M)
CATEGORIES:Entry,Special
COLOR:forestgreen
DESCRIPTION:Predmet: Patologija (PATO)\, Seminar/vaje (S/V)\, [M3-19\, M3-
 20]\nLetniki: 3. LETNIK (EMŠ M)\nIzvajalci: Katedra za patologijo KPAT\nP
 rostor: Vajalnice PATO
LOCATION:Vajalnice PATO
ORGANIZER:Katedra za patologijo KPAT
RELATED-TO:mf-AFLABS-URNIK:srecanje:2894
X-WR-TIMEZONE:Europe/Ljubljana
END:VEVENT
BEGIN:VEVENT
SUMMARY:Patologija (PATO)\, Seminar/vaje (S/V)\, [M3-13\, M3-14]
DTSTART;TZID=Europe/Ljubljana:20241007T080000
DTEND;TZID=Europe/Ljubljana:20241007T093000
DTSTAMP:20260420T075656Z
UID:mf-AFLABS-URNIK:premaknjeno-srecanje:16548
ATTENDEE:3. LETNIK (EMŠ M)
CATEGORIES:Entry,Special
COLOR:forestgreen
DESCRIPTION:Predmet: Patologija (PATO)\, Seminar/vaje (S/V)\, [M3-13\, M3-
 14]\nLetniki: 3. LETNIK (EMŠ M)\nIzvajalci: Katedra za patologijo KPAT\nP
 rostor: Vajalnice PATO
LOCATION:Vajalnice PATO
ORGANIZER:Katedra za patologijo KPAT
RELATED-TO:mf-AFLABS-URNIK:srecanje:2895
X-WR-TIMEZONE:Europe/Ljubljana
END:VEVENT
BEGIN:VEVENT
SUMMARY:Patologija (PATO)\, Seminar/vaje (S/V)\, [M3-15\, M3-16]
DTSTART;TZID=Europe/Ljubljana:20241007T093000
DTEND;TZID=Europe/Ljubljana:20241007T110000
DTSTAMP:20260420T075656Z
UID:mf-AFLABS-URNIK:premaknjeno-srecanje:16560
ATTENDEE:3. LETNIK (EMŠ M)
CATEGORIES:Entry,Special
COLOR:forestgreen
DESCRIPTION:Predmet: Patologija (PATO)\, Seminar/vaje (S/V)\, [M3-15\, M3-
 16]\nLetniki: 3. LETNIK (EMŠ M)\nIzvajalci: Katedra za patologijo KPAT\nP
 rostor: Vajalnice PATO
LOCATION:Vajalnice PATO
ORGANIZER:Katedra za patologijo KPAT
RELATED-TO:mf-AFLABS-URNIK:srecanje:2896
X-WR-TIMEZONE:Europe/Ljubljana
END:VEVENT
END:VCALENDAR
