BEGIN:VCALENDAR
VERSION:2.0
PRODID:-//AFLabs urnik izvoz - mf//aflabs.si//SI
DTSTAMP:20260420T070047Z
NAME:UL MF urnik
REFRESH-INTERVAL:PT1H
SOURCE:https://afurnik-mf.dev.aflabs.org/teacher/2?day=2024-06-22&export=1
URL:https://afurnik-mf.dev.aflabs.org/teacher/2?day=2024-06-22&export=1
X-PUBLISHED-TTL:PT1H
X-WR-CALNAME:UL MF urnik
X-WR-TIMEZONE:Europe/Ljubljana
BEGIN:VTIMEZONE
TZID:Europe/Ljubljana
BEGIN:DAYLIGHT
DTSTART:20260329T020000
RDATE:20260329T020000
RDATE:20270328T020000
TZNAME:CEST
TZOFFSETFROM:+0100
TZOFFSETTO:+0200
END:DAYLIGHT
BEGIN:STANDARD
DTSTART:20261025T030000
RDATE:20261025T030000
RDATE:20271031T030000
TZNAME:CET
TZOFFSETFROM:+0200
TZOFFSETTO:+0100
END:STANDARD
END:VTIMEZONE
BEGIN:VEVENT
SUMMARY:Medicinska biofizika (MBFDM)\, Vaje (V)\, [D1-01\, D1-02]
DTSTART;TZID=Europe/Ljubljana:20241001T100000
DTEND;TZID=Europe/Ljubljana:20241001T120000
DTSTAMP:20260420T070047Z
UID:mf-AFLABS-URNIK:premaknjeno-srecanje:17775
ATTENDEE:1. LETNIK (EMŠ DM)
CATEGORIES:Entry,Special
COLOR:forestgreen
DESCRIPTION:Predmet: Medicinska biofizika (MBFDM)\, Vaje (V)\, [D1-01\, D1
 -02]\nLetniki: 1. LETNIK (EMŠ DM)\nIzvajalci: Inštitut za biofiziko IBF\
 nProstor: Vaj - IBF - IBKMG - Zemljemerska
LOCATION:Zemljemerska 12\, Vaj - IBF - IBKMG - Zemljemerska
ORGANIZER:Inštitut za biofiziko IBF
RELATED-TO:mf-AFLABS-URNIK:srecanje:3020
X-WR-TIMEZONE:Europe/Ljubljana
END:VEVENT
BEGIN:VEVENT
SUMMARY:Medicinska biofizika (MBFDM)\, Vaje (V)\, [D1-03\, D1-04]
DTSTART;TZID=Europe/Ljubljana:20241001T120000
DTEND;TZID=Europe/Ljubljana:20241001T140000
DTSTAMP:20260420T070047Z
UID:mf-AFLABS-URNIK:premaknjeno-srecanje:17786
ATTENDEE:1. LETNIK (EMŠ DM)
CATEGORIES:Entry,Special
COLOR:forestgreen
DESCRIPTION:Predmet: Medicinska biofizika (MBFDM)\, Vaje (V)\, [D1-03\, D1
 -04]\nLetniki: 1. LETNIK (EMŠ DM)\nIzvajalci: Inštitut za biofiziko IBF\
 nProstor: Vaj - IBF - IBKMG - Zemljemerska
LOCATION:Zemljemerska 12\, Vaj - IBF - IBKMG - Zemljemerska
ORGANIZER:Inštitut za biofiziko IBF
RELATED-TO:mf-AFLABS-URNIK:srecanje:3021
X-WR-TIMEZONE:Europe/Ljubljana
END:VEVENT
BEGIN:VEVENT
SUMMARY:Medicinska biofizika (MBFDM)\, Vaje (V)\, [D1-05\, D1-06]
DTSTART;TZID=Europe/Ljubljana:20241001T140000
DTEND;TZID=Europe/Ljubljana:20241001T160000
DTSTAMP:20260420T070047Z
UID:mf-AFLABS-URNIK:premaknjeno-srecanje:17797
ATTENDEE:1. LETNIK (EMŠ DM)
CATEGORIES:Entry,Special
COLOR:forestgreen
DESCRIPTION:Predmet: Medicinska biofizika (MBFDM)\, Vaje (V)\, [D1-05\, D1
 -06]\nLetniki: 1. LETNIK (EMŠ DM)\nIzvajalci: Inštitut za biofiziko IBF\
 nProstor: Vaj - IBF - IBKMG - Zemljemerska
LOCATION:Zemljemerska 12\, Vaj - IBF - IBKMG - Zemljemerska
ORGANIZER:Inštitut za biofiziko IBF
RELATED-TO:mf-AFLABS-URNIK:srecanje:3022
X-WR-TIMEZONE:Europe/Ljubljana
END:VEVENT
BEGIN:VEVENT
SUMMARY:Medicinska biofizika (MBFDM)\, d.o.š. (doš)\, [D1-03\, D1-04]
DTSTART;TZID=Europe/Ljubljana:20241001T100000
DTEND;TZID=Europe/Ljubljana:20241001T120000
DTSTAMP:20260420T070047Z
UID:mf-AFLABS-URNIK:premaknjeno-srecanje:21907
ATTENDEE:1. LETNIK (EMŠ DM)
CATEGORIES:Entry,Standard
COLOR:darkgreen
DESCRIPTION:Predmet: Medicinska biofizika (MBFDM)\, d.o.š. (doš)\, [D1-0
 3\, D1-04]\nLetniki: 1. LETNIK (EMŠ DM)\nIzvajalci: Inštitut za biofizik
 o IBF\nProstor: Sem - IBF - IBKMG - Zemljemerska
LOCATION:Zemljemerska 12\, Sem - IBF - IBKMG - Zemljemerska
ORGANIZER:Inštitut za biofiziko IBF
RELATED-TO:mf-AFLABS-URNIK:srecanje:4321
X-WR-TIMEZONE:Europe/Ljubljana
END:VEVENT
BEGIN:VEVENT
SUMMARY:Medicinska biofizika (MBFDM)\, d.o.š. (doš)\, [D1-01\, D1-02]
DTSTART;TZID=Europe/Ljubljana:20241001T120000
DTEND;TZID=Europe/Ljubljana:20241001T140000
DTSTAMP:20260420T070047Z
UID:mf-AFLABS-URNIK:premaknjeno-srecanje:21918
ATTENDEE:1. LETNIK (EMŠ DM)
CATEGORIES:Entry,Standard
COLOR:darkgreen
DESCRIPTION:Predmet: Medicinska biofizika (MBFDM)\, d.o.š. (doš)\, [D1-0
 1\, D1-02]\nLetniki: 1. LETNIK (EMŠ DM)\nIzvajalci: Inštitut za biofizik
 o IBF\nProstor: Sem - IBF - IBKMG - Zemljemerska
LOCATION:Zemljemerska 12\, Sem - IBF - IBKMG - Zemljemerska
ORGANIZER:Inštitut za biofiziko IBF
RELATED-TO:mf-AFLABS-URNIK:srecanje:4322
X-WR-TIMEZONE:Europe/Ljubljana
END:VEVENT
BEGIN:VEVENT
SUMMARY:Medicinska biofizika (MBFDM)\, d.o.š. (doš)\, [D1-05\, D1-06]
DTSTART;TZID=Europe/Ljubljana:20241001T160000
DTEND;TZID=Europe/Ljubljana:20241001T180000
DTSTAMP:20260420T070047Z
UID:mf-AFLABS-URNIK:premaknjeno-srecanje:21929
ATTENDEE:1. LETNIK (EMŠ DM)
CATEGORIES:Entry,Standard
COLOR:darkgreen
DESCRIPTION:Predmet: Medicinska biofizika (MBFDM)\, d.o.š. (doš)\, [D1-0
 5\, D1-06]\nLetniki: 1. LETNIK (EMŠ DM)\nIzvajalci: Inštitut za biofizik
 o IBF\nProstor: Sem - IBF - IBKMG - Zemljemerska
LOCATION:Zemljemerska 12\, Sem - IBF - IBKMG - Zemljemerska
ORGANIZER:Inštitut za biofiziko IBF
RELATED-TO:mf-AFLABS-URNIK:srecanje:4323
X-WR-TIMEZONE:Europe/Ljubljana
END:VEVENT
END:VCALENDAR
