BEGIN:VCALENDAR
VERSION:2.0
PRODID:-//AFLabs urnik izvoz - mf//aflabs.si//SI
DTSTAMP:20260420T080040Z
NAME:UL MF urnik
REFRESH-INTERVAL:PT1H
SOURCE:https://afurnik-mf.dev.aflabs.org/teacher/32?day=2024-06-08&export=
 1
URL:https://afurnik-mf.dev.aflabs.org/teacher/32?day=2024-06-08&export=1
X-PUBLISHED-TTL:PT1H
X-WR-CALNAME:UL MF urnik
X-WR-TIMEZONE:Europe/Ljubljana
BEGIN:VTIMEZONE
TZID:Europe/Ljubljana
BEGIN:DAYLIGHT
DTSTART:20260329T020000
RDATE:20260329T020000
RDATE:20270328T020000
TZNAME:CEST
TZOFFSETFROM:+0100
TZOFFSETTO:+0200
END:DAYLIGHT
BEGIN:STANDARD
DTSTART:20261025T030000
RDATE:20261025T030000
RDATE:20271031T030000
TZNAME:CET
TZOFFSETFROM:+0200
TZOFFSETTO:+0100
END:STANDARD
END:VTIMEZONE
BEGIN:VEVENT
SUMMARY:Radiologija s slikovno diagnostiko (RSDG)\, Vaje (V)\, [M3-04\, M3
 -05\, M3-06\, M3-15\, M3-16]
DTSTART;TZID=Europe/Ljubljana:20240214T090000
DTEND;TZID=Europe/Ljubljana:20240214T120000
DTSTAMP:20260420T080040Z
UID:mf-AFLABS-URNIK:premaknjeno-srecanje:10699
ATTENDEE:3. LETNIK (EMŠ M)
CATEGORIES:Entry,Standard
COLOR:darkgreen
DESCRIPTION:Predmet: Radiologija s slikovno diagnostiko (RSDG)\, Vaje (V)\
 , [M3-04\, M3-05\, M3-06\, M3-15\, M3-16]\nLetniki: 3. LETNIK (EMŠ M)\nIz
 vajalci: Katedra za radiologijo KRD\nProstor: Drugje
LOCATION:Drugje
ORGANIZER:Katedra za radiologijo KRD
RELATED-TO:mf-AFLABS-URNIK:srecanje:998
X-WR-TIMEZONE:Europe/Ljubljana
END:VEVENT
BEGIN:VEVENT
SUMMARY:Radiologija s slikovno diagnostiko (RSDG)\, Vaje (V)\, [M3-04\, M3
 -05\, M3-06\, M3-15\, M3-16]
DTSTART;TZID=Europe/Ljubljana:20240228T090000
DTEND;TZID=Europe/Ljubljana:20240228T120000
DTSTAMP:20260420T080040Z
UID:mf-AFLABS-URNIK:premaknjeno-srecanje:10700
ATTENDEE:3. LETNIK (EMŠ M)
CATEGORIES:Entry,Standard
COLOR:darkgreen
DESCRIPTION:Predmet: Radiologija s slikovno diagnostiko (RSDG)\, Vaje (V)\
 , [M3-04\, M3-05\, M3-06\, M3-15\, M3-16]\nLetniki: 3. LETNIK (EMŠ M)\nIz
 vajalci: Katedra za radiologijo KRD\nProstor: Drugje
LOCATION:Drugje
ORGANIZER:Katedra za radiologijo KRD
RELATED-TO:mf-AFLABS-URNIK:srecanje:998
X-WR-TIMEZONE:Europe/Ljubljana
END:VEVENT
BEGIN:VEVENT
SUMMARY:Radiologija s slikovno diagnostiko (RSDG)\, Vaje (V)\, [M3-04\, M3
 -05\, M3-06\, M3-15\, M3-16]
DTSTART;TZID=Europe/Ljubljana:20240313T090000
DTEND;TZID=Europe/Ljubljana:20240313T120000
DTSTAMP:20260420T080040Z
UID:mf-AFLABS-URNIK:premaknjeno-srecanje:10701
ATTENDEE:3. LETNIK (EMŠ M)
CATEGORIES:Entry,Standard
COLOR:darkgreen
DESCRIPTION:Predmet: Radiologija s slikovno diagnostiko (RSDG)\, Vaje (V)\
 , [M3-04\, M3-05\, M3-06\, M3-15\, M3-16]\nLetniki: 3. LETNIK (EMŠ M)\nIz
 vajalci: Katedra za radiologijo KRD\nProstor: Drugje
LOCATION:Drugje
ORGANIZER:Katedra za radiologijo KRD
RELATED-TO:mf-AFLABS-URNIK:srecanje:998
X-WR-TIMEZONE:Europe/Ljubljana
END:VEVENT
BEGIN:VEVENT
SUMMARY:Radiologija s slikovno diagnostiko (RSDG)\, Vaje (V)\, [M3-04\, M3
 -05\, M3-06\, M3-15\, M3-16]
DTSTART;TZID=Europe/Ljubljana:20240327T090000
DTEND;TZID=Europe/Ljubljana:20240327T120000
DTSTAMP:20260420T080040Z
UID:mf-AFLABS-URNIK:premaknjeno-srecanje:10702
ATTENDEE:3. LETNIK (EMŠ M)
CATEGORIES:Entry,Standard
COLOR:darkgreen
DESCRIPTION:Predmet: Radiologija s slikovno diagnostiko (RSDG)\, Vaje (V)\
 , [M3-04\, M3-05\, M3-06\, M3-15\, M3-16]\nLetniki: 3. LETNIK (EMŠ M)\nIz
 vajalci: Katedra za radiologijo KRD\nProstor: Drugje
LOCATION:Drugje
ORGANIZER:Katedra za radiologijo KRD
RELATED-TO:mf-AFLABS-URNIK:srecanje:998
X-WR-TIMEZONE:Europe/Ljubljana
END:VEVENT
BEGIN:VEVENT
SUMMARY:Radiologija s slikovno diagnostiko (RSDG)\, Vaje (V)\, [M3-04\, M3
 -05\, M3-06\, M3-15\, M3-16]
DTSTART;TZID=Europe/Ljubljana:20240410T090000
DTEND;TZID=Europe/Ljubljana:20240410T120000
DTSTAMP:20260420T080040Z
UID:mf-AFLABS-URNIK:premaknjeno-srecanje:10703
ATTENDEE:3. LETNIK (EMŠ M)
CATEGORIES:Entry,Standard
COLOR:darkgreen
DESCRIPTION:Predmet: Radiologija s slikovno diagnostiko (RSDG)\, Vaje (V)\
 , [M3-04\, M3-05\, M3-06\, M3-15\, M3-16]\nLetniki: 3. LETNIK (EMŠ M)\nIz
 vajalci: Katedra za radiologijo KRD\nProstor: Drugje
LOCATION:Drugje
ORGANIZER:Katedra za radiologijo KRD
RELATED-TO:mf-AFLABS-URNIK:srecanje:998
X-WR-TIMEZONE:Europe/Ljubljana
END:VEVENT
BEGIN:VEVENT
SUMMARY:Radiologija s slikovno diagnostiko (RSDG)\, Vaje (V)\, [M3-04\, M3
 -05\, M3-06\, M3-15\, M3-16]
DTSTART;TZID=Europe/Ljubljana:20240424T090000
DTEND;TZID=Europe/Ljubljana:20240424T120000
DTSTAMP:20260420T080040Z
UID:mf-AFLABS-URNIK:premaknjeno-srecanje:10704
ATTENDEE:3. LETNIK (EMŠ M)
CATEGORIES:Entry,Standard
COLOR:darkgreen
DESCRIPTION:Predmet: Radiologija s slikovno diagnostiko (RSDG)\, Vaje (V)\
 , [M3-04\, M3-05\, M3-06\, M3-15\, M3-16]\nLetniki: 3. LETNIK (EMŠ M)\nIz
 vajalci: Katedra za radiologijo KRD\nProstor: Drugje
LOCATION:Drugje
ORGANIZER:Katedra za radiologijo KRD
RELATED-TO:mf-AFLABS-URNIK:srecanje:998
X-WR-TIMEZONE:Europe/Ljubljana
END:VEVENT
BEGIN:VEVENT
SUMMARY:Radiologija s slikovno diagnostiko (RSDG)\, Vaje (V)\, [M3-10\, M3
 -11\, M3-12\, M3-19\, M3-20]
DTSTART;TZID=Europe/Ljubljana:20240214T120000
DTEND;TZID=Europe/Ljubljana:20240214T150000
DTSTAMP:20260420T080040Z
UID:mf-AFLABS-URNIK:premaknjeno-srecanje:10711
ATTENDEE:3. LETNIK (EMŠ M)
CATEGORIES:Entry,Standard
COLOR:darkgreen
DESCRIPTION:Predmet: Radiologija s slikovno diagnostiko (RSDG)\, Vaje (V)\
 , [M3-10\, M3-11\, M3-12\, M3-19\, M3-20]\nLetniki: 3. LETNIK (EMŠ M)\nIz
 vajalci: Katedra za radiologijo KRD\nProstor: Drugje
LOCATION:Drugje
ORGANIZER:Katedra za radiologijo KRD
RELATED-TO:mf-AFLABS-URNIK:srecanje:1000
X-WR-TIMEZONE:Europe/Ljubljana
END:VEVENT
BEGIN:VEVENT
SUMMARY:Radiologija s slikovno diagnostiko (RSDG)\, Vaje (V)\, [M3-10\, M3
 -11\, M3-12\, M3-19\, M3-20]
DTSTART;TZID=Europe/Ljubljana:20240228T120000
DTEND;TZID=Europe/Ljubljana:20240228T150000
DTSTAMP:20260420T080040Z
UID:mf-AFLABS-URNIK:premaknjeno-srecanje:10712
ATTENDEE:3. LETNIK (EMŠ M)
CATEGORIES:Entry,Standard
COLOR:darkgreen
DESCRIPTION:Predmet: Radiologija s slikovno diagnostiko (RSDG)\, Vaje (V)\
 , [M3-10\, M3-11\, M3-12\, M3-19\, M3-20]\nLetniki: 3. LETNIK (EMŠ M)\nIz
 vajalci: Katedra za radiologijo KRD\nProstor: Drugje
LOCATION:Drugje
ORGANIZER:Katedra za radiologijo KRD
RELATED-TO:mf-AFLABS-URNIK:srecanje:1000
X-WR-TIMEZONE:Europe/Ljubljana
END:VEVENT
BEGIN:VEVENT
SUMMARY:Radiologija s slikovno diagnostiko (RSDG)\, Vaje (V)\, [M3-10\, M3
 -11\, M3-12\, M3-19\, M3-20]
DTSTART;TZID=Europe/Ljubljana:20240313T120000
DTEND;TZID=Europe/Ljubljana:20240313T150000
DTSTAMP:20260420T080040Z
UID:mf-AFLABS-URNIK:premaknjeno-srecanje:10713
ATTENDEE:3. LETNIK (EMŠ M)
CATEGORIES:Entry,Standard
COLOR:darkgreen
DESCRIPTION:Predmet: Radiologija s slikovno diagnostiko (RSDG)\, Vaje (V)\
 , [M3-10\, M3-11\, M3-12\, M3-19\, M3-20]\nLetniki: 3. LETNIK (EMŠ M)\nIz
 vajalci: Katedra za radiologijo KRD\nProstor: Drugje
LOCATION:Drugje
ORGANIZER:Katedra za radiologijo KRD
RELATED-TO:mf-AFLABS-URNIK:srecanje:1000
X-WR-TIMEZONE:Europe/Ljubljana
END:VEVENT
BEGIN:VEVENT
SUMMARY:Radiologija s slikovno diagnostiko (RSDG)\, Vaje (V)\, [M3-10\, M3
 -11\, M3-12\, M3-19\, M3-20]
DTSTART;TZID=Europe/Ljubljana:20240327T120000
DTEND;TZID=Europe/Ljubljana:20240327T150000
DTSTAMP:20260420T080040Z
UID:mf-AFLABS-URNIK:premaknjeno-srecanje:10714
ATTENDEE:3. LETNIK (EMŠ M)
CATEGORIES:Entry,Standard
COLOR:darkgreen
DESCRIPTION:Predmet: Radiologija s slikovno diagnostiko (RSDG)\, Vaje (V)\
 , [M3-10\, M3-11\, M3-12\, M3-19\, M3-20]\nLetniki: 3. LETNIK (EMŠ M)\nIz
 vajalci: Katedra za radiologijo KRD\nProstor: Drugje
LOCATION:Drugje
ORGANIZER:Katedra za radiologijo KRD
RELATED-TO:mf-AFLABS-URNIK:srecanje:1000
X-WR-TIMEZONE:Europe/Ljubljana
END:VEVENT
BEGIN:VEVENT
SUMMARY:Radiologija s slikovno diagnostiko (RSDG)\, Vaje (V)\, [M3-10\, M3
 -11\, M3-12\, M3-19\, M3-20]
DTSTART;TZID=Europe/Ljubljana:20240410T120000
DTEND;TZID=Europe/Ljubljana:20240410T150000
DTSTAMP:20260420T080040Z
UID:mf-AFLABS-URNIK:premaknjeno-srecanje:10715
ATTENDEE:3. LETNIK (EMŠ M)
CATEGORIES:Entry,Standard
COLOR:darkgreen
DESCRIPTION:Predmet: Radiologija s slikovno diagnostiko (RSDG)\, Vaje (V)\
 , [M3-10\, M3-11\, M3-12\, M3-19\, M3-20]\nLetniki: 3. LETNIK (EMŠ M)\nIz
 vajalci: Katedra za radiologijo KRD\nProstor: Drugje
LOCATION:Drugje
ORGANIZER:Katedra za radiologijo KRD
RELATED-TO:mf-AFLABS-URNIK:srecanje:1000
X-WR-TIMEZONE:Europe/Ljubljana
END:VEVENT
BEGIN:VEVENT
SUMMARY:Radiologija s slikovno diagnostiko (RSDG)\, Vaje (V)\, [M3-10\, M3
 -11\, M3-12\, M3-19\, M3-20]
DTSTART;TZID=Europe/Ljubljana:20240424T120000
DTEND;TZID=Europe/Ljubljana:20240424T150000
DTSTAMP:20260420T080040Z
UID:mf-AFLABS-URNIK:premaknjeno-srecanje:10716
ATTENDEE:3. LETNIK (EMŠ M)
CATEGORIES:Entry,Standard
COLOR:darkgreen
DESCRIPTION:Predmet: Radiologija s slikovno diagnostiko (RSDG)\, Vaje (V)\
 , [M3-10\, M3-11\, M3-12\, M3-19\, M3-20]\nLetniki: 3. LETNIK (EMŠ M)\nIz
 vajalci: Katedra za radiologijo KRD\nProstor: Drugje
LOCATION:Drugje
ORGANIZER:Katedra za radiologijo KRD
RELATED-TO:mf-AFLABS-URNIK:srecanje:1000
X-WR-TIMEZONE:Europe/Ljubljana
END:VEVENT
BEGIN:VEVENT
SUMMARY:Radiologija s slikovno diagnostiko (RSDG)\, Predavanje (P)
DTSTART;TZID=Europe/Ljubljana:20240215T110000
DTEND;TZID=Europe/Ljubljana:20240215T130000
DTSTAMP:20260420T080040Z
UID:mf-AFLABS-URNIK:premaknjeno-srecanje:5998
ATTENDEE:3. LETNIK (EMŠ M)
CATEGORIES:Entry,Standard
COLOR:darkgreen
DESCRIPTION:Predmet: Radiologija s slikovno diagnostiko (RSDG)\, Predavanj
 e (P)\nLetniki: 3. LETNIK (EMŠ M)\nIzvajalci: Katedra za radiologijo KRD\
 nProstor: Pred - Velika - MF
LOCATION:Korytkova 2\, Pred - Velika - MF
ORGANIZER:Katedra za radiologijo KRD
RELATED-TO:mf-AFLABS-URNIK:srecanje:997
X-WR-TIMEZONE:Europe/Ljubljana
END:VEVENT
BEGIN:VEVENT
SUMMARY:Radiologija s slikovno diagnostiko (RSDG)\, Predavanje (P)
DTSTART;TZID=Europe/Ljubljana:20240222T110000
DTEND;TZID=Europe/Ljubljana:20240222T130000
DTSTAMP:20260420T080040Z
UID:mf-AFLABS-URNIK:premaknjeno-srecanje:5999
ATTENDEE:3. LETNIK (EMŠ M)
CATEGORIES:Entry,Standard
COLOR:darkgreen
DESCRIPTION:Predmet: Radiologija s slikovno diagnostiko (RSDG)\, Predavanj
 e (P)\nLetniki: 3. LETNIK (EMŠ M)\nIzvajalci: Katedra za radiologijo KRD\
 nProstor: Pred - Velika - MF
LOCATION:Korytkova 2\, Pred - Velika - MF
ORGANIZER:Katedra za radiologijo KRD
RELATED-TO:mf-AFLABS-URNIK:srecanje:997
X-WR-TIMEZONE:Europe/Ljubljana
END:VEVENT
BEGIN:VEVENT
SUMMARY:Radiologija s slikovno diagnostiko (RSDG)\, Predavanje (P)
DTSTART;TZID=Europe/Ljubljana:20240229T110000
DTEND;TZID=Europe/Ljubljana:20240229T130000
DTSTAMP:20260420T080040Z
UID:mf-AFLABS-URNIK:premaknjeno-srecanje:6000
ATTENDEE:3. LETNIK (EMŠ M)
CATEGORIES:Entry,Standard
COLOR:darkgreen
DESCRIPTION:Predmet: Radiologija s slikovno diagnostiko (RSDG)\, Predavanj
 e (P)\nLetniki: 3. LETNIK (EMŠ M)\nIzvajalci: Katedra za radiologijo KRD\
 nProstor: Pred - Velika - MF
LOCATION:Korytkova 2\, Pred - Velika - MF
ORGANIZER:Katedra za radiologijo KRD
RELATED-TO:mf-AFLABS-URNIK:srecanje:997
X-WR-TIMEZONE:Europe/Ljubljana
END:VEVENT
BEGIN:VEVENT
SUMMARY:Radiologija s slikovno diagnostiko (RSDG)\, Predavanje (P)
DTSTART;TZID=Europe/Ljubljana:20240307T110000
DTEND;TZID=Europe/Ljubljana:20240307T130000
DTSTAMP:20260420T080040Z
UID:mf-AFLABS-URNIK:premaknjeno-srecanje:6001
ATTENDEE:3. LETNIK (EMŠ M)
CATEGORIES:Entry,Standard
COLOR:darkgreen
DESCRIPTION:Predmet: Radiologija s slikovno diagnostiko (RSDG)\, Predavanj
 e (P)\nLetniki: 3. LETNIK (EMŠ M)\nIzvajalci: Katedra za radiologijo KRD\
 nProstor: Pred - Velika - MF
LOCATION:Korytkova 2\, Pred - Velika - MF
ORGANIZER:Katedra za radiologijo KRD
RELATED-TO:mf-AFLABS-URNIK:srecanje:997
X-WR-TIMEZONE:Europe/Ljubljana
END:VEVENT
BEGIN:VEVENT
SUMMARY:Radiologija s slikovno diagnostiko (RSDG)\, Predavanje (P)
DTSTART;TZID=Europe/Ljubljana:20240314T110000
DTEND;TZID=Europe/Ljubljana:20240314T130000
DTSTAMP:20260420T080040Z
UID:mf-AFLABS-URNIK:premaknjeno-srecanje:6002
ATTENDEE:3. LETNIK (EMŠ M)
CATEGORIES:Entry,Standard
COLOR:darkgreen
DESCRIPTION:Predmet: Radiologija s slikovno diagnostiko (RSDG)\, Predavanj
 e (P)\nLetniki: 3. LETNIK (EMŠ M)\nIzvajalci: Katedra za radiologijo KRD\
 nProstor: Pred - Velika - MF
LOCATION:Korytkova 2\, Pred - Velika - MF
ORGANIZER:Katedra za radiologijo KRD
RELATED-TO:mf-AFLABS-URNIK:srecanje:997
X-WR-TIMEZONE:Europe/Ljubljana
END:VEVENT
BEGIN:VEVENT
SUMMARY:Radiologija s slikovno diagnostiko (RSDG)\, Predavanje (P)
DTSTART;TZID=Europe/Ljubljana:20240321T110000
DTEND;TZID=Europe/Ljubljana:20240321T130000
DTSTAMP:20260420T080040Z
UID:mf-AFLABS-URNIK:premaknjeno-srecanje:6003
ATTENDEE:3. LETNIK (EMŠ M)
CATEGORIES:Entry,Standard
COLOR:darkgreen
DESCRIPTION:Predmet: Radiologija s slikovno diagnostiko (RSDG)\, Predavanj
 e (P)\nLetniki: 3. LETNIK (EMŠ M)\nIzvajalci: Katedra za radiologijo KRD\
 nProstor: Pred - Velika - MF
LOCATION:Korytkova 2\, Pred - Velika - MF
ORGANIZER:Katedra za radiologijo KRD
RELATED-TO:mf-AFLABS-URNIK:srecanje:997
X-WR-TIMEZONE:Europe/Ljubljana
END:VEVENT
BEGIN:VEVENT
SUMMARY:Radiologija s slikovno diagnostiko (RSDG)\, Predavanje (P)
DTSTART;TZID=Europe/Ljubljana:20240328T110000
DTEND;TZID=Europe/Ljubljana:20240328T130000
DTSTAMP:20260420T080040Z
UID:mf-AFLABS-URNIK:premaknjeno-srecanje:6004
ATTENDEE:3. LETNIK (EMŠ M)
CATEGORIES:Entry,Standard
COLOR:darkgreen
DESCRIPTION:Predmet: Radiologija s slikovno diagnostiko (RSDG)\, Predavanj
 e (P)\nLetniki: 3. LETNIK (EMŠ M)\nIzvajalci: Katedra za radiologijo KRD\
 nProstor: Pred - Velika - MF
LOCATION:Korytkova 2\, Pred - Velika - MF
ORGANIZER:Katedra za radiologijo KRD
RELATED-TO:mf-AFLABS-URNIK:srecanje:997
X-WR-TIMEZONE:Europe/Ljubljana
END:VEVENT
BEGIN:VEVENT
SUMMARY:Radiologija s slikovno diagnostiko (RSDG)\, Predavanje (P)
DTSTART;TZID=Europe/Ljubljana:20240404T110000
DTEND;TZID=Europe/Ljubljana:20240404T130000
DTSTAMP:20260420T080040Z
UID:mf-AFLABS-URNIK:premaknjeno-srecanje:6005
ATTENDEE:3. LETNIK (EMŠ M)
CATEGORIES:Entry,Standard
COLOR:darkgreen
DESCRIPTION:Predmet: Radiologija s slikovno diagnostiko (RSDG)\, Predavanj
 e (P)\nLetniki: 3. LETNIK (EMŠ M)\nIzvajalci: Katedra za radiologijo KRD\
 nProstor: Pred - Velika - MF
LOCATION:Korytkova 2\, Pred - Velika - MF
ORGANIZER:Katedra za radiologijo KRD
RELATED-TO:mf-AFLABS-URNIK:srecanje:997
X-WR-TIMEZONE:Europe/Ljubljana
END:VEVENT
BEGIN:VEVENT
SUMMARY:Radiologija s slikovno diagnostiko (RSDG)\, Predavanje (P)
DTSTART;TZID=Europe/Ljubljana:20240411T110000
DTEND;TZID=Europe/Ljubljana:20240411T130000
DTSTAMP:20260420T080040Z
UID:mf-AFLABS-URNIK:premaknjeno-srecanje:6006
ATTENDEE:3. LETNIK (EMŠ M)
CATEGORIES:Entry,Standard
COLOR:darkgreen
DESCRIPTION:Predmet: Radiologija s slikovno diagnostiko (RSDG)\, Predavanj
 e (P)\nLetniki: 3. LETNIK (EMŠ M)\nIzvajalci: Katedra za radiologijo KRD\
 nProstor: Pred - Velika - MF
LOCATION:Korytkova 2\, Pred - Velika - MF
ORGANIZER:Katedra za radiologijo KRD
RELATED-TO:mf-AFLABS-URNIK:srecanje:997
X-WR-TIMEZONE:Europe/Ljubljana
END:VEVENT
BEGIN:VEVENT
SUMMARY:Radiologija s slikovno diagnostiko (RSDG)\, Predavanje (P)
DTSTART;TZID=Europe/Ljubljana:20240418T110000
DTEND;TZID=Europe/Ljubljana:20240418T130000
DTSTAMP:20260420T080040Z
UID:mf-AFLABS-URNIK:premaknjeno-srecanje:6007
ATTENDEE:3. LETNIK (EMŠ M)
CATEGORIES:Entry,Standard
COLOR:darkgreen
DESCRIPTION:Predmet: Radiologija s slikovno diagnostiko (RSDG)\, Predavanj
 e (P)\nLetniki: 3. LETNIK (EMŠ M)\nIzvajalci: Katedra za radiologijo KRD\
 nProstor: Pred - Velika - MF
LOCATION:Korytkova 2\, Pred - Velika - MF
ORGANIZER:Katedra za radiologijo KRD
RELATED-TO:mf-AFLABS-URNIK:srecanje:997
X-WR-TIMEZONE:Europe/Ljubljana
END:VEVENT
BEGIN:VEVENT
SUMMARY:Radiologija s slikovno diagnostiko (RSDG)\, Predavanje (P)
DTSTART;TZID=Europe/Ljubljana:20240425T110000
DTEND;TZID=Europe/Ljubljana:20240425T130000
DTSTAMP:20260420T080040Z
UID:mf-AFLABS-URNIK:premaknjeno-srecanje:6008
ATTENDEE:3. LETNIK (EMŠ M)
CATEGORIES:Entry,Standard
COLOR:darkgreen
DESCRIPTION:Predmet: Radiologija s slikovno diagnostiko (RSDG)\, Predavanj
 e (P)\nLetniki: 3. LETNIK (EMŠ M)\nIzvajalci: Katedra za radiologijo KRD\
 nProstor: Pred - Velika - MF
LOCATION:Korytkova 2\, Pred - Velika - MF
ORGANIZER:Katedra za radiologijo KRD
RELATED-TO:mf-AFLABS-URNIK:srecanje:997
X-WR-TIMEZONE:Europe/Ljubljana
END:VEVENT
BEGIN:VEVENT
SUMMARY:Radiologija s slikovno diagnostiko (RSDG)\, Vaje (V)\, [M3-07\, M3
 -08\, M3-09\, M3-17\, M3-18]
DTSTART;TZID=Europe/Ljubljana:20240221T120000
DTEND;TZID=Europe/Ljubljana:20240221T150000
DTSTAMP:20260420T080040Z
UID:mf-AFLABS-URNIK:premaknjeno-srecanje:10723
ATTENDEE:3. LETNIK (EMŠ M)
CATEGORIES:Entry,Standard
COLOR:darkgreen
DESCRIPTION:Predmet: Radiologija s slikovno diagnostiko (RSDG)\, Vaje (V)\
 , [M3-07\, M3-08\, M3-09\, M3-17\, M3-18]\nLetniki: 3. LETNIK (EMŠ M)\nIz
 vajalci: Katedra za radiologijo KRD\nProstor: Drugje
LOCATION:Drugje
ORGANIZER:Katedra za radiologijo KRD
RELATED-TO:mf-AFLABS-URNIK:srecanje:1001
X-WR-TIMEZONE:Europe/Ljubljana
END:VEVENT
BEGIN:VEVENT
SUMMARY:Radiologija s slikovno diagnostiko (RSDG)\, Vaje (V)\, [M3-07\, M3
 -08\, M3-09\, M3-17\, M3-18]
DTSTART;TZID=Europe/Ljubljana:20240306T120000
DTEND;TZID=Europe/Ljubljana:20240306T150000
DTSTAMP:20260420T080040Z
UID:mf-AFLABS-URNIK:premaknjeno-srecanje:10724
ATTENDEE:3. LETNIK (EMŠ M)
CATEGORIES:Entry,Standard
COLOR:darkgreen
DESCRIPTION:Predmet: Radiologija s slikovno diagnostiko (RSDG)\, Vaje (V)\
 , [M3-07\, M3-08\, M3-09\, M3-17\, M3-18]\nLetniki: 3. LETNIK (EMŠ M)\nIz
 vajalci: Katedra za radiologijo KRD\nProstor: Drugje
LOCATION:Drugje
ORGANIZER:Katedra za radiologijo KRD
RELATED-TO:mf-AFLABS-URNIK:srecanje:1001
X-WR-TIMEZONE:Europe/Ljubljana
END:VEVENT
BEGIN:VEVENT
SUMMARY:Radiologija s slikovno diagnostiko (RSDG)\, Vaje (V)\, [M3-07\, M3
 -08\, M3-09\, M3-17\, M3-18]
DTSTART;TZID=Europe/Ljubljana:20240320T120000
DTEND;TZID=Europe/Ljubljana:20240320T150000
DTSTAMP:20260420T080040Z
UID:mf-AFLABS-URNIK:premaknjeno-srecanje:10725
ATTENDEE:3. LETNIK (EMŠ M)
CATEGORIES:Entry,Standard
COLOR:darkgreen
DESCRIPTION:Predmet: Radiologija s slikovno diagnostiko (RSDG)\, Vaje (V)\
 , [M3-07\, M3-08\, M3-09\, M3-17\, M3-18]\nLetniki: 3. LETNIK (EMŠ M)\nIz
 vajalci: Katedra za radiologijo KRD\nProstor: Drugje
LOCATION:Drugje
ORGANIZER:Katedra za radiologijo KRD
RELATED-TO:mf-AFLABS-URNIK:srecanje:1001
X-WR-TIMEZONE:Europe/Ljubljana
END:VEVENT
BEGIN:VEVENT
SUMMARY:Radiologija s slikovno diagnostiko (RSDG)\, Vaje (V)\, [M3-07\, M3
 -08\, M3-09\, M3-17\, M3-18]
DTSTART;TZID=Europe/Ljubljana:20240403T120000
DTEND;TZID=Europe/Ljubljana:20240403T150000
DTSTAMP:20260420T080040Z
UID:mf-AFLABS-URNIK:premaknjeno-srecanje:10726
ATTENDEE:3. LETNIK (EMŠ M)
CATEGORIES:Entry,Standard
COLOR:darkgreen
DESCRIPTION:Predmet: Radiologija s slikovno diagnostiko (RSDG)\, Vaje (V)\
 , [M3-07\, M3-08\, M3-09\, M3-17\, M3-18]\nLetniki: 3. LETNIK (EMŠ M)\nIz
 vajalci: Katedra za radiologijo KRD\nProstor: Drugje
LOCATION:Drugje
ORGANIZER:Katedra za radiologijo KRD
RELATED-TO:mf-AFLABS-URNIK:srecanje:1001
X-WR-TIMEZONE:Europe/Ljubljana
END:VEVENT
BEGIN:VEVENT
SUMMARY:Radiologija s slikovno diagnostiko (RSDG)\, Vaje (V)\, [M3-07\, M3
 -08\, M3-09\, M3-17\, M3-18]
DTSTART;TZID=Europe/Ljubljana:20240417T120000
DTEND;TZID=Europe/Ljubljana:20240417T150000
DTSTAMP:20260420T080040Z
UID:mf-AFLABS-URNIK:premaknjeno-srecanje:10727
ATTENDEE:3. LETNIK (EMŠ M)
CATEGORIES:Entry,Standard
COLOR:darkgreen
DESCRIPTION:Predmet: Radiologija s slikovno diagnostiko (RSDG)\, Vaje (V)\
 , [M3-07\, M3-08\, M3-09\, M3-17\, M3-18]\nLetniki: 3. LETNIK (EMŠ M)\nIz
 vajalci: Katedra za radiologijo KRD\nProstor: Drugje
LOCATION:Drugje
ORGANIZER:Katedra za radiologijo KRD
RELATED-TO:mf-AFLABS-URNIK:srecanje:1001
X-WR-TIMEZONE:Europe/Ljubljana
END:VEVENT
BEGIN:VEVENT
SUMMARY:Radiologija s slikovno diagnostiko (RSDG)\, Vaje (V)\, [M3-07\, M3
 -08\, M3-09\, M3-17\, M3-18]
DTSTART;TZID=Europe/Ljubljana:20240508T120000
DTEND;TZID=Europe/Ljubljana:20240508T150000
DTSTAMP:20260420T080040Z
UID:mf-AFLABS-URNIK:premaknjeno-srecanje:10728
ATTENDEE:3. LETNIK (EMŠ M)
CATEGORIES:Entry,Standard
COLOR:darkgreen
DESCRIPTION:Predmet: Radiologija s slikovno diagnostiko (RSDG)\, Vaje (V)\
 , [M3-07\, M3-08\, M3-09\, M3-17\, M3-18]\nLetniki: 3. LETNIK (EMŠ M)\nIz
 vajalci: Katedra za radiologijo KRD\nProstor: Drugje
LOCATION:Drugje
ORGANIZER:Katedra za radiologijo KRD
RELATED-TO:mf-AFLABS-URNIK:srecanje:1001
X-WR-TIMEZONE:Europe/Ljubljana
END:VEVENT
BEGIN:VEVENT
SUMMARY:Radiologija s slikovno diagnostiko (RSDG)\, Vaje (V)\, [M3-01\, M3
 -02\, M3-03\, M3-13\, M3-14]
DTSTART;TZID=Europe/Ljubljana:20240221T090000
DTEND;TZID=Europe/Ljubljana:20240221T120000
DTSTAMP:20260420T080040Z
UID:mf-AFLABS-URNIK:premaknjeno-srecanje:10735
ATTENDEE:3. LETNIK (EMŠ M)
CATEGORIES:Entry,Standard
COLOR:darkgreen
DESCRIPTION:Predmet: Radiologija s slikovno diagnostiko (RSDG)\, Vaje (V)\
 , [M3-01\, M3-02\, M3-03\, M3-13\, M3-14]\nLetniki: 3. LETNIK (EMŠ M)\nIz
 vajalci: Katedra za radiologijo KRD\nProstor: Drugje
LOCATION:Drugje
ORGANIZER:Katedra za radiologijo KRD
RELATED-TO:mf-AFLABS-URNIK:srecanje:999
X-WR-TIMEZONE:Europe/Ljubljana
END:VEVENT
BEGIN:VEVENT
SUMMARY:Radiologija s slikovno diagnostiko (RSDG)\, Vaje (V)\, [M3-01\, M3
 -02\, M3-03\, M3-13\, M3-14]
DTSTART;TZID=Europe/Ljubljana:20240306T090000
DTEND;TZID=Europe/Ljubljana:20240306T120000
DTSTAMP:20260420T080040Z
UID:mf-AFLABS-URNIK:premaknjeno-srecanje:10736
ATTENDEE:3. LETNIK (EMŠ M)
CATEGORIES:Entry,Standard
COLOR:darkgreen
DESCRIPTION:Predmet: Radiologija s slikovno diagnostiko (RSDG)\, Vaje (V)\
 , [M3-01\, M3-02\, M3-03\, M3-13\, M3-14]\nLetniki: 3. LETNIK (EMŠ M)\nIz
 vajalci: Katedra za radiologijo KRD\nProstor: Drugje
LOCATION:Drugje
ORGANIZER:Katedra za radiologijo KRD
RELATED-TO:mf-AFLABS-URNIK:srecanje:999
X-WR-TIMEZONE:Europe/Ljubljana
END:VEVENT
BEGIN:VEVENT
SUMMARY:Radiologija s slikovno diagnostiko (RSDG)\, Vaje (V)\, [M3-01\, M3
 -02\, M3-03\, M3-13\, M3-14]
DTSTART;TZID=Europe/Ljubljana:20240320T090000
DTEND;TZID=Europe/Ljubljana:20240320T120000
DTSTAMP:20260420T080040Z
UID:mf-AFLABS-URNIK:premaknjeno-srecanje:10737
ATTENDEE:3. LETNIK (EMŠ M)
CATEGORIES:Entry,Standard
COLOR:darkgreen
DESCRIPTION:Predmet: Radiologija s slikovno diagnostiko (RSDG)\, Vaje (V)\
 , [M3-01\, M3-02\, M3-03\, M3-13\, M3-14]\nLetniki: 3. LETNIK (EMŠ M)\nIz
 vajalci: Katedra za radiologijo KRD\nProstor: Drugje
LOCATION:Drugje
ORGANIZER:Katedra za radiologijo KRD
RELATED-TO:mf-AFLABS-URNIK:srecanje:999
X-WR-TIMEZONE:Europe/Ljubljana
END:VEVENT
BEGIN:VEVENT
SUMMARY:Radiologija s slikovno diagnostiko (RSDG)\, Vaje (V)\, [M3-01\, M3
 -02\, M3-03\, M3-13\, M3-14]
DTSTART;TZID=Europe/Ljubljana:20240403T090000
DTEND;TZID=Europe/Ljubljana:20240403T120000
DTSTAMP:20260420T080040Z
UID:mf-AFLABS-URNIK:premaknjeno-srecanje:10738
ATTENDEE:3. LETNIK (EMŠ M)
CATEGORIES:Entry,Standard
COLOR:darkgreen
DESCRIPTION:Predmet: Radiologija s slikovno diagnostiko (RSDG)\, Vaje (V)\
 , [M3-01\, M3-02\, M3-03\, M3-13\, M3-14]\nLetniki: 3. LETNIK (EMŠ M)\nIz
 vajalci: Katedra za radiologijo KRD\nProstor: Drugje
LOCATION:Drugje
ORGANIZER:Katedra za radiologijo KRD
RELATED-TO:mf-AFLABS-URNIK:srecanje:999
X-WR-TIMEZONE:Europe/Ljubljana
END:VEVENT
BEGIN:VEVENT
SUMMARY:Radiologija s slikovno diagnostiko (RSDG)\, Vaje (V)\, [M3-01\, M3
 -02\, M3-03\, M3-13\, M3-14]
DTSTART;TZID=Europe/Ljubljana:20240417T090000
DTEND;TZID=Europe/Ljubljana:20240417T120000
DTSTAMP:20260420T080040Z
UID:mf-AFLABS-URNIK:premaknjeno-srecanje:10739
ATTENDEE:3. LETNIK (EMŠ M)
CATEGORIES:Entry,Standard
COLOR:darkgreen
DESCRIPTION:Predmet: Radiologija s slikovno diagnostiko (RSDG)\, Vaje (V)\
 , [M3-01\, M3-02\, M3-03\, M3-13\, M3-14]\nLetniki: 3. LETNIK (EMŠ M)\nIz
 vajalci: Katedra za radiologijo KRD\nProstor: Drugje
LOCATION:Drugje
ORGANIZER:Katedra za radiologijo KRD
RELATED-TO:mf-AFLABS-URNIK:srecanje:999
X-WR-TIMEZONE:Europe/Ljubljana
END:VEVENT
BEGIN:VEVENT
SUMMARY:Radiologija s slikovno diagnostiko (RSDG)\, Vaje (V)\, [M3-01\, M3
 -02\, M3-03\, M3-13\, M3-14]
DTSTART;TZID=Europe/Ljubljana:20240508T090000
DTEND;TZID=Europe/Ljubljana:20240508T120000
DTSTAMP:20260420T080040Z
UID:mf-AFLABS-URNIK:premaknjeno-srecanje:10740
ATTENDEE:3. LETNIK (EMŠ M)
CATEGORIES:Entry,Standard
COLOR:darkgreen
DESCRIPTION:Predmet: Radiologija s slikovno diagnostiko (RSDG)\, Vaje (V)\
 , [M3-01\, M3-02\, M3-03\, M3-13\, M3-14]\nLetniki: 3. LETNIK (EMŠ M)\nIz
 vajalci: Katedra za radiologijo KRD\nProstor: Drugje
LOCATION:Drugje
ORGANIZER:Katedra za radiologijo KRD
RELATED-TO:mf-AFLABS-URNIK:srecanje:999
X-WR-TIMEZONE:Europe/Ljubljana
END:VEVENT
BEGIN:VEVENT
SUMMARY:Radiologija s slikovno diagnostiko (RSDG)\, Predavanje (P)\, [M3 (
 vse skupine)]
DTSTART;TZID=Europe/Ljubljana:20240425T170000
DTEND;TZID=Europe/Ljubljana:20240425T190000
DTSTAMP:20260420T080040Z
UID:mf-AFLABS-URNIK:premaknjeno-srecanje:11039
ATTENDEE:3. LETNIK (EMŠ M)
CATEGORIES:Entry,Standard
COLOR:darkgreen
DESCRIPTION:Predmet: Radiologija s slikovno diagnostiko (RSDG)\, Predavanj
 e (P)\, [M3 (vse skupine)]\nLetniki: 3. LETNIK (EMŠ M)\nIzvajalci: Katedr
 a za radiologijo KRD\nProstor: Pred - Velika - MF
LOCATION:Korytkova 2\, Pred - Velika - MF
ORGANIZER:Katedra za radiologijo KRD
RELATED-TO:mf-AFLABS-URNIK:srecanje:2005
X-WR-TIMEZONE:Europe/Ljubljana
END:VEVENT
END:VCALENDAR
