BEGIN:VCALENDAR
VERSION:2.0
PRODID:-//AFLabs urnik izvoz - mf//aflabs.si//SI
DTSTAMP:20260420T064150Z
NAME:UL MF urnik
REFRESH-INTERVAL:PT1H
SOURCE:https://afurnik-mf.dev.aflabs.org/teacher/33?day=2023-09-24&export=
 1
URL:https://afurnik-mf.dev.aflabs.org/teacher/33?day=2023-09-24&export=1
X-PUBLISHED-TTL:PT1H
X-WR-CALNAME:UL MF urnik
X-WR-TIMEZONE:Europe/Ljubljana
BEGIN:VTIMEZONE
TZID:Europe/Ljubljana
BEGIN:DAYLIGHT
DTSTART:20260329T020000
RDATE:20260329T020000
RDATE:20270328T020000
TZNAME:CEST
TZOFFSETFROM:+0100
TZOFFSETTO:+0200
END:DAYLIGHT
BEGIN:STANDARD
DTSTART:20261025T030000
RDATE:20261025T030000
RDATE:20271031T030000
TZNAME:CET
TZOFFSETFROM:+0200
TZOFFSETTO:+0100
END:STANDARD
END:VTIMEZONE
BEGIN:VEVENT
SUMMARY:Sodna medicina (SODMED)\, Predavanje (P)\, [M5-11\, M5-12\, M5-13\
 , M5-14\, M5-15]
DTSTART;TZID=Europe/Ljubljana:20231002T080000
DTEND;TZID=Europe/Ljubljana:20231002T160000
DTSTAMP:20260420T064150Z
UID:mf-AFLABS-URNIK:premaknjeno-srecanje:7618
ATTENDEE:5. LETNIK (EMŠ M)
CATEGORIES:Entry,Standard
COLOR:darkgreen
DESCRIPTION:Predmet: Sodna medicina (SODMED)\, Predavanje (P)\, [M5-11\, M
 5-12\, M5-13\, M5-14\, M5-15]\nLetniki: 5. LETNIK (EMŠ M)\nIzvajalci: \nP
 rostor: Pred - 4 - UKC
LOCATION:Zaloška 7\, Pred - 4 - UKC
RELATED-TO:mf-AFLABS-URNIK:srecanje:1488
X-WR-TIMEZONE:Europe/Ljubljana
END:VEVENT
BEGIN:VEVENT
SUMMARY:Sodna medicina (SODMED)\, Predavanje (P)\, [M5-11\, M5-12\, M5-13\
 , M5-14\, M5-15]
DTSTART;TZID=Europe/Ljubljana:20231003T080000
DTEND;TZID=Europe/Ljubljana:20231003T150000
DTSTAMP:20260420T064150Z
UID:mf-AFLABS-URNIK:premaknjeno-srecanje:7619
ATTENDEE:5. LETNIK (EMŠ M)
CATEGORIES:Entry,Standard
COLOR:darkgreen
DESCRIPTION:Predmet: Sodna medicina (SODMED)\, Predavanje (P)\, [M5-11\, M
 5-12\, M5-13\, M5-14\, M5-15]\nLetniki: 5. LETNIK (EMŠ M)\nIzvajalci: \nP
 rostor: Pred - Fiziologija
LOCATION:Zaloška 4\, Pred - Fiziologija
RELATED-TO:mf-AFLABS-URNIK:srecanje:1489
X-WR-TIMEZONE:Europe/Ljubljana
END:VEVENT
BEGIN:VEVENT
SUMMARY:Sodna medicina (SODMED)\, Predavanje (P)\, [M5-11\, M5-12\, M5-13\
 , M5-14\, M5-15]
DTSTART;TZID=Europe/Ljubljana:20231004T080000
DTEND;TZID=Europe/Ljubljana:20231004T150000
DTSTAMP:20260420T064150Z
UID:mf-AFLABS-URNIK:premaknjeno-srecanje:7622
ATTENDEE:5. LETNIK (EMŠ M)
CATEGORIES:Entry,Standard
COLOR:darkgreen
DESCRIPTION:Predmet: Sodna medicina (SODMED)\, Predavanje (P)\, [M5-11\, M
 5-12\, M5-13\, M5-14\, M5-15]\nLetniki: 5. LETNIK (EMŠ M)\nIzvajalci: \nP
 rostor: Pred - 4 - UKC
LOCATION:Zaloška 7\, Pred - 4 - UKC
RELATED-TO:mf-AFLABS-URNIK:srecanje:1492
X-WR-TIMEZONE:Europe/Ljubljana
END:VEVENT
BEGIN:VEVENT
SUMMARY:Sodna medicina (SODMED)\, Predavanje (P)\, [M5-11\, M5-12\, M5-13\
 , M5-14\, M5-15]
DTSTART;TZID=Europe/Ljubljana:20231005T080000
DTEND;TZID=Europe/Ljubljana:20231005T150000
DTSTAMP:20260420T064150Z
UID:mf-AFLABS-URNIK:premaknjeno-srecanje:7620
ATTENDEE:5. LETNIK (EMŠ M)
CATEGORIES:Entry,Standard
COLOR:darkgreen
DESCRIPTION:Predmet: Sodna medicina (SODMED)\, Predavanje (P)\, [M5-11\, M
 5-12\, M5-13\, M5-14\, M5-15]\nLetniki: 5. LETNIK (EMŠ M)\nIzvajalci: \nP
 rostor: Pred - Fiziologija
LOCATION:Zaloška 4\, Pred - Fiziologija
RELATED-TO:mf-AFLABS-URNIK:srecanje:1490
X-WR-TIMEZONE:Europe/Ljubljana
END:VEVENT
BEGIN:VEVENT
SUMMARY:Sodna medicina (SODMED)\, Predavanje (P)\, [M5-11\, M5-12\, M5-13\
 , M5-14\, M5-15]
DTSTART;TZID=Europe/Ljubljana:20231006T080000
DTEND;TZID=Europe/Ljubljana:20231006T150000
DTSTAMP:20260420T064150Z
UID:mf-AFLABS-URNIK:premaknjeno-srecanje:7621
ATTENDEE:5. LETNIK (EMŠ M)
CATEGORIES:Entry,Standard
COLOR:darkgreen
DESCRIPTION:Predmet: Sodna medicina (SODMED)\, Predavanje (P)\, [M5-11\, M
 5-12\, M5-13\, M5-14\, M5-15]\nLetniki: 5. LETNIK (EMŠ M)\nIzvajalci: \nP
 rostor: Pred - Fiziologija
LOCATION:Zaloška 4\, Pred - Fiziologija
RELATED-TO:mf-AFLABS-URNIK:srecanje:1491
X-WR-TIMEZONE:Europe/Ljubljana
END:VEVENT
END:VCALENDAR
