BEGIN:VCALENDAR
VERSION:2.0
PRODID:-//AFLabs urnik izvoz - mf//aflabs.si//SI
DTSTAMP:20260420T063930Z
NAME:UL MF urnik
REFRESH-INTERVAL:PT1H
SOURCE:https://afurnik-mf.dev.aflabs.org/teacher/33?day=2024-06-17&export=
 1
URL:https://afurnik-mf.dev.aflabs.org/teacher/33?day=2024-06-17&export=1
X-PUBLISHED-TTL:PT1H
X-WR-CALNAME:UL MF urnik
X-WR-TIMEZONE:Europe/Ljubljana
BEGIN:VTIMEZONE
TZID:Europe/Ljubljana
BEGIN:DAYLIGHT
DTSTART:20260329T020000
RDATE:20260329T020000
RDATE:20270328T020000
TZNAME:CEST
TZOFFSETFROM:+0100
TZOFFSETTO:+0200
END:DAYLIGHT
BEGIN:STANDARD
DTSTART:20261025T030000
RDATE:20261025T030000
RDATE:20271031T030000
TZNAME:CET
TZOFFSETFROM:+0200
TZOFFSETTO:+0100
END:STANDARD
END:VTIMEZONE
BEGIN:VEVENT
SUMMARY:Sodna medicina in stomatologija (SODSTOM)\, Predavanje (P)\, [D5-0
 1\, D5-02\, D5-03\, D5-04\, D5-05\, D5-06]
DTSTART;TZID=Europe/Ljubljana:20240214T130000
DTEND;TZID=Europe/Ljubljana:20240214T150000
DTSTAMP:20260420T063930Z
UID:mf-AFLABS-URNIK:premaknjeno-srecanje:8472
ATTENDEE:5. LETNIK (EMŠ DM)
CATEGORIES:Entry,Standard
COLOR:darkgreen
DESCRIPTION:Predmet: Sodna medicina in stomatologija (SODSTOM)\, Predavanj
 e (P)\, [D5-01\, D5-02\, D5-03\, D5-04\, D5-05\, D5-06]\nLetniki: 5. LETNI
 K (EMŠ DM)\nIzvajalci: Katedra za sodno medicino in deo KSMD\nProstor: Va
 j - 1 - Sodna
LOCATION:Korytkova 2\, Vaj - 1 - Sodna
ORGANIZER:Katedra za sodno medicino in deo KSMD
RELATED-TO:mf-AFLABS-URNIK:srecanje:1657
X-WR-TIMEZONE:Europe/Ljubljana
END:VEVENT
BEGIN:VEVENT
SUMMARY:Sodna medicina in stomatologija (SODSTOM)\, Predavanje (P)\, [D5-0
 1\, D5-02\, D5-03\, D5-04\, D5-05\, D5-06]
DTSTART;TZID=Europe/Ljubljana:20240221T130000
DTEND;TZID=Europe/Ljubljana:20240221T150000
DTSTAMP:20260420T063930Z
UID:mf-AFLABS-URNIK:premaknjeno-srecanje:8473
ATTENDEE:5. LETNIK (EMŠ DM)
CATEGORIES:Entry,Standard
COLOR:darkgreen
DESCRIPTION:Predmet: Sodna medicina in stomatologija (SODSTOM)\, Predavanj
 e (P)\, [D5-01\, D5-02\, D5-03\, D5-04\, D5-05\, D5-06]\nLetniki: 5. LETNI
 K (EMŠ DM)\nIzvajalci: Katedra za sodno medicino in deo KSMD\nProstor: Va
 j - 1 - Sodna
LOCATION:Korytkova 2\, Vaj - 1 - Sodna
ORGANIZER:Katedra za sodno medicino in deo KSMD
RELATED-TO:mf-AFLABS-URNIK:srecanje:1657
X-WR-TIMEZONE:Europe/Ljubljana
END:VEVENT
BEGIN:VEVENT
SUMMARY:Sodna medicina in stomatologija (SODSTOM)\, Predavanje (P)\, [D5-0
 1\, D5-02\, D5-03\, D5-04\, D5-05\, D5-06]
DTSTART;TZID=Europe/Ljubljana:20240228T130000
DTEND;TZID=Europe/Ljubljana:20240228T150000
DTSTAMP:20260420T063930Z
UID:mf-AFLABS-URNIK:premaknjeno-srecanje:8474
ATTENDEE:5. LETNIK (EMŠ DM)
CATEGORIES:Entry,Standard
COLOR:darkgreen
DESCRIPTION:Predmet: Sodna medicina in stomatologija (SODSTOM)\, Predavanj
 e (P)\, [D5-01\, D5-02\, D5-03\, D5-04\, D5-05\, D5-06]\nLetniki: 5. LETNI
 K (EMŠ DM)\nIzvajalci: Katedra za sodno medicino in deo KSMD\nProstor: Va
 j - 1 - Sodna
LOCATION:Korytkova 2\, Vaj - 1 - Sodna
ORGANIZER:Katedra za sodno medicino in deo KSMD
RELATED-TO:mf-AFLABS-URNIK:srecanje:1657
X-WR-TIMEZONE:Europe/Ljubljana
END:VEVENT
BEGIN:VEVENT
SUMMARY:Sodna medicina in stomatologija (SODSTOM)\, Predavanje (P)\, [D5-0
 1\, D5-02\, D5-03\, D5-04\, D5-05\, D5-06]
DTSTART;TZID=Europe/Ljubljana:20240306T130000
DTEND;TZID=Europe/Ljubljana:20240306T150000
DTSTAMP:20260420T063930Z
UID:mf-AFLABS-URNIK:premaknjeno-srecanje:8475
ATTENDEE:5. LETNIK (EMŠ DM)
CATEGORIES:Entry,Standard
COLOR:darkgreen
DESCRIPTION:Predmet: Sodna medicina in stomatologija (SODSTOM)\, Predavanj
 e (P)\, [D5-01\, D5-02\, D5-03\, D5-04\, D5-05\, D5-06]\nLetniki: 5. LETNI
 K (EMŠ DM)\nIzvajalci: Katedra za sodno medicino in deo KSMD\nProstor: Va
 j - 1 - Sodna
LOCATION:Korytkova 2\, Vaj - 1 - Sodna
ORGANIZER:Katedra za sodno medicino in deo KSMD
RELATED-TO:mf-AFLABS-URNIK:srecanje:1657
X-WR-TIMEZONE:Europe/Ljubljana
END:VEVENT
BEGIN:VEVENT
SUMMARY:Sodna medicina in stomatologija (SODSTOM)\, Predavanje (P)\, [D5-0
 1\, D5-02\, D5-03\, D5-04\, D5-05\, D5-06]
DTSTART;TZID=Europe/Ljubljana:20240313T130000
DTEND;TZID=Europe/Ljubljana:20240313T150000
DTSTAMP:20260420T063930Z
UID:mf-AFLABS-URNIK:premaknjeno-srecanje:8476
ATTENDEE:5. LETNIK (EMŠ DM)
CATEGORIES:Entry,Standard
COLOR:darkgreen
DESCRIPTION:Predmet: Sodna medicina in stomatologija (SODSTOM)\, Predavanj
 e (P)\, [D5-01\, D5-02\, D5-03\, D5-04\, D5-05\, D5-06]\nLetniki: 5. LETNI
 K (EMŠ DM)\nIzvajalci: Katedra za sodno medicino in deo KSMD\nProstor: Va
 j - 1 - Sodna
LOCATION:Korytkova 2\, Vaj - 1 - Sodna
ORGANIZER:Katedra za sodno medicino in deo KSMD
RELATED-TO:mf-AFLABS-URNIK:srecanje:1657
X-WR-TIMEZONE:Europe/Ljubljana
END:VEVENT
BEGIN:VEVENT
SUMMARY:Sodna medicina in stomatologija (SODSTOM)\, Predavanje (P)\, [D5-0
 1\, D5-02\, D5-03\, D5-04\, D5-05\, D5-06]
DTSTART;TZID=Europe/Ljubljana:20240320T130000
DTEND;TZID=Europe/Ljubljana:20240320T150000
DTSTAMP:20260420T063930Z
UID:mf-AFLABS-URNIK:premaknjeno-srecanje:8477
ATTENDEE:5. LETNIK (EMŠ DM)
CATEGORIES:Entry,Standard
COLOR:darkgreen
DESCRIPTION:Predmet: Sodna medicina in stomatologija (SODSTOM)\, Predavanj
 e (P)\, [D5-01\, D5-02\, D5-03\, D5-04\, D5-05\, D5-06]\nLetniki: 5. LETNI
 K (EMŠ DM)\nIzvajalci: Katedra za sodno medicino in deo KSMD\nProstor: Va
 j - 1 - Sodna
LOCATION:Korytkova 2\, Vaj - 1 - Sodna
ORGANIZER:Katedra za sodno medicino in deo KSMD
RELATED-TO:mf-AFLABS-URNIK:srecanje:1657
X-WR-TIMEZONE:Europe/Ljubljana
END:VEVENT
BEGIN:VEVENT
SUMMARY:Sodna medicina in stomatologija (SODSTOM)\, Predavanje (P)\, [D5-0
 1\, D5-02\, D5-03\, D5-04\, D5-05\, D5-06]
DTSTART;TZID=Europe/Ljubljana:20240327T130000
DTEND;TZID=Europe/Ljubljana:20240327T150000
DTSTAMP:20260420T063930Z
UID:mf-AFLABS-URNIK:premaknjeno-srecanje:8478
ATTENDEE:5. LETNIK (EMŠ DM)
CATEGORIES:Entry,Standard
COLOR:darkgreen
DESCRIPTION:Predmet: Sodna medicina in stomatologija (SODSTOM)\, Predavanj
 e (P)\, [D5-01\, D5-02\, D5-03\, D5-04\, D5-05\, D5-06]\nLetniki: 5. LETNI
 K (EMŠ DM)\nIzvajalci: Katedra za sodno medicino in deo KSMD\nProstor: Va
 j - 1 - Sodna
LOCATION:Korytkova 2\, Vaj - 1 - Sodna
ORGANIZER:Katedra za sodno medicino in deo KSMD
RELATED-TO:mf-AFLABS-URNIK:srecanje:1657
X-WR-TIMEZONE:Europe/Ljubljana
END:VEVENT
BEGIN:VEVENT
SUMMARY:Sodna medicina in stomatologija (SODSTOM)\, Predavanje (P)\, [D5-0
 1\, D5-02\, D5-03\, D5-04\, D5-05\, D5-06]
DTSTART;TZID=Europe/Ljubljana:20240403T130000
DTEND;TZID=Europe/Ljubljana:20240403T150000
DTSTAMP:20260420T063930Z
UID:mf-AFLABS-URNIK:premaknjeno-srecanje:8479
ATTENDEE:5. LETNIK (EMŠ DM)
CATEGORIES:Entry,Standard
COLOR:darkgreen
DESCRIPTION:Predmet: Sodna medicina in stomatologija (SODSTOM)\, Predavanj
 e (P)\, [D5-01\, D5-02\, D5-03\, D5-04\, D5-05\, D5-06]\nLetniki: 5. LETNI
 K (EMŠ DM)\nIzvajalci: Katedra za sodno medicino in deo KSMD\nProstor: Va
 j - 1 - Sodna
LOCATION:Korytkova 2\, Vaj - 1 - Sodna
ORGANIZER:Katedra za sodno medicino in deo KSMD
RELATED-TO:mf-AFLABS-URNIK:srecanje:1657
X-WR-TIMEZONE:Europe/Ljubljana
END:VEVENT
BEGIN:VEVENT
SUMMARY:Sodna medicina in stomatologija (SODSTOM)\, Predavanje (P)\, [D5-0
 1\, D5-02\, D5-03\, D5-04\, D5-05\, D5-06]
DTSTART;TZID=Europe/Ljubljana:20240410T130000
DTEND;TZID=Europe/Ljubljana:20240410T150000
DTSTAMP:20260420T063930Z
UID:mf-AFLABS-URNIK:premaknjeno-srecanje:8480
ATTENDEE:5. LETNIK (EMŠ DM)
CATEGORIES:Entry,Standard
COLOR:darkgreen
DESCRIPTION:Predmet: Sodna medicina in stomatologija (SODSTOM)\, Predavanj
 e (P)\, [D5-01\, D5-02\, D5-03\, D5-04\, D5-05\, D5-06]\nLetniki: 5. LETNI
 K (EMŠ DM)\nIzvajalci: Katedra za sodno medicino in deo KSMD\nProstor: Va
 j - 1 - Sodna
LOCATION:Korytkova 2\, Vaj - 1 - Sodna
ORGANIZER:Katedra za sodno medicino in deo KSMD
RELATED-TO:mf-AFLABS-URNIK:srecanje:1657
X-WR-TIMEZONE:Europe/Ljubljana
END:VEVENT
BEGIN:VEVENT
SUMMARY:Sodna medicina in stomatologija (SODSTOM)\, Predavanje (P)\, [D5-0
 1\, D5-02\, D5-03\, D5-04\, D5-05\, D5-06]
DTSTART;TZID=Europe/Ljubljana:20240417T130000
DTEND;TZID=Europe/Ljubljana:20240417T150000
DTSTAMP:20260420T063930Z
UID:mf-AFLABS-URNIK:premaknjeno-srecanje:8481
ATTENDEE:5. LETNIK (EMŠ DM)
CATEGORIES:Entry,Standard
COLOR:darkgreen
DESCRIPTION:Predmet: Sodna medicina in stomatologija (SODSTOM)\, Predavanj
 e (P)\, [D5-01\, D5-02\, D5-03\, D5-04\, D5-05\, D5-06]\nLetniki: 5. LETNI
 K (EMŠ DM)\nIzvajalci: Katedra za sodno medicino in deo KSMD\nProstor: Va
 j - 1 - Sodna
LOCATION:Korytkova 2\, Vaj - 1 - Sodna
ORGANIZER:Katedra za sodno medicino in deo KSMD
RELATED-TO:mf-AFLABS-URNIK:srecanje:1657
X-WR-TIMEZONE:Europe/Ljubljana
END:VEVENT
BEGIN:VEVENT
SUMMARY:Sodna medicina in stomatologija (SODSTOM)\, Predavanje (P)\, [D5-0
 1\, D5-02\, D5-03\, D5-04\, D5-05\, D5-06]
DTSTART;TZID=Europe/Ljubljana:20240424T130000
DTEND;TZID=Europe/Ljubljana:20240424T150000
DTSTAMP:20260420T063930Z
UID:mf-AFLABS-URNIK:premaknjeno-srecanje:8482
ATTENDEE:5. LETNIK (EMŠ DM)
CATEGORIES:Entry,Standard
COLOR:darkgreen
DESCRIPTION:Predmet: Sodna medicina in stomatologija (SODSTOM)\, Predavanj
 e (P)\, [D5-01\, D5-02\, D5-03\, D5-04\, D5-05\, D5-06]\nLetniki: 5. LETNI
 K (EMŠ DM)\nIzvajalci: Katedra za sodno medicino in deo KSMD\nProstor: Va
 j - 1 - Sodna
LOCATION:Korytkova 2\, Vaj - 1 - Sodna
ORGANIZER:Katedra za sodno medicino in deo KSMD
RELATED-TO:mf-AFLABS-URNIK:srecanje:1657
X-WR-TIMEZONE:Europe/Ljubljana
END:VEVENT
BEGIN:VEVENT
SUMMARY:Sodna medicina in stomatologija (SODSTOM)\, Predavanje (P)\, [D5-0
 1\, D5-02\, D5-03\, D5-04\, D5-05\, D5-06]
DTSTART;TZID=Europe/Ljubljana:20240508T130000
DTEND;TZID=Europe/Ljubljana:20240508T150000
DTSTAMP:20260420T063930Z
UID:mf-AFLABS-URNIK:premaknjeno-srecanje:8484
ATTENDEE:5. LETNIK (EMŠ DM)
CATEGORIES:Entry,Standard
COLOR:darkgreen
DESCRIPTION:Predmet: Sodna medicina in stomatologija (SODSTOM)\, Predavanj
 e (P)\, [D5-01\, D5-02\, D5-03\, D5-04\, D5-05\, D5-06]\nLetniki: 5. LETNI
 K (EMŠ DM)\nIzvajalci: Katedra za sodno medicino in deo KSMD\nProstor: Va
 j - 1 - Sodna
LOCATION:Korytkova 2\, Vaj - 1 - Sodna
ORGANIZER:Katedra za sodno medicino in deo KSMD
RELATED-TO:mf-AFLABS-URNIK:srecanje:1657
X-WR-TIMEZONE:Europe/Ljubljana
END:VEVENT
BEGIN:VEVENT
SUMMARY:Sodna medicina in stomatologija (SODSTOM)\, Predavanje (P)\, [D5-0
 1\, D5-02\, D5-03\, D5-04\, D5-05\, D5-06]
DTSTART;TZID=Europe/Ljubljana:20240515T130000
DTEND;TZID=Europe/Ljubljana:20240515T150000
DTSTAMP:20260420T063930Z
UID:mf-AFLABS-URNIK:premaknjeno-srecanje:8485
ATTENDEE:5. LETNIK (EMŠ DM)
CATEGORIES:Entry,Standard
COLOR:darkgreen
DESCRIPTION:Predmet: Sodna medicina in stomatologija (SODSTOM)\, Predavanj
 e (P)\, [D5-01\, D5-02\, D5-03\, D5-04\, D5-05\, D5-06]\nLetniki: 5. LETNI
 K (EMŠ DM)\nIzvajalci: Katedra za sodno medicino in deo KSMD\nProstor: Va
 j - 1 - Sodna
LOCATION:Korytkova 2\, Vaj - 1 - Sodna
ORGANIZER:Katedra za sodno medicino in deo KSMD
RELATED-TO:mf-AFLABS-URNIK:srecanje:1657
X-WR-TIMEZONE:Europe/Ljubljana
END:VEVENT
BEGIN:VEVENT
SUMMARY:Sodna medicina in stomatologija (SODSTOM)\, Predavanje (P)\, [D5-0
 1\, D5-02\, D5-03\, D5-04\, D5-05\, D5-06]
DTSTART;TZID=Europe/Ljubljana:20240522T130000
DTEND;TZID=Europe/Ljubljana:20240522T150000
DTSTAMP:20260420T063930Z
UID:mf-AFLABS-URNIK:premaknjeno-srecanje:8486
ATTENDEE:5. LETNIK (EMŠ DM)
CATEGORIES:Entry,Standard
COLOR:darkgreen
DESCRIPTION:Predmet: Sodna medicina in stomatologija (SODSTOM)\, Predavanj
 e (P)\, [D5-01\, D5-02\, D5-03\, D5-04\, D5-05\, D5-06]\nLetniki: 5. LETNI
 K (EMŠ DM)\nIzvajalci: Katedra za sodno medicino in deo KSMD\nProstor: Va
 j - 1 - Sodna
LOCATION:Korytkova 2\, Vaj - 1 - Sodna
ORGANIZER:Katedra za sodno medicino in deo KSMD
RELATED-TO:mf-AFLABS-URNIK:srecanje:1657
X-WR-TIMEZONE:Europe/Ljubljana
END:VEVENT
BEGIN:VEVENT
SUMMARY:Sodna medicina in stomatologija (SODSTOM)\, Vaje (V)\, [D5-04\, D5
 -05\, D5-06]
DTSTART;TZID=Europe/Ljubljana:20240227T073000
DTEND;TZID=Europe/Ljubljana:20240227T103000
DTSTAMP:20260420T063930Z
UID:mf-AFLABS-URNIK:premaknjeno-srecanje:8487
ATTENDEE:5. LETNIK (EMŠ DM)
CATEGORIES:Entry,Standard
COLOR:darkgreen
DESCRIPTION:Predmet: Sodna medicina in stomatologija (SODSTOM)\, Vaje (V)\
 , [D5-04\, D5-05\, D5-06]\nLetniki: 5. LETNIK (EMŠ DM)\nIzvajalci: Katedr
 a za sodno medicino in deo KSMD\nProstor: Vaj - 1 - Sodna
LOCATION:Korytkova 2\, Vaj - 1 - Sodna
ORGANIZER:Katedra za sodno medicino in deo KSMD
RELATED-TO:mf-AFLABS-URNIK:srecanje:1658
X-WR-TIMEZONE:Europe/Ljubljana
END:VEVENT
BEGIN:VEVENT
SUMMARY:Sodna medicina in stomatologija (SODSTOM)\, Vaje (V)\, [D5-04\, D5
 -05\, D5-06]
DTSTART;TZID=Europe/Ljubljana:20240305T073000
DTEND;TZID=Europe/Ljubljana:20240305T103000
DTSTAMP:20260420T063930Z
UID:mf-AFLABS-URNIK:premaknjeno-srecanje:8488
ATTENDEE:5. LETNIK (EMŠ DM)
CATEGORIES:Entry,Standard
COLOR:darkgreen
DESCRIPTION:Predmet: Sodna medicina in stomatologija (SODSTOM)\, Vaje (V)\
 , [D5-04\, D5-05\, D5-06]\nLetniki: 5. LETNIK (EMŠ DM)\nIzvajalci: Katedr
 a za sodno medicino in deo KSMD\nProstor: Vaj - 1 - Sodna
LOCATION:Korytkova 2\, Vaj - 1 - Sodna
ORGANIZER:Katedra za sodno medicino in deo KSMD
RELATED-TO:mf-AFLABS-URNIK:srecanje:1658
X-WR-TIMEZONE:Europe/Ljubljana
END:VEVENT
BEGIN:VEVENT
SUMMARY:Sodna medicina in stomatologija (SODSTOM)\, Vaje (V)\, [D5-04\, D5
 -05\, D5-06]
DTSTART;TZID=Europe/Ljubljana:20240312T073000
DTEND;TZID=Europe/Ljubljana:20240312T103000
DTSTAMP:20260420T063930Z
UID:mf-AFLABS-URNIK:premaknjeno-srecanje:8489
ATTENDEE:5. LETNIK (EMŠ DM)
CATEGORIES:Entry,Standard
COLOR:darkgreen
DESCRIPTION:Predmet: Sodna medicina in stomatologija (SODSTOM)\, Vaje (V)\
 , [D5-04\, D5-05\, D5-06]\nLetniki: 5. LETNIK (EMŠ DM)\nIzvajalci: Katedr
 a za sodno medicino in deo KSMD\nProstor: Vaj - 1 - Sodna
LOCATION:Korytkova 2\, Vaj - 1 - Sodna
ORGANIZER:Katedra za sodno medicino in deo KSMD
RELATED-TO:mf-AFLABS-URNIK:srecanje:1658
X-WR-TIMEZONE:Europe/Ljubljana
END:VEVENT
BEGIN:VEVENT
SUMMARY:Sodna medicina in stomatologija (SODSTOM)\, Vaje (V)\, [D5-04\, D5
 -05\, D5-06]
DTSTART;TZID=Europe/Ljubljana:20240319T073000
DTEND;TZID=Europe/Ljubljana:20240319T103000
DTSTAMP:20260420T063930Z
UID:mf-AFLABS-URNIK:premaknjeno-srecanje:8490
ATTENDEE:5. LETNIK (EMŠ DM)
CATEGORIES:Entry,Standard
COLOR:darkgreen
DESCRIPTION:Predmet: Sodna medicina in stomatologija (SODSTOM)\, Vaje (V)\
 , [D5-04\, D5-05\, D5-06]\nLetniki: 5. LETNIK (EMŠ DM)\nIzvajalci: Katedr
 a za sodno medicino in deo KSMD\nProstor: Vaj - 1 - Sodna
LOCATION:Korytkova 2\, Vaj - 1 - Sodna
ORGANIZER:Katedra za sodno medicino in deo KSMD
RELATED-TO:mf-AFLABS-URNIK:srecanje:1658
X-WR-TIMEZONE:Europe/Ljubljana
END:VEVENT
BEGIN:VEVENT
SUMMARY:Sodna medicina in stomatologija (SODSTOM)\, Vaje (V)\, [D5-04\, D5
 -05\, D5-06]
DTSTART;TZID=Europe/Ljubljana:20240326T073000
DTEND;TZID=Europe/Ljubljana:20240326T103000
DTSTAMP:20260420T063930Z
UID:mf-AFLABS-URNIK:premaknjeno-srecanje:8491
ATTENDEE:5. LETNIK (EMŠ DM)
CATEGORIES:Entry,Standard
COLOR:darkgreen
DESCRIPTION:Predmet: Sodna medicina in stomatologija (SODSTOM)\, Vaje (V)\
 , [D5-04\, D5-05\, D5-06]\nLetniki: 5. LETNIK (EMŠ DM)\nIzvajalci: Katedr
 a za sodno medicino in deo KSMD\nProstor: Vaj - 1 - Sodna
LOCATION:Korytkova 2\, Vaj - 1 - Sodna
ORGANIZER:Katedra za sodno medicino in deo KSMD
RELATED-TO:mf-AFLABS-URNIK:srecanje:1658
X-WR-TIMEZONE:Europe/Ljubljana
END:VEVENT
BEGIN:VEVENT
SUMMARY:Sodna medicina in stomatologija (SODSTOM)\, Vaje (V)\, [D5-01\, D5
 -02\, D5-03]
DTSTART;TZID=Europe/Ljubljana:20240228T073000
DTEND;TZID=Europe/Ljubljana:20240228T103000
DTSTAMP:20260420T063930Z
UID:mf-AFLABS-URNIK:premaknjeno-srecanje:8492
ATTENDEE:5. LETNIK (EMŠ DM)
CATEGORIES:Entry,Standard
COLOR:darkgreen
DESCRIPTION:Predmet: Sodna medicina in stomatologija (SODSTOM)\, Vaje (V)\
 , [D5-01\, D5-02\, D5-03]\nLetniki: 5. LETNIK (EMŠ DM)\nIzvajalci: Katedr
 a za sodno medicino in deo KSMD\nProstor: Vaj - 1 - Sodna
LOCATION:Korytkova 2\, Vaj - 1 - Sodna
ORGANIZER:Katedra za sodno medicino in deo KSMD
RELATED-TO:mf-AFLABS-URNIK:srecanje:1659
X-WR-TIMEZONE:Europe/Ljubljana
END:VEVENT
BEGIN:VEVENT
SUMMARY:Sodna medicina in stomatologija (SODSTOM)\, Vaje (V)\, [D5-01\, D5
 -02\, D5-03]
DTSTART;TZID=Europe/Ljubljana:20240306T073000
DTEND;TZID=Europe/Ljubljana:20240306T103000
DTSTAMP:20260420T063930Z
UID:mf-AFLABS-URNIK:premaknjeno-srecanje:8493
ATTENDEE:5. LETNIK (EMŠ DM)
CATEGORIES:Entry,Standard
COLOR:darkgreen
DESCRIPTION:Predmet: Sodna medicina in stomatologija (SODSTOM)\, Vaje (V)\
 , [D5-01\, D5-02\, D5-03]\nLetniki: 5. LETNIK (EMŠ DM)\nIzvajalci: Katedr
 a za sodno medicino in deo KSMD\nProstor: Vaj - 1 - Sodna
LOCATION:Korytkova 2\, Vaj - 1 - Sodna
ORGANIZER:Katedra za sodno medicino in deo KSMD
RELATED-TO:mf-AFLABS-URNIK:srecanje:1659
X-WR-TIMEZONE:Europe/Ljubljana
END:VEVENT
BEGIN:VEVENT
SUMMARY:Sodna medicina in stomatologija (SODSTOM)\, Vaje (V)\, [D5-01\, D5
 -02\, D5-03]
DTSTART;TZID=Europe/Ljubljana:20240313T073000
DTEND;TZID=Europe/Ljubljana:20240313T103000
DTSTAMP:20260420T063930Z
UID:mf-AFLABS-URNIK:premaknjeno-srecanje:8494
ATTENDEE:5. LETNIK (EMŠ DM)
CATEGORIES:Entry,Standard
COLOR:darkgreen
DESCRIPTION:Predmet: Sodna medicina in stomatologija (SODSTOM)\, Vaje (V)\
 , [D5-01\, D5-02\, D5-03]\nLetniki: 5. LETNIK (EMŠ DM)\nIzvajalci: Katedr
 a za sodno medicino in deo KSMD\nProstor: Vaj - 1 - Sodna
LOCATION:Korytkova 2\, Vaj - 1 - Sodna
ORGANIZER:Katedra za sodno medicino in deo KSMD
RELATED-TO:mf-AFLABS-URNIK:srecanje:1659
X-WR-TIMEZONE:Europe/Ljubljana
END:VEVENT
BEGIN:VEVENT
SUMMARY:Sodna medicina in stomatologija (SODSTOM)\, Vaje (V)\, [D5-01\, D5
 -02\, D5-03]
DTSTART;TZID=Europe/Ljubljana:20240320T073000
DTEND;TZID=Europe/Ljubljana:20240320T103000
DTSTAMP:20260420T063930Z
UID:mf-AFLABS-URNIK:premaknjeno-srecanje:8495
ATTENDEE:5. LETNIK (EMŠ DM)
CATEGORIES:Entry,Standard
COLOR:darkgreen
DESCRIPTION:Predmet: Sodna medicina in stomatologija (SODSTOM)\, Vaje (V)\
 , [D5-01\, D5-02\, D5-03]\nLetniki: 5. LETNIK (EMŠ DM)\nIzvajalci: Katedr
 a za sodno medicino in deo KSMD\nProstor: Vaj - 1 - Sodna
LOCATION:Korytkova 2\, Vaj - 1 - Sodna
ORGANIZER:Katedra za sodno medicino in deo KSMD
RELATED-TO:mf-AFLABS-URNIK:srecanje:1659
X-WR-TIMEZONE:Europe/Ljubljana
END:VEVENT
BEGIN:VEVENT
SUMMARY:Sodna medicina in stomatologija (SODSTOM)\, Vaje (V)\, [D5-01\, D5
 -02\, D5-03]
DTSTART;TZID=Europe/Ljubljana:20240327T073000
DTEND;TZID=Europe/Ljubljana:20240327T103000
DTSTAMP:20260420T063930Z
UID:mf-AFLABS-URNIK:premaknjeno-srecanje:8496
ATTENDEE:5. LETNIK (EMŠ DM)
CATEGORIES:Entry,Standard
COLOR:darkgreen
DESCRIPTION:Predmet: Sodna medicina in stomatologija (SODSTOM)\, Vaje (V)\
 , [D5-01\, D5-02\, D5-03]\nLetniki: 5. LETNIK (EMŠ DM)\nIzvajalci: Katedr
 a za sodno medicino in deo KSMD\nProstor: Vaj - 1 - Sodna
LOCATION:Korytkova 2\, Vaj - 1 - Sodna
ORGANIZER:Katedra za sodno medicino in deo KSMD
RELATED-TO:mf-AFLABS-URNIK:srecanje:1659
X-WR-TIMEZONE:Europe/Ljubljana
END:VEVENT
BEGIN:VEVENT
SUMMARY:Sodna medicina (SODMED)\, Predavanje (P)\, [M5-06\, M5-07\, M5-08\
 , M5-09\, M5-10]
DTSTART;TZID=Europe/Ljubljana:20240415T080000
DTEND;TZID=Europe/Ljubljana:20240415T160000
DTSTAMP:20260420T063930Z
UID:mf-AFLABS-URNIK:premaknjeno-srecanje:7632
ATTENDEE:5. LETNIK (EMŠ M)
CATEGORIES:Entry,Standard
COLOR:darkgreen
DESCRIPTION:Predmet: Sodna medicina (SODMED)\, Predavanje (P)\, [M5-06\, M
 5-07\, M5-08\, M5-09\, M5-10]\nLetniki: 5. LETNIK (EMŠ M)\nIzvajalci: \nP
 rostor: Pred - 3 - UKC
LOCATION:Zaloška 7\, Pred - 3 - UKC
RELATED-TO:mf-AFLABS-URNIK:srecanje:1502
X-WR-TIMEZONE:Europe/Ljubljana
END:VEVENT
BEGIN:VEVENT
SUMMARY:Sodna medicina (SODMED)\, Predavanje (P)\, [M5-06\, M5-07\, M5-08\
 , M5-09\, M5-10]
DTSTART;TZID=Europe/Ljubljana:20240416T080000
DTEND;TZID=Europe/Ljubljana:20240416T150000
DTSTAMP:20260420T063930Z
UID:mf-AFLABS-URNIK:premaknjeno-srecanje:7633
ATTENDEE:5. LETNIK (EMŠ M)
CATEGORIES:Entry,Standard
COLOR:darkgreen
DESCRIPTION:Predmet: Sodna medicina (SODMED)\, Predavanje (P)\, [M5-06\, M
 5-07\, M5-08\, M5-09\, M5-10]\nLetniki: 5. LETNIK (EMŠ M)\nIzvajalci: \nP
 rostor: Pred - Fiziologija
LOCATION:Zaloška 4\, Pred - Fiziologija
RELATED-TO:mf-AFLABS-URNIK:srecanje:1503
X-WR-TIMEZONE:Europe/Ljubljana
END:VEVENT
BEGIN:VEVENT
SUMMARY:Sodna medicina (SODMED)\, Predavanje (P)\, [M5-06\, M5-07\, M5-08\
 , M5-09\, M5-10]
DTSTART;TZID=Europe/Ljubljana:20240417T080000
DTEND;TZID=Europe/Ljubljana:20240417T150000
DTSTAMP:20260420T063930Z
UID:mf-AFLABS-URNIK:premaknjeno-srecanje:7634
ATTENDEE:5. LETNIK (EMŠ M)
CATEGORIES:Entry,Standard
COLOR:darkgreen
DESCRIPTION:Predmet: Sodna medicina (SODMED)\, Predavanje (P)\, [M5-06\, M
 5-07\, M5-08\, M5-09\, M5-10]\nLetniki: 5. LETNIK (EMŠ M)\nIzvajalci: \nP
 rostor: Pred - Fiziologija
LOCATION:Zaloška 4\, Pred - Fiziologija
RELATED-TO:mf-AFLABS-URNIK:srecanje:1504
X-WR-TIMEZONE:Europe/Ljubljana
END:VEVENT
BEGIN:VEVENT
SUMMARY:Sodna medicina (SODMED)\, Predavanje (P)\, [M5-06\, M5-07\, M5-08\
 , M5-09\, M5-10]
DTSTART;TZID=Europe/Ljubljana:20240418T080000
DTEND;TZID=Europe/Ljubljana:20240418T150000
DTSTAMP:20260420T063930Z
UID:mf-AFLABS-URNIK:premaknjeno-srecanje:7636
ATTENDEE:5. LETNIK (EMŠ M)
CATEGORIES:Entry,Standard
COLOR:darkgreen
DESCRIPTION:Predmet: Sodna medicina (SODMED)\, Predavanje (P)\, [M5-06\, M
 5-07\, M5-08\, M5-09\, M5-10]\nLetniki: 5. LETNIK (EMŠ M)\nIzvajalci: \nP
 rostor: Pred - 3 - UKC
LOCATION:Zaloška 7\, Pred - 3 - UKC
RELATED-TO:mf-AFLABS-URNIK:srecanje:1506
X-WR-TIMEZONE:Europe/Ljubljana
END:VEVENT
BEGIN:VEVENT
SUMMARY:Sodna medicina (SODMED)\, Predavanje (P)\, [M5-06\, M5-07\, M5-08\
 , M5-09\, M5-10]
DTSTART;TZID=Europe/Ljubljana:20240419T080000
DTEND;TZID=Europe/Ljubljana:20240419T150000
DTSTAMP:20260420T063930Z
UID:mf-AFLABS-URNIK:premaknjeno-srecanje:7635
ATTENDEE:5. LETNIK (EMŠ M)
CATEGORIES:Entry,Standard
COLOR:darkgreen
DESCRIPTION:Predmet: Sodna medicina (SODMED)\, Predavanje (P)\, [M5-06\, M
 5-07\, M5-08\, M5-09\, M5-10]\nLetniki: 5. LETNIK (EMŠ M)\nIzvajalci: \nP
 rostor: Pred - Fiziologija
LOCATION:Zaloška 4\, Pred - Fiziologija
RELATED-TO:mf-AFLABS-URNIK:srecanje:1505
X-WR-TIMEZONE:Europe/Ljubljana
END:VEVENT
END:VCALENDAR
