BEGIN:VCALENDAR
VERSION:2.0
PRODID:-//AFLabs urnik izvoz - mf//aflabs.si//SI
DTSTAMP:20260420T053035Z
NAME:UL MF urnik
REFRESH-INTERVAL:PT1H
SOURCE:https://afurnik-mf.dev.aflabs.org/teacher/33?day=2024-10-01&export=
 1
URL:https://afurnik-mf.dev.aflabs.org/teacher/33?day=2024-10-01&export=1
X-PUBLISHED-TTL:PT1H
X-WR-CALNAME:UL MF urnik
X-WR-TIMEZONE:Europe/Ljubljana
BEGIN:VTIMEZONE
TZID:Europe/Ljubljana
BEGIN:DAYLIGHT
DTSTART:20260329T020000
RDATE:20260329T020000
RDATE:20270328T020000
TZNAME:CEST
TZOFFSETFROM:+0100
TZOFFSETTO:+0200
END:DAYLIGHT
BEGIN:STANDARD
DTSTART:20261025T030000
RDATE:20261025T030000
RDATE:20271031T030000
TZNAME:CET
TZOFFSETFROM:+0200
TZOFFSETTO:+0100
END:STANDARD
END:VTIMEZONE
BEGIN:VEVENT
SUMMARY:Sodna medicina (SODMED)\, Predavanje (P)\, [M5-11\, M5-12\, M5-13\
 , M5-14\, M5-15]
DTSTART;TZID=Europe/Ljubljana:20241001T080000
DTEND;TZID=Europe/Ljubljana:20241001T150000
DTSTAMP:20260420T053035Z
UID:mf-AFLABS-URNIK:premaknjeno-srecanje:20581
ATTENDEE:5. LETNIK (EMŠ M)
CATEGORIES:Entry,Special
COLOR:forestgreen
DESCRIPTION:Predmet: Sodna medicina (SODMED)\, Predavanje (P)\, [M5-11\, M
 5-12\, M5-13\, M5-14\, M5-15]\nLetniki: 5. LETNIK (EMŠ M)\nIzvajalci: Kat
 edra za sodno medicino in deo KSMD\nProstor: Pred - 4 - UKC
LOCATION:Zaloška 7\, Pred - 4 - UKC
ORGANIZER:Katedra za sodno medicino in deo KSMD
RELATED-TO:mf-AFLABS-URNIK:srecanje:3617
X-WR-TIMEZONE:Europe/Ljubljana
END:VEVENT
BEGIN:VEVENT
SUMMARY:Sodna medicina (SODMED)\, Predavanje (P)\, [M5-11\, M5-12\, M5-13\
 , M5-14\, M5-15]
DTSTART;TZID=Europe/Ljubljana:20241001T150000
DTEND;TZID=Europe/Ljubljana:20241001T160000
DTSTAMP:20260420T053035Z
UID:mf-AFLABS-URNIK:premaknjeno-srecanje:20582
ATTENDEE:5. LETNIK (EMŠ M)
CATEGORIES:Entry,Special
COLOR:forestgreen
DESCRIPTION:Predmet: Sodna medicina (SODMED)\, Predavanje (P)\, [M5-11\, M
 5-12\, M5-13\, M5-14\, M5-15]\nLetniki: 5. LETNIK (EMŠ M)\nIzvajalci: Kat
 edra za sodno medicino in deo KSMD\nProstor: Pred - Travma - UKC
LOCATION:Zaloška 2\, Pred - Travma - UKC
ORGANIZER:Katedra za sodno medicino in deo KSMD
RELATED-TO:mf-AFLABS-URNIK:srecanje:3618
X-WR-TIMEZONE:Europe/Ljubljana
END:VEVENT
BEGIN:VEVENT
SUMMARY:Sodna medicina (SODMED)\, Predavanje (P)\, [M5-11\, M5-12\, M5-13\
 , M5-14\, M5-15]
DTSTART;TZID=Europe/Ljubljana:20241002T080000
DTEND;TZID=Europe/Ljubljana:20241002T130000
DTSTAMP:20260420T053035Z
UID:mf-AFLABS-URNIK:premaknjeno-srecanje:20583
ATTENDEE:5. LETNIK (EMŠ M)
CATEGORIES:Entry,Special
COLOR:forestgreen
DESCRIPTION:Predmet: Sodna medicina (SODMED)\, Predavanje (P)\, [M5-11\, M
 5-12\, M5-13\, M5-14\, M5-15]\nLetniki: 5. LETNIK (EMŠ M)\nIzvajalci: Kat
 edra za sodno medicino in deo KSMD\nProstor: Pred - 3 - UKC
LOCATION:Zaloška 7\, Pred - 3 - UKC
ORGANIZER:Katedra za sodno medicino in deo KSMD
RELATED-TO:mf-AFLABS-URNIK:srecanje:3619
X-WR-TIMEZONE:Europe/Ljubljana
END:VEVENT
BEGIN:VEVENT
SUMMARY:Sodna medicina (SODMED)\, Predavanje (P)\, [M5-11\, M5-12\, M5-13\
 , M5-14\, M5-15]
DTSTART;TZID=Europe/Ljubljana:20241002T130000
DTEND;TZID=Europe/Ljubljana:20241002T140000
DTSTAMP:20260420T053035Z
UID:mf-AFLABS-URNIK:premaknjeno-srecanje:21944
ATTENDEE:5. LETNIK (EMŠ M)
CATEGORIES:Entry,Standard
COLOR:darkgreen
DESCRIPTION:Predmet: Sodna medicina (SODMED)\, Predavanje (P)\, [M5-11\, M
 5-12\, M5-13\, M5-14\, M5-15]\nLetniki: 5. LETNIK (EMŠ M)\nIzvajalci: Kat
 edra za sodno medicino in deo KSMD\nProstor: Pred - Mala - MF
LOCATION:Korytkova 2\, Pred - Mala - MF
ORGANIZER:Katedra za sodno medicino in deo KSMD
RELATED-TO:mf-AFLABS-URNIK:srecanje:3620
X-WR-TIMEZONE:Europe/Ljubljana
END:VEVENT
BEGIN:VEVENT
SUMMARY:Sodna medicina (SODMED)\, Predavanje (P)\, [M5-11\, M5-12\, M5-13\
 , M5-14\, M5-15]
DTSTART;TZID=Europe/Ljubljana:20241002T140000
DTEND;TZID=Europe/Ljubljana:20241002T160000
DTSTAMP:20260420T053035Z
UID:mf-AFLABS-URNIK:premaknjeno-srecanje:21945
ATTENDEE:5. LETNIK (EMŠ M)
CATEGORIES:Entry,Standard
COLOR:darkgreen
DESCRIPTION:Predmet: Sodna medicina (SODMED)\, Predavanje (P)\, [M5-11\, M
 5-12\, M5-13\, M5-14\, M5-15]\nLetniki: 5. LETNIK (EMŠ M)\nIzvajalci: Kat
 edra za sodno medicino in deo KSMD\nProstor: Pred - Lesena - MF
LOCATION:Zaloška 4\, Pred - Lesena - MF
ORGANIZER:Katedra za sodno medicino in deo KSMD
RELATED-TO:mf-AFLABS-URNIK:srecanje:4328
X-WR-TIMEZONE:Europe/Ljubljana
END:VEVENT
BEGIN:VEVENT
SUMMARY:Sodna medicina (SODMED)\, Predavanje (P)\, [M5-11\, M5-12\, M5-13\
 , M5-14\, M5-15]
DTSTART;TZID=Europe/Ljubljana:20241003T080000
DTEND;TZID=Europe/Ljubljana:20241003T160000
DTSTAMP:20260420T053035Z
UID:mf-AFLABS-URNIK:premaknjeno-srecanje:20585
ATTENDEE:5. LETNIK (EMŠ M)
CATEGORIES:Entry,Special
COLOR:forestgreen
DESCRIPTION:Predmet: Sodna medicina (SODMED)\, Predavanje (P)\, [M5-11\, M
 5-12\, M5-13\, M5-14\, M5-15]\nLetniki: 5. LETNIK (EMŠ M)\nIzvajalci: Kat
 edra za sodno medicino in deo KSMD\nProstor: Pred - 3 - UKC
LOCATION:Zaloška 7\, Pred - 3 - UKC
ORGANIZER:Katedra za sodno medicino in deo KSMD
RELATED-TO:mf-AFLABS-URNIK:srecanje:3621
X-WR-TIMEZONE:Europe/Ljubljana
END:VEVENT
BEGIN:VEVENT
SUMMARY:Sodna medicina (SODMED)\, Predavanje (P)\, [M5-11\, M5-12\, M5-13\
 , M5-14\, M5-15]
DTSTART;TZID=Europe/Ljubljana:20241004T080000
DTEND;TZID=Europe/Ljubljana:20241004T160000
DTSTAMP:20260420T053035Z
UID:mf-AFLABS-URNIK:premaknjeno-srecanje:20586
ATTENDEE:5. LETNIK (EMŠ M)
CATEGORIES:Entry,Special
COLOR:forestgreen
DESCRIPTION:Predmet: Sodna medicina (SODMED)\, Predavanje (P)\, [M5-11\, M
 5-12\, M5-13\, M5-14\, M5-15]\nLetniki: 5. LETNIK (EMŠ M)\nIzvajalci: Kat
 edra za sodno medicino in deo KSMD\nProstor: Pred - 3 - UKC
LOCATION:Zaloška 7\, Pred - 3 - UKC
ORGANIZER:Katedra za sodno medicino in deo KSMD
RELATED-TO:mf-AFLABS-URNIK:srecanje:3622
X-WR-TIMEZONE:Europe/Ljubljana
END:VEVENT
BEGIN:VEVENT
SUMMARY:Sodna medicina (SODMED)\, Vaje (V)\, [M5-11\, M5-12\, M5-13\, M5-1
 4\, M5-15]
DTSTART;TZID=Europe/Ljubljana:20241007T080000
DTEND;TZID=Europe/Ljubljana:20241007T160000
DTSTAMP:20260420T053035Z
UID:mf-AFLABS-URNIK:premaknjeno-srecanje:20587
ATTENDEE:5. LETNIK (EMŠ M)
CATEGORIES:Entry,Special
COLOR:forestgreen
DESCRIPTION:Predmet: Sodna medicina (SODMED)\, Vaje (V)\, [M5-11\, M5-12\,
  M5-13\, M5-14\, M5-15]\nLetniki: 5. LETNIK (EMŠ M)\nIzvajalci: Katedra z
 a sodno medicino in deo KSMD\nProstor: Drugje
LOCATION:Drugje
ORGANIZER:Katedra za sodno medicino in deo KSMD
RELATED-TO:mf-AFLABS-URNIK:srecanje:3623
X-WR-TIMEZONE:Europe/Ljubljana
END:VEVENT
BEGIN:VEVENT
SUMMARY:Sodna medicina (SODMED)\, Vaje (V)\, [M5-11\, M5-12\, M5-13\, M5-1
 4\, M5-15]
DTSTART;TZID=Europe/Ljubljana:20241014T080000
DTEND;TZID=Europe/Ljubljana:20241014T160000
DTSTAMP:20260420T053035Z
UID:mf-AFLABS-URNIK:premaknjeno-srecanje:20592
ATTENDEE:5. LETNIK (EMŠ M)
CATEGORIES:Entry,Special
COLOR:forestgreen
DESCRIPTION:Predmet: Sodna medicina (SODMED)\, Vaje (V)\, [M5-11\, M5-12\,
  M5-13\, M5-14\, M5-15]\nLetniki: 5. LETNIK (EMŠ M)\nIzvajalci: Katedra z
 a sodno medicino in deo KSMD\nProstor: Drugje
LOCATION:Drugje
ORGANIZER:Katedra za sodno medicino in deo KSMD
RELATED-TO:mf-AFLABS-URNIK:srecanje:3623
X-WR-TIMEZONE:Europe/Ljubljana
END:VEVENT
BEGIN:VEVENT
SUMMARY:Sodna medicina (SODMED)\, Vaje (V)\, [M5-11\, M5-12\, M5-13\, M5-1
 4\, M5-15]
DTSTART;TZID=Europe/Ljubljana:20241008T080000
DTEND;TZID=Europe/Ljubljana:20241008T160000
DTSTAMP:20260420T053035Z
UID:mf-AFLABS-URNIK:premaknjeno-srecanje:20588
ATTENDEE:5. LETNIK (EMŠ M)
CATEGORIES:Entry,Special
COLOR:forestgreen
DESCRIPTION:Predmet: Sodna medicina (SODMED)\, Vaje (V)\, [M5-11\, M5-12\,
  M5-13\, M5-14\, M5-15]\nLetniki: 5. LETNIK (EMŠ M)\nIzvajalci: Katedra z
 a sodno medicino in deo KSMD\nProstor: Drugje
LOCATION:Drugje
ORGANIZER:Katedra za sodno medicino in deo KSMD
RELATED-TO:mf-AFLABS-URNIK:srecanje:3624
X-WR-TIMEZONE:Europe/Ljubljana
END:VEVENT
BEGIN:VEVENT
SUMMARY:Sodna medicina (SODMED)\, Vaje (V)\, [M5-11\, M5-12\, M5-13\, M5-1
 4\, M5-15]
DTSTART;TZID=Europe/Ljubljana:20241015T080000
DTEND;TZID=Europe/Ljubljana:20241015T160000
DTSTAMP:20260420T053035Z
UID:mf-AFLABS-URNIK:premaknjeno-srecanje:20593
ATTENDEE:5. LETNIK (EMŠ M)
CATEGORIES:Entry,Special
COLOR:forestgreen
DESCRIPTION:Predmet: Sodna medicina (SODMED)\, Vaje (V)\, [M5-11\, M5-12\,
  M5-13\, M5-14\, M5-15]\nLetniki: 5. LETNIK (EMŠ M)\nIzvajalci: Katedra z
 a sodno medicino in deo KSMD\nProstor: Drugje
LOCATION:Drugje
ORGANIZER:Katedra za sodno medicino in deo KSMD
RELATED-TO:mf-AFLABS-URNIK:srecanje:3624
X-WR-TIMEZONE:Europe/Ljubljana
END:VEVENT
BEGIN:VEVENT
SUMMARY:Sodna medicina (SODMED)\, Vaje (V)\, [M5-11\, M5-12\, M5-13\, M5-1
 4\, M5-15]
DTSTART;TZID=Europe/Ljubljana:20241009T080000
DTEND;TZID=Europe/Ljubljana:20241009T160000
DTSTAMP:20260420T053035Z
UID:mf-AFLABS-URNIK:premaknjeno-srecanje:20589
ATTENDEE:5. LETNIK (EMŠ M)
CATEGORIES:Entry,Special
COLOR:forestgreen
DESCRIPTION:Predmet: Sodna medicina (SODMED)\, Vaje (V)\, [M5-11\, M5-12\,
  M5-13\, M5-14\, M5-15]\nLetniki: 5. LETNIK (EMŠ M)\nIzvajalci: Katedra z
 a sodno medicino in deo KSMD\nProstor: Drugje
LOCATION:Drugje
ORGANIZER:Katedra za sodno medicino in deo KSMD
RELATED-TO:mf-AFLABS-URNIK:srecanje:3625
X-WR-TIMEZONE:Europe/Ljubljana
END:VEVENT
BEGIN:VEVENT
SUMMARY:Sodna medicina (SODMED)\, Vaje (V)\, [M5-11\, M5-12\, M5-13\, M5-1
 4\, M5-15]
DTSTART;TZID=Europe/Ljubljana:20241016T080000
DTEND;TZID=Europe/Ljubljana:20241016T160000
DTSTAMP:20260420T053035Z
UID:mf-AFLABS-URNIK:premaknjeno-srecanje:20594
ATTENDEE:5. LETNIK (EMŠ M)
CATEGORIES:Entry,Special
COLOR:forestgreen
DESCRIPTION:Predmet: Sodna medicina (SODMED)\, Vaje (V)\, [M5-11\, M5-12\,
  M5-13\, M5-14\, M5-15]\nLetniki: 5. LETNIK (EMŠ M)\nIzvajalci: Katedra z
 a sodno medicino in deo KSMD\nProstor: Drugje
LOCATION:Drugje
ORGANIZER:Katedra za sodno medicino in deo KSMD
RELATED-TO:mf-AFLABS-URNIK:srecanje:3625
X-WR-TIMEZONE:Europe/Ljubljana
END:VEVENT
BEGIN:VEVENT
SUMMARY:Sodna medicina (SODMED)\, Vaje (V)\, [M5-11\, M5-12\, M5-13\, M5-1
 4\, M5-15]
DTSTART;TZID=Europe/Ljubljana:20241010T080000
DTEND;TZID=Europe/Ljubljana:20241010T160000
DTSTAMP:20260420T053035Z
UID:mf-AFLABS-URNIK:premaknjeno-srecanje:20590
ATTENDEE:5. LETNIK (EMŠ M)
CATEGORIES:Entry,Special
COLOR:forestgreen
DESCRIPTION:Predmet: Sodna medicina (SODMED)\, Vaje (V)\, [M5-11\, M5-12\,
  M5-13\, M5-14\, M5-15]\nLetniki: 5. LETNIK (EMŠ M)\nIzvajalci: Katedra z
 a sodno medicino in deo KSMD\nProstor: Drugje
LOCATION:Drugje
ORGANIZER:Katedra za sodno medicino in deo KSMD
RELATED-TO:mf-AFLABS-URNIK:srecanje:3626
X-WR-TIMEZONE:Europe/Ljubljana
END:VEVENT
BEGIN:VEVENT
SUMMARY:Sodna medicina (SODMED)\, Vaje (V)\, [M5-11\, M5-12\, M5-13\, M5-1
 4\, M5-15]
DTSTART;TZID=Europe/Ljubljana:20241017T080000
DTEND;TZID=Europe/Ljubljana:20241017T160000
DTSTAMP:20260420T053035Z
UID:mf-AFLABS-URNIK:premaknjeno-srecanje:20595
ATTENDEE:5. LETNIK (EMŠ M)
CATEGORIES:Entry,Special
COLOR:forestgreen
DESCRIPTION:Predmet: Sodna medicina (SODMED)\, Vaje (V)\, [M5-11\, M5-12\,
  M5-13\, M5-14\, M5-15]\nLetniki: 5. LETNIK (EMŠ M)\nIzvajalci: Katedra z
 a sodno medicino in deo KSMD\nProstor: Drugje
LOCATION:Drugje
ORGANIZER:Katedra za sodno medicino in deo KSMD
RELATED-TO:mf-AFLABS-URNIK:srecanje:3626
X-WR-TIMEZONE:Europe/Ljubljana
END:VEVENT
BEGIN:VEVENT
SUMMARY:Sodna medicina (SODMED)\, Vaje (V)\, [M5-11\, M5-12\, M5-13\, M5-1
 4\, M5-15]
DTSTART;TZID=Europe/Ljubljana:20241011T080000
DTEND;TZID=Europe/Ljubljana:20241011T160000
DTSTAMP:20260420T053035Z
UID:mf-AFLABS-URNIK:premaknjeno-srecanje:20591
ATTENDEE:5. LETNIK (EMŠ M)
CATEGORIES:Entry,Special
COLOR:forestgreen
DESCRIPTION:Predmet: Sodna medicina (SODMED)\, Vaje (V)\, [M5-11\, M5-12\,
  M5-13\, M5-14\, M5-15]\nLetniki: 5. LETNIK (EMŠ M)\nIzvajalci: Katedra z
 a sodno medicino in deo KSMD\nProstor: Drugje
LOCATION:Drugje
ORGANIZER:Katedra za sodno medicino in deo KSMD
RELATED-TO:mf-AFLABS-URNIK:srecanje:3627
X-WR-TIMEZONE:Europe/Ljubljana
END:VEVENT
END:VCALENDAR
