BEGIN:VCALENDAR
VERSION:2.0
PRODID:-//AFLabs urnik izvoz - mf//aflabs.si//SI
DTSTAMP:20260420T075200Z
NAME:UL MF urnik
REFRESH-INTERVAL:PT1H
SOURCE:https://afurnik-mf.dev.aflabs.org/teacher/33?day=2026-10-05&export=
 1
URL:https://afurnik-mf.dev.aflabs.org/teacher/33?day=2026-10-05&export=1
X-PUBLISHED-TTL:PT1H
X-WR-CALNAME:UL MF urnik
X-WR-TIMEZONE:Europe/Ljubljana
BEGIN:VTIMEZONE
TZID:Europe/Ljubljana
BEGIN:DAYLIGHT
DTSTART:20260329T020000
RDATE:20260329T020000
RDATE:20270328T020000
TZNAME:CEST
TZOFFSETFROM:+0100
TZOFFSETTO:+0200
END:DAYLIGHT
BEGIN:STANDARD
DTSTART:20261025T030000
RDATE:20261025T030000
RDATE:20271031T030000
TZNAME:CET
TZOFFSETFROM:+0200
TZOFFSETTO:+0100
END:STANDARD
END:VTIMEZONE
BEGIN:VEVENT
SUMMARY:IZPIT:Medicinska etika in profesionalizem
DTSTART;TZID=Europe/Ljubljana:20260911T080000
DTEND;TZID=Europe/Ljubljana:20260911T100000
DTSTAMP:20260420T075200Z
UID:mf-AFLABS-URNIK:rezervacija:8836
ATTENDEE:1. LETNIK (EMŠ M)
CATEGORIES:Reservation
COLOR:royalblue
DESCRIPTION:Predmeti: UKM1-Medicinska etika in profesionalizem (UKM1-MEP)\
 nLetniki: 1. LETNIK (EMŠ M)\nIzvajalci: Katedra za sodno medicino in deo 
 KSMD\nProstori: Pred - Velika - MF\, Pred - Srednja - MF\, Pred - Mala - M
 F
LOCATION:Korytkova 2\, Pred - Velika - MF\, Korytkova 2\, Pred - Srednja -
  MF\, Korytkova 2\, Pred - Mala - MF
ORGANIZER:Katedra za sodno medicino in deo KSMD
X-WR-TIMEZONE:Europe/Ljubljana
END:VEVENT
BEGIN:VEVENT
SUMMARY:IZPIT:Medicinska etika in profesionalizem
DTSTART;TZID=Europe/Ljubljana:20260911T080000
DTEND;TZID=Europe/Ljubljana:20260911T100000
DTSTAMP:20260420T075200Z
UID:mf-AFLABS-URNIK:rezervacija:8904
ATTENDEE:1. LETNIK (EMŠ DM)
CATEGORIES:Reservation
COLOR:royalblue
DESCRIPTION:Predmeti: UKDM1-Medicinska etika in profesionalizem (UKDM1-MEP
 )\nLetniki: 1. LETNIK (EMŠ DM)\nIzvajalci: Katedra za sodno medicino in d
 eo KSMD\nProstori: Pred - Velika - MF\, Pred - Srednja - MF\, Pred - Mala 
 - MF
LOCATION:Korytkova 2\, Pred - Velika - MF\, Korytkova 2\, Pred - Srednja -
  MF\, Korytkova 2\, Pred - Mala - MF
ORGANIZER:Katedra za sodno medicino in deo KSMD
X-WR-TIMEZONE:Europe/Ljubljana
END:VEVENT
END:VCALENDAR
