BEGIN:VCALENDAR
VERSION:2.0
PRODID:-//AFLabs urnik izvoz - mf//aflabs.si//SI
DTSTAMP:20260420T081140Z
NAME:UL MF urnik
REFRESH-INTERVAL:PT1H
SOURCE:https://afurnik-mf.dev.aflabs.org/teacher/34?day=2023-09-11&export=
 1
URL:https://afurnik-mf.dev.aflabs.org/teacher/34?day=2023-09-11&export=1
X-PUBLISHED-TTL:PT1H
X-WR-CALNAME:UL MF urnik
X-WR-TIMEZONE:Europe/Ljubljana
BEGIN:VTIMEZONE
TZID:Europe/Ljubljana
BEGIN:DAYLIGHT
DTSTART:20260329T020000
RDATE:20260329T020000
RDATE:20270328T020000
TZNAME:CEST
TZOFFSETFROM:+0100
TZOFFSETTO:+0200
END:DAYLIGHT
BEGIN:STANDARD
DTSTART:20261025T030000
RDATE:20261025T030000
RDATE:20271031T030000
TZNAME:CET
TZOFFSETFROM:+0200
TZOFFSETTO:+0100
END:STANDARD
END:VTIMEZONE
BEGIN:VEVENT
SUMMARY:Fiksna protetika 2 (FIKSNA2)\, klinične vaje (kv)\, [D5-01\, D5-0
 2\, D5-03]
DTSTART;TZID=Europe/Ljubljana:20231002T073000
DTEND;TZID=Europe/Ljubljana:20231002T150000
DTSTAMP:20260420T081140Z
UID:mf-AFLABS-URNIK:premaknjeno-srecanje:7904
ATTENDEE:5. LETNIK (EMŠ DM)
CATEGORIES:Entry,Standard
COLOR:darkgreen
DESCRIPTION:Predmet: Fiksna protetika 2 (FIKSNA2)\, klinične vaje (kv)\, 
 [D5-01\, D5-02\, D5-03]\nLetniki: 5. LETNIK (EMŠ DM)\nIzvajalci: Katedra 
 za stomatološko protetik KSP\nProstor: Vaj - KSP - 61 - Stoma - UKC
LOCATION:Hrvatski trg 6\, Vaj - KSP - 61 - Stoma - UKC
ORGANIZER:Katedra za stomatološko protetik KSP
RELATED-TO:mf-AFLABS-URNIK:srecanje:1611
X-WR-TIMEZONE:Europe/Ljubljana
END:VEVENT
BEGIN:VEVENT
SUMMARY:Fiksna protetika 2 (FIKSNA2)\, klinične vaje (kv)\, [D5-01\, D5-0
 2\, D5-03]
DTSTART;TZID=Europe/Ljubljana:20231009T073000
DTEND;TZID=Europe/Ljubljana:20231009T150000
DTSTAMP:20260420T081140Z
UID:mf-AFLABS-URNIK:premaknjeno-srecanje:7905
ATTENDEE:5. LETNIK (EMŠ DM)
CATEGORIES:Entry,Standard
COLOR:darkgreen
DESCRIPTION:Predmet: Fiksna protetika 2 (FIKSNA2)\, klinične vaje (kv)\, 
 [D5-01\, D5-02\, D5-03]\nLetniki: 5. LETNIK (EMŠ DM)\nIzvajalci: Katedra 
 za stomatološko protetik KSP\nProstor: Vaj - KSP - 61 - Stoma - UKC
LOCATION:Hrvatski trg 6\, Vaj - KSP - 61 - Stoma - UKC
ORGANIZER:Katedra za stomatološko protetik KSP
RELATED-TO:mf-AFLABS-URNIK:srecanje:1611
X-WR-TIMEZONE:Europe/Ljubljana
END:VEVENT
BEGIN:VEVENT
SUMMARY:Fiksna protetika 2 (FIKSNA2)\, klinične vaje (kv)\, [D5-01\, D5-0
 2\, D5-03]
DTSTART;TZID=Europe/Ljubljana:20231016T073000
DTEND;TZID=Europe/Ljubljana:20231016T150000
DTSTAMP:20260420T081140Z
UID:mf-AFLABS-URNIK:premaknjeno-srecanje:7906
ATTENDEE:5. LETNIK (EMŠ DM)
CATEGORIES:Entry,Standard
COLOR:darkgreen
DESCRIPTION:Predmet: Fiksna protetika 2 (FIKSNA2)\, klinične vaje (kv)\, 
 [D5-01\, D5-02\, D5-03]\nLetniki: 5. LETNIK (EMŠ DM)\nIzvajalci: Katedra 
 za stomatološko protetik KSP\nProstor: Vaj - KSP - 61 - Stoma - UKC
LOCATION:Hrvatski trg 6\, Vaj - KSP - 61 - Stoma - UKC
ORGANIZER:Katedra za stomatološko protetik KSP
RELATED-TO:mf-AFLABS-URNIK:srecanje:1611
X-WR-TIMEZONE:Europe/Ljubljana
END:VEVENT
BEGIN:VEVENT
SUMMARY:Snemna protetika 2 (SNEMNA2)\, Seminar (S)\, [D5-04\, D5-05\, D5-0
 6]
DTSTART;TZID=Europe/Ljubljana:20231002T073000
DTEND;TZID=Europe/Ljubljana:20231002T150000
DTSTAMP:20260420T081140Z
UID:mf-AFLABS-URNIK:premaknjeno-srecanje:8180
ATTENDEE:5. LETNIK (EMŠ DM)
CATEGORIES:Entry,Standard
COLOR:darkgreen
DESCRIPTION:Predmet: Snemna protetika 2 (SNEMNA2)\, Seminar (S)\, [D5-04\,
  D5-05\, D5-06]\nLetniki: 5. LETNIK (EMŠ DM)\nIzvajalci: Katedra za stoma
 tološko protetik KSP\nProstor: Vaj - KSP - 63 - Stoma - UKC
LOCATION:Hrvatski trg 6\, Vaj - KSP - 63 - Stoma - UKC
ORGANIZER:Katedra za stomatološko protetik KSP
RELATED-TO:mf-AFLABS-URNIK:srecanje:1640
X-WR-TIMEZONE:Europe/Ljubljana
END:VEVENT
BEGIN:VEVENT
SUMMARY:Snemna protetika 2 (SNEMNA2)\, Seminar (S)\, [D5-04\, D5-05\, D5-0
 6]
DTSTART;TZID=Europe/Ljubljana:20231009T073000
DTEND;TZID=Europe/Ljubljana:20231009T150000
DTSTAMP:20260420T081140Z
UID:mf-AFLABS-URNIK:premaknjeno-srecanje:8181
ATTENDEE:5. LETNIK (EMŠ DM)
CATEGORIES:Entry,Standard
COLOR:darkgreen
DESCRIPTION:Predmet: Snemna protetika 2 (SNEMNA2)\, Seminar (S)\, [D5-04\,
  D5-05\, D5-06]\nLetniki: 5. LETNIK (EMŠ DM)\nIzvajalci: Katedra za stoma
 tološko protetik KSP\nProstor: Vaj - KSP - 63 - Stoma - UKC
LOCATION:Hrvatski trg 6\, Vaj - KSP - 63 - Stoma - UKC
ORGANIZER:Katedra za stomatološko protetik KSP
RELATED-TO:mf-AFLABS-URNIK:srecanje:1640
X-WR-TIMEZONE:Europe/Ljubljana
END:VEVENT
BEGIN:VEVENT
SUMMARY:Snemna protetika 2 (SNEMNA2)\, Seminar (S)\, [D5-04\, D5-05\, D5-0
 6]
DTSTART;TZID=Europe/Ljubljana:20231016T073000
DTEND;TZID=Europe/Ljubljana:20231016T150000
DTSTAMP:20260420T081140Z
UID:mf-AFLABS-URNIK:premaknjeno-srecanje:8182
ATTENDEE:5. LETNIK (EMŠ DM)
CATEGORIES:Entry,Standard
COLOR:darkgreen
DESCRIPTION:Predmet: Snemna protetika 2 (SNEMNA2)\, Seminar (S)\, [D5-04\,
  D5-05\, D5-06]\nLetniki: 5. LETNIK (EMŠ DM)\nIzvajalci: Katedra za stoma
 tološko protetik KSP\nProstor: Vaj - KSP - 63 - Stoma - UKC
LOCATION:Hrvatski trg 6\, Vaj - KSP - 63 - Stoma - UKC
ORGANIZER:Katedra za stomatološko protetik KSP
RELATED-TO:mf-AFLABS-URNIK:srecanje:1640
X-WR-TIMEZONE:Europe/Ljubljana
END:VEVENT
BEGIN:VEVENT
SUMMARY:Snemna protetika 3 (SNEMNA3)\, Predavanje (P)\, [D6-01\, D6-02\, D
 6-03\, D6-04\, D6-05\, D6-06]
DTSTART;TZID=Europe/Ljubljana:20231002T140000
DTEND;TZID=Europe/Ljubljana:20231002T150000
DTSTAMP:20260420T081140Z
UID:mf-AFLABS-URNIK:premaknjeno-srecanje:9357
ATTENDEE:6. LETNIK (EMŠ DM)
CATEGORIES:Entry,Standard
COLOR:darkgreen
DESCRIPTION:Predmet: Snemna protetika 3 (SNEMNA3)\, Predavanje (P)\, [D6-0
 1\, D6-02\, D6-03\, D6-04\, D6-05\, D6-06]\nLetniki: 6. LETNIK (EMŠ DM)\n
 Izvajalci: Katedra za stomatološko protetik KSP\nProstor: Pred - Stoma
LOCATION:Hrvatski trg 6\, Pred - Stoma
ORGANIZER:Katedra za stomatološko protetik KSP
RELATED-TO:mf-AFLABS-URNIK:srecanje:1791
X-WR-TIMEZONE:Europe/Ljubljana
END:VEVENT
BEGIN:VEVENT
SUMMARY:Snemna protetika 3 (SNEMNA3)\, Predavanje (P)\, [D6-01\, D6-02\, D
 6-03\, D6-04\, D6-05\, D6-06]
DTSTART;TZID=Europe/Ljubljana:20231009T140000
DTEND;TZID=Europe/Ljubljana:20231009T150000
DTSTAMP:20260420T081140Z
UID:mf-AFLABS-URNIK:premaknjeno-srecanje:9358
ATTENDEE:6. LETNIK (EMŠ DM)
CATEGORIES:Entry,Standard
COLOR:darkgreen
DESCRIPTION:Predmet: Snemna protetika 3 (SNEMNA3)\, Predavanje (P)\, [D6-0
 1\, D6-02\, D6-03\, D6-04\, D6-05\, D6-06]\nLetniki: 6. LETNIK (EMŠ DM)\n
 Izvajalci: Katedra za stomatološko protetik KSP\nProstor: Pred - Stoma
LOCATION:Hrvatski trg 6\, Pred - Stoma
ORGANIZER:Katedra za stomatološko protetik KSP
RELATED-TO:mf-AFLABS-URNIK:srecanje:1791
X-WR-TIMEZONE:Europe/Ljubljana
END:VEVENT
BEGIN:VEVENT
SUMMARY:Snemna protetika 3 (SNEMNA3)\, Predavanje (P)\, [D6-01\, D6-02\, D
 6-03\, D6-04\, D6-05\, D6-06]
DTSTART;TZID=Europe/Ljubljana:20231016T140000
DTEND;TZID=Europe/Ljubljana:20231016T150000
DTSTAMP:20260420T081140Z
UID:mf-AFLABS-URNIK:premaknjeno-srecanje:9359
ATTENDEE:6. LETNIK (EMŠ DM)
CATEGORIES:Entry,Standard
COLOR:darkgreen
DESCRIPTION:Predmet: Snemna protetika 3 (SNEMNA3)\, Predavanje (P)\, [D6-0
 1\, D6-02\, D6-03\, D6-04\, D6-05\, D6-06]\nLetniki: 6. LETNIK (EMŠ DM)\n
 Izvajalci: Katedra za stomatološko protetik KSP\nProstor: Pred - Stoma
LOCATION:Hrvatski trg 6\, Pred - Stoma
ORGANIZER:Katedra za stomatološko protetik KSP
RELATED-TO:mf-AFLABS-URNIK:srecanje:1791
X-WR-TIMEZONE:Europe/Ljubljana
END:VEVENT
BEGIN:VEVENT
SUMMARY:Fiksna protetika 3 (FIKSNA3)\, Predavanje (P)\, [D6-01\, D6-02\, D
 6-03\, D6-04\, D6-05\, D6-06]
DTSTART;TZID=Europe/Ljubljana:20231002T120000
DTEND;TZID=Europe/Ljubljana:20231002T130000
DTSTAMP:20260420T081140Z
UID:mf-AFLABS-URNIK:premaknjeno-srecanje:9404
ATTENDEE:6. LETNIK (EMŠ DM)
CATEGORIES:Entry,Standard
COLOR:darkgreen
DESCRIPTION:Predmet: Fiksna protetika 3 (FIKSNA3)\, Predavanje (P)\, [D6-0
 1\, D6-02\, D6-03\, D6-04\, D6-05\, D6-06]\nLetniki: 6. LETNIK (EMŠ DM)\n
 Izvajalci: Katedra za stomatološko protetik KSP\nProstor: Pred - Stoma
LOCATION:Hrvatski trg 6\, Pred - Stoma
ORGANIZER:Katedra za stomatološko protetik KSP
RELATED-TO:mf-AFLABS-URNIK:srecanje:1796
X-WR-TIMEZONE:Europe/Ljubljana
END:VEVENT
BEGIN:VEVENT
SUMMARY:Fiksna protetika 3 (FIKSNA3)\, Predavanje (P)\, [D6-01\, D6-02\, D
 6-03\, D6-04\, D6-05\, D6-06]
DTSTART;TZID=Europe/Ljubljana:20231009T120000
DTEND;TZID=Europe/Ljubljana:20231009T130000
DTSTAMP:20260420T081140Z
UID:mf-AFLABS-URNIK:premaknjeno-srecanje:9405
ATTENDEE:6. LETNIK (EMŠ DM)
CATEGORIES:Entry,Standard
COLOR:darkgreen
DESCRIPTION:Predmet: Fiksna protetika 3 (FIKSNA3)\, Predavanje (P)\, [D6-0
 1\, D6-02\, D6-03\, D6-04\, D6-05\, D6-06]\nLetniki: 6. LETNIK (EMŠ DM)\n
 Izvajalci: Katedra za stomatološko protetik KSP\nProstor: Pred - Stoma
LOCATION:Hrvatski trg 6\, Pred - Stoma
ORGANIZER:Katedra za stomatološko protetik KSP
RELATED-TO:mf-AFLABS-URNIK:srecanje:1796
X-WR-TIMEZONE:Europe/Ljubljana
END:VEVENT
BEGIN:VEVENT
SUMMARY:Fiksna protetika 3 (FIKSNA3)\, Predavanje (P)\, [D6-01\, D6-02\, D
 6-03\, D6-04\, D6-05\, D6-06]
DTSTART;TZID=Europe/Ljubljana:20231016T120000
DTEND;TZID=Europe/Ljubljana:20231016T130000
DTSTAMP:20260420T081140Z
UID:mf-AFLABS-URNIK:premaknjeno-srecanje:9406
ATTENDEE:6. LETNIK (EMŠ DM)
CATEGORIES:Entry,Standard
COLOR:darkgreen
DESCRIPTION:Predmet: Fiksna protetika 3 (FIKSNA3)\, Predavanje (P)\, [D6-0
 1\, D6-02\, D6-03\, D6-04\, D6-05\, D6-06]\nLetniki: 6. LETNIK (EMŠ DM)\n
 Izvajalci: Katedra za stomatološko protetik KSP\nProstor: Pred - Stoma
LOCATION:Hrvatski trg 6\, Pred - Stoma
ORGANIZER:Katedra za stomatološko protetik KSP
RELATED-TO:mf-AFLABS-URNIK:srecanje:1796
X-WR-TIMEZONE:Europe/Ljubljana
END:VEVENT
BEGIN:VEVENT
SUMMARY:Fiksna protetika 3 (FIKSNA3)\, klinične vaje (kv)\, [D6-01\, D6-0
 2\, D6-03]
DTSTART;TZID=Europe/Ljubljana:20231003T073000
DTEND;TZID=Europe/Ljubljana:20231003T150000
DTSTAMP:20260420T081140Z
UID:mf-AFLABS-URNIK:premaknjeno-srecanje:9419
ATTENDEE:6. LETNIK (EMŠ DM)
CATEGORIES:Entry,Standard
COLOR:darkgreen
DESCRIPTION:Predmet: Fiksna protetika 3 (FIKSNA3)\, klinične vaje (kv)\, 
 [D6-01\, D6-02\, D6-03]\nLetniki: 6. LETNIK (EMŠ DM)\nIzvajalci: Katedra 
 za stomatološko protetik KSP\nProstor: Vaj - KSP - 61 - Stoma - UKC
LOCATION:Hrvatski trg 6\, Vaj - KSP - 61 - Stoma - UKC
ORGANIZER:Katedra za stomatološko protetik KSP
RELATED-TO:mf-AFLABS-URNIK:srecanje:1797
X-WR-TIMEZONE:Europe/Ljubljana
END:VEVENT
BEGIN:VEVENT
SUMMARY:Fiksna protetika 3 (FIKSNA3)\, klinične vaje (kv)\, [D6-01\, D6-0
 2\, D6-03]
DTSTART;TZID=Europe/Ljubljana:20231010T073000
DTEND;TZID=Europe/Ljubljana:20231010T150000
DTSTAMP:20260420T081140Z
UID:mf-AFLABS-URNIK:premaknjeno-srecanje:9420
ATTENDEE:6. LETNIK (EMŠ DM)
CATEGORIES:Entry,Standard
COLOR:darkgreen
DESCRIPTION:Predmet: Fiksna protetika 3 (FIKSNA3)\, klinične vaje (kv)\, 
 [D6-01\, D6-02\, D6-03]\nLetniki: 6. LETNIK (EMŠ DM)\nIzvajalci: Katedra 
 za stomatološko protetik KSP\nProstor: Vaj - KSP - 61 - Stoma - UKC
LOCATION:Hrvatski trg 6\, Vaj - KSP - 61 - Stoma - UKC
ORGANIZER:Katedra za stomatološko protetik KSP
RELATED-TO:mf-AFLABS-URNIK:srecanje:1797
X-WR-TIMEZONE:Europe/Ljubljana
END:VEVENT
BEGIN:VEVENT
SUMMARY:Stomatološka propedevtika (STPRO)\, Predavanje (P)\, [D4-01\, D4-
 02\, D4-03\, D4-04\, D4-05\, D4-06]
DTSTART;TZID=Europe/Ljubljana:20231004T080000
DTEND;TZID=Europe/Ljubljana:20231004T100000
DTSTAMP:20260420T081140Z
UID:mf-AFLABS-URNIK:premaknjeno-srecanje:7063
ATTENDEE:4. LETNIK (EMŠ DM)
CATEGORIES:Entry,Standard
COLOR:darkgreen
DESCRIPTION:Predmet: Stomatološka propedevtika (STPRO)\, Predavanje (P)\,
  [D4-01\, D4-02\, D4-03\, D4-04\, D4-05\, D4-06]\nLetniki: 4. LETNIK (EMŠ
  DM)\nIzvajalci: Katedra za čeljustno in zobno or KČZO\, Katedra za otro
 ško in preventivn KOPZ\, Katedra za stomatološko protetik KSP\, Katedra 
 za ustne bolezni in paro KUBP\, Katedra za zobne bolezni in norm KZBNMZO\n
 Prostor: Pred - Stoma
LOCATION:Hrvatski trg 6\, Pred - Stoma
ORGANIZER:Katedra za čeljustno in zobno or KČZO, Katedra za otroško in 
 preventivn KOPZ, Katedra za stomatološko protetik KSP, Katedra za ustne b
 olezni in paro KUBP, Katedra za zobne bolezni in norm KZBNMZO
RELATED-TO:mf-AFLABS-URNIK:srecanje:1318
X-WR-TIMEZONE:Europe/Ljubljana
END:VEVENT
BEGIN:VEVENT
SUMMARY:Stomatološka propedevtika (STPRO)\, Predavanje (P)\, [D4-01\, D4-
 02\, D4-03\, D4-04\, D4-05\, D4-06]
DTSTART;TZID=Europe/Ljubljana:20231011T080000
DTEND;TZID=Europe/Ljubljana:20231011T100000
DTSTAMP:20260420T081140Z
UID:mf-AFLABS-URNIK:premaknjeno-srecanje:7064
ATTENDEE:4. LETNIK (EMŠ DM)
CATEGORIES:Entry,Standard
COLOR:darkgreen
DESCRIPTION:Predmet: Stomatološka propedevtika (STPRO)\, Predavanje (P)\,
  [D4-01\, D4-02\, D4-03\, D4-04\, D4-05\, D4-06]\nLetniki: 4. LETNIK (EMŠ
  DM)\nIzvajalci: Katedra za čeljustno in zobno or KČZO\, Katedra za otro
 ško in preventivn KOPZ\, Katedra za stomatološko protetik KSP\, Katedra 
 za ustne bolezni in paro KUBP\, Katedra za zobne bolezni in norm KZBNMZO\n
 Prostor: Pred - Stoma
LOCATION:Hrvatski trg 6\, Pred - Stoma
ORGANIZER:Katedra za čeljustno in zobno or KČZO, Katedra za otroško in 
 preventivn KOPZ, Katedra za stomatološko protetik KSP, Katedra za ustne b
 olezni in paro KUBP, Katedra za zobne bolezni in norm KZBNMZO
RELATED-TO:mf-AFLABS-URNIK:srecanje:1318
X-WR-TIMEZONE:Europe/Ljubljana
END:VEVENT
BEGIN:VEVENT
SUMMARY:Stomatološka propedevtika (STPRO)\, Seminar (S)\, [D4-01\, D4-02\
 , D4-03\, D4-04\, D4-05\, D4-06]
DTSTART;TZID=Europe/Ljubljana:20231004T100000
DTEND;TZID=Europe/Ljubljana:20231004T130000
DTSTAMP:20260420T081140Z
UID:mf-AFLABS-URNIK:premaknjeno-srecanje:7078
ATTENDEE:4. LETNIK (EMŠ DM)
CATEGORIES:Entry,Standard
COLOR:darkgreen
DESCRIPTION:Predmet: Stomatološka propedevtika (STPRO)\, Seminar (S)\, [D
 4-01\, D4-02\, D4-03\, D4-04\, D4-05\, D4-06]\nLetniki: 4. LETNIK (EMŠ DM
 )\nIzvajalci: Katedra za čeljustno in zobno or KČZO\, Katedra za otrošk
 o in preventivn KOPZ\, Katedra za stomatološko protetik KSP\, Katedra za 
 ustne bolezni in paro KUBP\, Katedra za zobne bolezni in norm KZBNMZO\nPro
 stor: Pred - Stoma
LOCATION:Hrvatski trg 6\, Pred - Stoma
ORGANIZER:Katedra za čeljustno in zobno or KČZO, Katedra za otroško in 
 preventivn KOPZ, Katedra za stomatološko protetik KSP, Katedra za ustne b
 olezni in paro KUBP, Katedra za zobne bolezni in norm KZBNMZO
RELATED-TO:mf-AFLABS-URNIK:srecanje:1319
X-WR-TIMEZONE:Europe/Ljubljana
END:VEVENT
BEGIN:VEVENT
SUMMARY:Stomatološka propedevtika (STPRO)\, Seminar (S)\, [D4-01\, D4-02\
 , D4-03\, D4-04\, D4-05\, D4-06]
DTSTART;TZID=Europe/Ljubljana:20231011T100000
DTEND;TZID=Europe/Ljubljana:20231011T130000
DTSTAMP:20260420T081140Z
UID:mf-AFLABS-URNIK:premaknjeno-srecanje:7079
ATTENDEE:4. LETNIK (EMŠ DM)
CATEGORIES:Entry,Standard
COLOR:darkgreen
DESCRIPTION:Predmet: Stomatološka propedevtika (STPRO)\, Seminar (S)\, [D
 4-01\, D4-02\, D4-03\, D4-04\, D4-05\, D4-06]\nLetniki: 4. LETNIK (EMŠ DM
 )\nIzvajalci: Katedra za čeljustno in zobno or KČZO\, Katedra za otrošk
 o in preventivn KOPZ\, Katedra za stomatološko protetik KSP\, Katedra za 
 ustne bolezni in paro KUBP\, Katedra za zobne bolezni in norm KZBNMZO\nPro
 stor: Pred - Stoma
LOCATION:Hrvatski trg 6\, Pred - Stoma
ORGANIZER:Katedra za čeljustno in zobno or KČZO, Katedra za otroško in 
 preventivn KOPZ, Katedra za stomatološko protetik KSP, Katedra za ustne b
 olezni in paro KUBP, Katedra za zobne bolezni in norm KZBNMZO
RELATED-TO:mf-AFLABS-URNIK:srecanje:1319
X-WR-TIMEZONE:Europe/Ljubljana
END:VEVENT
BEGIN:VEVENT
SUMMARY:Snemna protetika 3 (SNEMNA3)\, klinične vaje (kv)\, [D6-04\, D6-0
 5\, D6-06]
DTSTART;TZID=Europe/Ljubljana:20231004T080000
DTEND;TZID=Europe/Ljubljana:20231004T143000
DTSTAMP:20260420T081140Z
UID:mf-AFLABS-URNIK:premaknjeno-srecanje:9372
ATTENDEE:6. LETNIK (EMŠ DM)
CATEGORIES:Entry,Standard
COLOR:darkgreen
DESCRIPTION:Predmet: Snemna protetika 3 (SNEMNA3)\, klinične vaje (kv)\, 
 [D6-04\, D6-05\, D6-06]\nLetniki: 6. LETNIK (EMŠ DM)\nIzvajalci: Katedra 
 za stomatološko protetik KSP\nProstor: Vaj - KSP - 63 - Stoma - UKC
LOCATION:Hrvatski trg 6\, Vaj - KSP - 63 - Stoma - UKC
ORGANIZER:Katedra za stomatološko protetik KSP
RELATED-TO:mf-AFLABS-URNIK:srecanje:1792
X-WR-TIMEZONE:Europe/Ljubljana
END:VEVENT
BEGIN:VEVENT
SUMMARY:Snemna protetika 3 (SNEMNA3)\, klinične vaje (kv)\, [D6-04\, D6-0
 5\, D6-06]
DTSTART;TZID=Europe/Ljubljana:20231011T080000
DTEND;TZID=Europe/Ljubljana:20231011T143000
DTSTAMP:20260420T081140Z
UID:mf-AFLABS-URNIK:premaknjeno-srecanje:9373
ATTENDEE:6. LETNIK (EMŠ DM)
CATEGORIES:Entry,Standard
COLOR:darkgreen
DESCRIPTION:Predmet: Snemna protetika 3 (SNEMNA3)\, klinične vaje (kv)\, 
 [D6-04\, D6-05\, D6-06]\nLetniki: 6. LETNIK (EMŠ DM)\nIzvajalci: Katedra 
 za stomatološko protetik KSP\nProstor: Vaj - KSP - 63 - Stoma - UKC
LOCATION:Hrvatski trg 6\, Vaj - KSP - 63 - Stoma - UKC
ORGANIZER:Katedra za stomatološko protetik KSP
RELATED-TO:mf-AFLABS-URNIK:srecanje:1792
X-WR-TIMEZONE:Europe/Ljubljana
END:VEVENT
BEGIN:VEVENT
SUMMARY:Temelji zobne okluzije (TZO)\, Predavanje (P)
DTSTART;TZID=Europe/Ljubljana:20231005T150000
DTEND;TZID=Europe/Ljubljana:20231005T160000
DTSTAMP:20260420T081140Z
UID:mf-AFLABS-URNIK:premaknjeno-srecanje:4979
ATTENDEE:3. LETNIK (EMŠ DM)
CATEGORIES:Entry,Standard
COLOR:darkgreen
DESCRIPTION:Predmet: Temelji zobne okluzije (TZO)\, Predavanje (P)\nLetnik
 i: 3. LETNIK (EMŠ DM)\nIzvajalci: Katedra za stomatološko protetik KSP\n
 Prostor: Pred - Mala - MF
LOCATION:Korytkova 2\, Pred - Mala - MF
ORGANIZER:Katedra za stomatološko protetik KSP
RELATED-TO:mf-AFLABS-URNIK:srecanje:813
X-WR-TIMEZONE:Europe/Ljubljana
END:VEVENT
BEGIN:VEVENT
SUMMARY:Temelji zobne okluzije (TZO)\, Predavanje (P)
DTSTART;TZID=Europe/Ljubljana:20231012T150000
DTEND;TZID=Europe/Ljubljana:20231012T160000
DTSTAMP:20260420T081140Z
UID:mf-AFLABS-URNIK:premaknjeno-srecanje:4980
ATTENDEE:3. LETNIK (EMŠ DM)
CATEGORIES:Entry,Standard
COLOR:darkgreen
DESCRIPTION:Predmet: Temelji zobne okluzije (TZO)\, Predavanje (P)\nLetnik
 i: 3. LETNIK (EMŠ DM)\nIzvajalci: Katedra za stomatološko protetik KSP\n
 Prostor: Pred - Mala - MF
LOCATION:Korytkova 2\, Pred - Mala - MF
ORGANIZER:Katedra za stomatološko protetik KSP
RELATED-TO:mf-AFLABS-URNIK:srecanje:813
X-WR-TIMEZONE:Europe/Ljubljana
END:VEVENT
BEGIN:VEVENT
SUMMARY:Stomatološka propedevtika (STPRO)\, Vaje (V)\, [D4-01\, D4-02\, D
 4-03\, D4-04\, D4-05\, D4-06]
DTSTART;TZID=Europe/Ljubljana:20231005T090000
DTEND;TZID=Europe/Ljubljana:20231005T130000
DTSTAMP:20260420T081140Z
UID:mf-AFLABS-URNIK:premaknjeno-srecanje:7093
ATTENDEE:4. LETNIK (EMŠ DM)
CATEGORIES:Entry,Standard
COLOR:darkgreen
DESCRIPTION:Predmet: Stomatološka propedevtika (STPRO)\, Vaje (V)\, [D4-0
 1\, D4-02\, D4-03\, D4-04\, D4-05\, D4-06]\nLetniki: 4. LETNIK (EMŠ DM)\n
 Izvajalci: Katedra za čeljustno in zobno or KČZO\, Katedra za otroško i
 n preventivn KOPZ\, Katedra za stomatološko protetik KSP\, Katedra za ust
 ne bolezni in paro KUBP\, Katedra za zobne bolezni in norm KZBNMZO\nProsto
 r: CUKV - DM - Vaj - Velika
LOCATION:Korytkova 2\, CUKV - DM - Vaj - Velika
ORGANIZER:Katedra za čeljustno in zobno or KČZO, Katedra za otroško in 
 preventivn KOPZ, Katedra za stomatološko protetik KSP, Katedra za ustne b
 olezni in paro KUBP, Katedra za zobne bolezni in norm KZBNMZO
RELATED-TO:mf-AFLABS-URNIK:srecanje:1320
X-WR-TIMEZONE:Europe/Ljubljana
END:VEVENT
BEGIN:VEVENT
SUMMARY:Stomatološka propedevtika (STPRO)\, Vaje (V)\, [D4-01\, D4-02\, D
 4-03\, D4-04\, D4-05\, D4-06]
DTSTART;TZID=Europe/Ljubljana:20231012T090000
DTEND;TZID=Europe/Ljubljana:20231012T130000
DTSTAMP:20260420T081140Z
UID:mf-AFLABS-URNIK:premaknjeno-srecanje:7094
ATTENDEE:4. LETNIK (EMŠ DM)
CATEGORIES:Entry,Standard
COLOR:darkgreen
DESCRIPTION:Predmet: Stomatološka propedevtika (STPRO)\, Vaje (V)\, [D4-0
 1\, D4-02\, D4-03\, D4-04\, D4-05\, D4-06]\nLetniki: 4. LETNIK (EMŠ DM)\n
 Izvajalci: Katedra za čeljustno in zobno or KČZO\, Katedra za otroško i
 n preventivn KOPZ\, Katedra za stomatološko protetik KSP\, Katedra za ust
 ne bolezni in paro KUBP\, Katedra za zobne bolezni in norm KZBNMZO\nProsto
 r: CUKV - DM - Vaj - Velika
LOCATION:Korytkova 2\, CUKV - DM - Vaj - Velika
ORGANIZER:Katedra za čeljustno in zobno or KČZO, Katedra za otroško in 
 preventivn KOPZ, Katedra za stomatološko protetik KSP, Katedra za ustne b
 olezni in paro KUBP, Katedra za zobne bolezni in norm KZBNMZO
RELATED-TO:mf-AFLABS-URNIK:srecanje:1320
X-WR-TIMEZONE:Europe/Ljubljana
END:VEVENT
BEGIN:VEVENT
SUMMARY:Fiksna protetika 2 (FIKSNA2)\, Predavanje (P)\, [D5-01\, D5-02\, D
 5-03\, D5-04\, D5-05\, D5-06]
DTSTART;TZID=Europe/Ljubljana:20231005T120000
DTEND;TZID=Europe/Ljubljana:20231005T130000
DTSTAMP:20260420T081140Z
UID:mf-AFLABS-URNIK:premaknjeno-srecanje:7874
ATTENDEE:5. LETNIK (EMŠ DM)
CATEGORIES:Entry,Standard
COLOR:darkgreen
DESCRIPTION:Predmet: Fiksna protetika 2 (FIKSNA2)\, Predavanje (P)\, [D5-0
 1\, D5-02\, D5-03\, D5-04\, D5-05\, D5-06]\nLetniki: 5. LETNIK (EMŠ DM)\n
 Izvajalci: Katedra za stomatološko protetik KSP\nProstor: Pred - Stoma
LOCATION:Hrvatski trg 6\, Pred - Stoma
ORGANIZER:Katedra za stomatološko protetik KSP
RELATED-TO:mf-AFLABS-URNIK:srecanje:1610
X-WR-TIMEZONE:Europe/Ljubljana
END:VEVENT
BEGIN:VEVENT
SUMMARY:Fiksna protetika 2 (FIKSNA2)\, Predavanje (P)\, [D5-01\, D5-02\, D
 5-03\, D5-04\, D5-05\, D5-06]
DTSTART;TZID=Europe/Ljubljana:20231012T120000
DTEND;TZID=Europe/Ljubljana:20231012T130000
DTSTAMP:20260420T081140Z
UID:mf-AFLABS-URNIK:premaknjeno-srecanje:7875
ATTENDEE:5. LETNIK (EMŠ DM)
CATEGORIES:Entry,Standard
COLOR:darkgreen
DESCRIPTION:Predmet: Fiksna protetika 2 (FIKSNA2)\, Predavanje (P)\, [D5-0
 1\, D5-02\, D5-03\, D5-04\, D5-05\, D5-06]\nLetniki: 5. LETNIK (EMŠ DM)\n
 Izvajalci: Katedra za stomatološko protetik KSP\nProstor: Pred - Stoma
LOCATION:Hrvatski trg 6\, Pred - Stoma
ORGANIZER:Katedra za stomatološko protetik KSP
RELATED-TO:mf-AFLABS-URNIK:srecanje:1610
X-WR-TIMEZONE:Europe/Ljubljana
END:VEVENT
BEGIN:VEVENT
SUMMARY:Snemna protetika 2 (SNEMNA2)\, Predavanje (P)\, [D5-01\, D5-02\, D
 5-03\, D5-04\, D5-05\, D5-06]
DTSTART;TZID=Europe/Ljubljana:20231005T080000
DTEND;TZID=Europe/Ljubljana:20231005T100000
DTSTAMP:20260420T081140Z
UID:mf-AFLABS-URNIK:premaknjeno-srecanje:8185
ATTENDEE:5. LETNIK (EMŠ DM)
CATEGORIES:Entry,Standard
COLOR:darkgreen
DESCRIPTION:Predmet: Snemna protetika 2 (SNEMNA2)\, Predavanje (P)\, [D5-0
 1\, D5-02\, D5-03\, D5-04\, D5-05\, D5-06]\nLetniki: 5. LETNIK (EMŠ DM)\n
 Izvajalci: Katedra za stomatološko protetik KSP\nProstor: Pred - Stoma
LOCATION:Hrvatski trg 6\, Pred - Stoma
ORGANIZER:Katedra za stomatološko protetik KSP
RELATED-TO:mf-AFLABS-URNIK:srecanje:1641
X-WR-TIMEZONE:Europe/Ljubljana
END:VEVENT
BEGIN:VEVENT
SUMMARY:Snemna protetika 2 (SNEMNA2)\, Predavanje (P)\, [D5-01\, D5-02\, D
 5-03\, D5-04\, D5-05\, D5-06]
DTSTART;TZID=Europe/Ljubljana:20231012T080000
DTEND;TZID=Europe/Ljubljana:20231012T100000
DTSTAMP:20260420T081140Z
UID:mf-AFLABS-URNIK:premaknjeno-srecanje:8186
ATTENDEE:5. LETNIK (EMŠ DM)
CATEGORIES:Entry,Standard
COLOR:darkgreen
DESCRIPTION:Predmet: Snemna protetika 2 (SNEMNA2)\, Predavanje (P)\, [D5-0
 1\, D5-02\, D5-03\, D5-04\, D5-05\, D5-06]\nLetniki: 5. LETNIK (EMŠ DM)\n
 Izvajalci: Katedra za stomatološko protetik KSP\nProstor: Pred - Stoma
LOCATION:Hrvatski trg 6\, Pred - Stoma
ORGANIZER:Katedra za stomatološko protetik KSP
RELATED-TO:mf-AFLABS-URNIK:srecanje:1641
X-WR-TIMEZONE:Europe/Ljubljana
END:VEVENT
BEGIN:VEVENT
SUMMARY:Fiksna protetika 3 (FIKSNA3)\, klinične vaje (kv)\, [D6-04\, D6-0
 5\, D6-06]
DTSTART;TZID=Europe/Ljubljana:20231005T073000
DTEND;TZID=Europe/Ljubljana:20231005T150000
DTSTAMP:20260420T081140Z
UID:mf-AFLABS-URNIK:premaknjeno-srecanje:9449
ATTENDEE:6. LETNIK (EMŠ DM)
CATEGORIES:Entry,Standard
COLOR:darkgreen
DESCRIPTION:Predmet: Fiksna protetika 3 (FIKSNA3)\, klinične vaje (kv)\, 
 [D6-04\, D6-05\, D6-06]\nLetniki: 6. LETNIK (EMŠ DM)\nIzvajalci: Katedra 
 za stomatološko protetik KSP\nProstor: Vaj - KSP - 61 - Stoma - UKC
LOCATION:Hrvatski trg 6\, Vaj - KSP - 61 - Stoma - UKC
ORGANIZER:Katedra za stomatološko protetik KSP
RELATED-TO:mf-AFLABS-URNIK:srecanje:1799
X-WR-TIMEZONE:Europe/Ljubljana
END:VEVENT
BEGIN:VEVENT
SUMMARY:Fiksna protetika 3 (FIKSNA3)\, klinične vaje (kv)\, [D6-04\, D6-0
 5\, D6-06]
DTSTART;TZID=Europe/Ljubljana:20231012T073000
DTEND;TZID=Europe/Ljubljana:20231012T150000
DTSTAMP:20260420T081140Z
UID:mf-AFLABS-URNIK:premaknjeno-srecanje:9450
ATTENDEE:6. LETNIK (EMŠ DM)
CATEGORIES:Entry,Standard
COLOR:darkgreen
DESCRIPTION:Predmet: Fiksna protetika 3 (FIKSNA3)\, klinične vaje (kv)\, 
 [D6-04\, D6-05\, D6-06]\nLetniki: 6. LETNIK (EMŠ DM)\nIzvajalci: Katedra 
 za stomatološko protetik KSP\nProstor: Vaj - KSP - 61 - Stoma - UKC
LOCATION:Hrvatski trg 6\, Vaj - KSP - 61 - Stoma - UKC
ORGANIZER:Katedra za stomatološko protetik KSP
RELATED-TO:mf-AFLABS-URNIK:srecanje:1799
X-WR-TIMEZONE:Europe/Ljubljana
END:VEVENT
BEGIN:VEVENT
SUMMARY:Fiksna protetika 2 (FIKSNA2)\, klinične vaje (kv)\, [D5-04\, D5-0
 5\, D5-06]
DTSTART;TZID=Europe/Ljubljana:20231006T073000
DTEND;TZID=Europe/Ljubljana:20231006T150000
DTSTAMP:20260420T081140Z
UID:mf-AFLABS-URNIK:premaknjeno-srecanje:7934
ATTENDEE:5. LETNIK (EMŠ DM)
CATEGORIES:Entry,Standard
COLOR:darkgreen
DESCRIPTION:Predmet: Fiksna protetika 2 (FIKSNA2)\, klinične vaje (kv)\, 
 [D5-04\, D5-05\, D5-06]\nLetniki: 5. LETNIK (EMŠ DM)\nIzvajalci: Katedra 
 za stomatološko protetik KSP\nProstor: Vaj - KSP - 61 - Stoma - UKC
LOCATION:Hrvatski trg 6\, Vaj - KSP - 61 - Stoma - UKC
ORGANIZER:Katedra za stomatološko protetik KSP
RELATED-TO:mf-AFLABS-URNIK:srecanje:1612
X-WR-TIMEZONE:Europe/Ljubljana
END:VEVENT
BEGIN:VEVENT
SUMMARY:Fiksna protetika 2 (FIKSNA2)\, klinične vaje (kv)\, [D5-04\, D5-0
 5\, D5-06]
DTSTART;TZID=Europe/Ljubljana:20231013T073000
DTEND;TZID=Europe/Ljubljana:20231013T150000
DTSTAMP:20260420T081140Z
UID:mf-AFLABS-URNIK:premaknjeno-srecanje:7935
ATTENDEE:5. LETNIK (EMŠ DM)
CATEGORIES:Entry,Standard
COLOR:darkgreen
DESCRIPTION:Predmet: Fiksna protetika 2 (FIKSNA2)\, klinične vaje (kv)\, 
 [D5-04\, D5-05\, D5-06]\nLetniki: 5. LETNIK (EMŠ DM)\nIzvajalci: Katedra 
 za stomatološko protetik KSP\nProstor: Vaj - KSP - 61 - Stoma - UKC
LOCATION:Hrvatski trg 6\, Vaj - KSP - 61 - Stoma - UKC
ORGANIZER:Katedra za stomatološko protetik KSP
RELATED-TO:mf-AFLABS-URNIK:srecanje:1612
X-WR-TIMEZONE:Europe/Ljubljana
END:VEVENT
BEGIN:VEVENT
SUMMARY:Snemna protetika 2 (SNEMNA2)\, Seminar (S)\, [D5-01\, D5-02\, D5-0
 3]
DTSTART;TZID=Europe/Ljubljana:20231006T073000
DTEND;TZID=Europe/Ljubljana:20231006T150000
DTSTAMP:20260420T081140Z
UID:mf-AFLABS-URNIK:premaknjeno-srecanje:8175
ATTENDEE:5. LETNIK (EMŠ DM)
CATEGORIES:Entry,Standard
COLOR:darkgreen
DESCRIPTION:Predmet: Snemna protetika 2 (SNEMNA2)\, Seminar (S)\, [D5-01\,
  D5-02\, D5-03]\nLetniki: 5. LETNIK (EMŠ DM)\nIzvajalci: Katedra za stoma
 tološko protetik KSP\nProstor: Vaj - KSP - 63 - Stoma - UKC
LOCATION:Hrvatski trg 6\, Vaj - KSP - 63 - Stoma - UKC
ORGANIZER:Katedra za stomatološko protetik KSP
RELATED-TO:mf-AFLABS-URNIK:srecanje:1639
X-WR-TIMEZONE:Europe/Ljubljana
END:VEVENT
BEGIN:VEVENT
SUMMARY:Snemna protetika 2 (SNEMNA2)\, Seminar (S)\, [D5-01\, D5-02\, D5-0
 3]
DTSTART;TZID=Europe/Ljubljana:20231013T073000
DTEND;TZID=Europe/Ljubljana:20231013T150000
DTSTAMP:20260420T081140Z
UID:mf-AFLABS-URNIK:premaknjeno-srecanje:8176
ATTENDEE:5. LETNIK (EMŠ DM)
CATEGORIES:Entry,Standard
COLOR:darkgreen
DESCRIPTION:Predmet: Snemna protetika 2 (SNEMNA2)\, Seminar (S)\, [D5-01\,
  D5-02\, D5-03]\nLetniki: 5. LETNIK (EMŠ DM)\nIzvajalci: Katedra za stoma
 tološko protetik KSP\nProstor: Vaj - KSP - 63 - Stoma - UKC
LOCATION:Hrvatski trg 6\, Vaj - KSP - 63 - Stoma - UKC
ORGANIZER:Katedra za stomatološko protetik KSP
RELATED-TO:mf-AFLABS-URNIK:srecanje:1639
X-WR-TIMEZONE:Europe/Ljubljana
END:VEVENT
BEGIN:VEVENT
SUMMARY:Temelji zobne okluzije (TZO)\, Vaje (V)
DTSTART;TZID=Europe/Ljubljana:20231010T100000
DTEND;TZID=Europe/Ljubljana:20231010T120000
DTSTAMP:20260420T081140Z
UID:mf-AFLABS-URNIK:premaknjeno-srecanje:5024
ATTENDEE:3. LETNIK (EMŠ DM)
CATEGORIES:Entry,Standard
COLOR:darkgreen
DESCRIPTION:Predmet: Temelji zobne okluzije (TZO)\, Vaje (V)\nLetniki: 3. 
 LETNIK (EMŠ DM)\nIzvajalci: Katedra za stomatološko protetik KSP\nProsto
 r: Pred - Stoma
LOCATION:Hrvatski trg 6\, Pred - Stoma
ORGANIZER:Katedra za stomatološko protetik KSP
RELATED-TO:mf-AFLABS-URNIK:srecanje:823
X-WR-TIMEZONE:Europe/Ljubljana
END:VEVENT
END:VCALENDAR
