BEGIN:VCALENDAR
VERSION:2.0
PRODID:-//AFLabs urnik izvoz - mf//aflabs.si//SI
DTSTAMP:20260420T065411Z
NAME:UL MF urnik
REFRESH-INTERVAL:PT1H
SOURCE:https://afurnik-mf.dev.aflabs.org/teacher/34?day=2024-07-06&export=
 1
URL:https://afurnik-mf.dev.aflabs.org/teacher/34?day=2024-07-06&export=1
X-PUBLISHED-TTL:PT1H
X-WR-CALNAME:UL MF urnik
X-WR-TIMEZONE:Europe/Ljubljana
BEGIN:VTIMEZONE
TZID:Europe/Ljubljana
BEGIN:DAYLIGHT
DTSTART:20260329T020000
RDATE:20260329T020000
RDATE:20270328T020000
TZNAME:CEST
TZOFFSETFROM:+0100
TZOFFSETTO:+0200
END:DAYLIGHT
BEGIN:STANDARD
DTSTART:20261025T030000
RDATE:20261025T030000
RDATE:20271031T030000
TZNAME:CET
TZOFFSETFROM:+0200
TZOFFSETTO:+0100
END:STANDARD
END:VTIMEZONE
BEGIN:VEVENT
SUMMARY:Fiksna protetika 1 (FIKSNA1)\, Predavanje (P)
DTSTART;TZID=Europe/Ljubljana:20241001T100000
DTEND;TZID=Europe/Ljubljana:20241001T120000
DTSTAMP:20260420T065411Z
UID:mf-AFLABS-URNIK:premaknjeno-srecanje:12362
ATTENDEE:4. LETNIK (EMŠ DM)
CATEGORIES:Entry,Special
COLOR:forestgreen
DESCRIPTION:Predmet: Fiksna protetika 1 (FIKSNA1)\, Predavanje (P)\nLetnik
 i: 4. LETNIK (EMŠ DM)\nIzvajalci: Katedra za stomatološko protetik KSP\n
 Prostor: Pred - Stoma
LOCATION:Hrvatski trg 6\, Pred - Stoma
ORGANIZER:Katedra za stomatološko protetik KSP
RELATED-TO:mf-AFLABS-URNIK:srecanje:2451
X-WR-TIMEZONE:Europe/Ljubljana
END:VEVENT
BEGIN:VEVENT
SUMMARY:Fiksna protetika 3 (FIKSNA3)\, klinične vaje (kv)\, [D6-03]
DTSTART;TZID=Europe/Ljubljana:20241001T073000
DTEND;TZID=Europe/Ljubljana:20241001T094500
DTSTAMP:20260420T065411Z
UID:mf-AFLABS-URNIK:premaknjeno-srecanje:14837
ATTENDEE:6. LETNIK (EMŠ DM)
CATEGORIES:Entry,Special
COLOR:forestgreen
DESCRIPTION:Predmet: Fiksna protetika 3 (FIKSNA3)\, klinične vaje (kv)\, 
 [D6-03]\nLetniki: 6. LETNIK (EMŠ DM)\nIzvajalci: Katedra za stomatološko
  protetik KSP\nProstor: Vaj - KSP - 61 - Stoma - UKC
LOCATION:Hrvatski trg 6\, Vaj - KSP - 61 - Stoma - UKC
ORGANIZER:Katedra za stomatološko protetik KSP
RELATED-TO:mf-AFLABS-URNIK:srecanje:2633
X-WR-TIMEZONE:Europe/Ljubljana
END:VEVENT
BEGIN:VEVENT
SUMMARY:Fiksna protetika 3 (FIKSNA3)\, klinične vaje (kv)\, [D6-01]
DTSTART;TZID=Europe/Ljubljana:20241001T100000
DTEND;TZID=Europe/Ljubljana:20241001T121500
DTSTAMP:20260420T065411Z
UID:mf-AFLABS-URNIK:premaknjeno-srecanje:14852
ATTENDEE:6. LETNIK (EMŠ DM)
CATEGORIES:Entry,Special
COLOR:forestgreen
DESCRIPTION:Predmet: Fiksna protetika 3 (FIKSNA3)\, klinične vaje (kv)\, 
 [D6-01]\nLetniki: 6. LETNIK (EMŠ DM)\nIzvajalci: Katedra za stomatološko
  protetik KSP\nProstor: Vaj - KSP - 61 - Stoma - UKC
LOCATION:Hrvatski trg 6\, Vaj - KSP - 61 - Stoma - UKC
ORGANIZER:Katedra za stomatološko protetik KSP
RELATED-TO:mf-AFLABS-URNIK:srecanje:2634
X-WR-TIMEZONE:Europe/Ljubljana
END:VEVENT
BEGIN:VEVENT
SUMMARY:Fiksna protetika 3 (FIKSNA3)\, klinične vaje (kv)\, [D6-02]
DTSTART;TZID=Europe/Ljubljana:20241001T123000
DTEND;TZID=Europe/Ljubljana:20241001T144500
DTSTAMP:20260420T065411Z
UID:mf-AFLABS-URNIK:premaknjeno-srecanje:14867
ATTENDEE:6. LETNIK (EMŠ DM)
CATEGORIES:Entry,Special
COLOR:forestgreen
DESCRIPTION:Predmet: Fiksna protetika 3 (FIKSNA3)\, klinične vaje (kv)\, 
 [D6-02]\nLetniki: 6. LETNIK (EMŠ DM)\nIzvajalci: Katedra za stomatološko
  protetik KSP\nProstor: Vaj - KSP - 61 - Stoma - UKC
LOCATION:Hrvatski trg 6\, Vaj - KSP - 61 - Stoma - UKC
ORGANIZER:Katedra za stomatološko protetik KSP
RELATED-TO:mf-AFLABS-URNIK:srecanje:2635
X-WR-TIMEZONE:Europe/Ljubljana
END:VEVENT
END:VCALENDAR
