BEGIN:VCALENDAR
VERSION:2.0
PRODID:-//AFLabs urnik izvoz - mf//aflabs.si//SI
DTSTAMP:20260420T065841Z
NAME:UL MF urnik
REFRESH-INTERVAL:PT1H
SOURCE:https://afurnik-mf.dev.aflabs.org/teacher/34?day=2026-10-05&export=
 1
URL:https://afurnik-mf.dev.aflabs.org/teacher/34?day=2026-10-05&export=1
X-PUBLISHED-TTL:PT1H
X-WR-CALNAME:UL MF urnik
X-WR-TIMEZONE:Europe/Ljubljana
BEGIN:VTIMEZONE
TZID:Europe/Ljubljana
BEGIN:DAYLIGHT
DTSTART:20260329T020000
RDATE:20260329T020000
RDATE:20270328T020000
TZNAME:CEST
TZOFFSETFROM:+0100
TZOFFSETTO:+0200
END:DAYLIGHT
BEGIN:STANDARD
DTSTART:20261025T030000
RDATE:20261025T030000
RDATE:20271031T030000
TZNAME:CET
TZOFFSETFROM:+0200
TZOFFSETTO:+0100
END:STANDARD
END:VTIMEZONE
BEGIN:VEVENT
SUMMARY:izpit:Snemna protetika 2
DTSTART;TZID=Europe/Ljubljana:20260911T110000
DTEND;TZID=Europe/Ljubljana:20260911T120000
DTSTAMP:20260420T065841Z
UID:mf-AFLABS-URNIK:rezervacija:8504
ATTENDEE:5. LETNIK (EMŠ DM)
CATEGORIES:Reservation
COLOR:royalblue
DESCRIPTION:Predmeti: Snemna protetika 2 (SNEMNA2)\nLetniki: 5. LETNIK (EM
 Š DM)\nIzvajalci: Katedra za stomatološko protetik KSP\nProstori: Pred -
  Mala - MF
LOCATION:Korytkova 2\, Pred - Mala - MF
ORGANIZER:Katedra za stomatološko protetik KSP
X-WR-TIMEZONE:Europe/Ljubljana
END:VEVENT
BEGIN:VEVENT
SUMMARY:IZPIT:Stomatološka propedevtika 1
DTSTART;TZID=Europe/Ljubljana:20260904T080000
DTEND;TZID=Europe/Ljubljana:20260904T100000
DTSTAMP:20260420T065841Z
UID:mf-AFLABS-URNIK:rezervacija:8781
ATTENDEE:2. LETNIK (EMŠ DM)
CATEGORIES:Reservation
COLOR:royalblue
DESCRIPTION:Predmeti: Uvod v klinično dentalno medicino 2 (UKDM2)\nLetnik
 i: 2. LETNIK (EMŠ DM)\nIzvajalci: Katedra za stomatološko protetik KSP\n
 Prostori: Pred - Srednja - MF
LOCATION:Korytkova 2\, Pred - Srednja - MF
ORGANIZER:Katedra za stomatološko protetik KSP
X-WR-TIMEZONE:Europe/Ljubljana
END:VEVENT
BEGIN:VEVENT
SUMMARY:IZPIT:Stomatološka propedevtika 1
DTSTART;TZID=Europe/Ljubljana:20260918T080000
DTEND;TZID=Europe/Ljubljana:20260918T100000
DTSTAMP:20260420T065841Z
UID:mf-AFLABS-URNIK:rezervacija:8782
ATTENDEE:2. LETNIK (EMŠ DM)
CATEGORIES:Reservation
COLOR:royalblue
DESCRIPTION:Predmeti: Uvod v klinično dentalno medicino 2 (UKDM2)\nLetnik
 i: 2. LETNIK (EMŠ DM)\nIzvajalci: Katedra za stomatološko protetik KSP\n
 Prostori: Pred - Srednja - MF
LOCATION:Korytkova 2\, Pred - Srednja - MF
ORGANIZER:Katedra za stomatološko protetik KSP
X-WR-TIMEZONE:Europe/Ljubljana
END:VEVENT
BEGIN:VEVENT
SUMMARY:izpit:Gerontostomatologija
DTSTART;TZID=Europe/Ljubljana:20260902T100000
DTEND;TZID=Europe/Ljubljana:20260902T110000
DTSTAMP:20260420T065841Z
UID:mf-AFLABS-URNIK:rezervacija:8938
ATTENDEE:6. LETNIK (EMŠ DM)
CATEGORIES:Reservation
COLOR:royalblue
DESCRIPTION:Predmeti: Gerontostomatologija (GERONTO)\nLetniki: 6. LETNIK (
 EMŠ DM)\nIzvajalci: Katedra za anesteziologijo z rea KAR\, Katedra za mak
 silofacialno  in o KMOK\, Katedra za stomatološko protetik KSP\, Katedra 
 za ustne bolezni in paro KUBP\, Katedra za zobne bolezni in norm KZBNMZO\n
 Prostori: Pred - Srednja - MF
LOCATION:Korytkova 2\, Pred - Srednja - MF
ORGANIZER:Katedra za anesteziologijo z rea KAR, Katedra za maksilofacialno
   in o KMOK, Katedra za stomatološko protetik KSP, Katedra za ustne bolez
 ni in paro KUBP, Katedra za zobne bolezni in norm KZBNMZO
X-WR-TIMEZONE:Europe/Ljubljana
END:VEVENT
BEGIN:VEVENT
SUMMARY:izpit:Dentalna implantologija
DTSTART;TZID=Europe/Ljubljana:20260902T110000
DTEND;TZID=Europe/Ljubljana:20260902T120000
DTSTAMP:20260420T065841Z
UID:mf-AFLABS-URNIK:rezervacija:8941
ATTENDEE:6. LETNIK (EMŠ DM)
CATEGORIES:Reservation
COLOR:royalblue
DESCRIPTION:Predmeti: Dentalna implantologija (IMPLANTO)\nLetniki: 6. LETN
 IK (EMŠ DM)\nIzvajalci: Katedra za maksilofacialno  in o KMOK\, Katedra z
 a stomatološko protetik KSP\, Katedra za ustne bolezni in paro KUBP\nPros
 tori: Pred - Srednja - MF
LOCATION:Korytkova 2\, Pred - Srednja - MF
ORGANIZER:Katedra za maksilofacialno  in o KMOK, Katedra za stomatološko 
 protetik KSP, Katedra za ustne bolezni in paro KUBP
X-WR-TIMEZONE:Europe/Ljubljana
END:VEVENT
BEGIN:VEVENT
SUMMARY:izpit:Snemna protetika 1
DTSTART;TZID=Europe/Ljubljana:20260831T110000
DTEND;TZID=Europe/Ljubljana:20260831T120000
DTSTAMP:20260420T065841Z
UID:mf-AFLABS-URNIK:rezervacija:8968
ATTENDEE:4. LETNIK (EMŠ DM)
CATEGORIES:Reservation
COLOR:royalblue
DESCRIPTION:Predmeti: Snemna protetika 1 (SNEMNA1)\nLetniki: 4. LETNIK (EM
 Š DM)\nIzvajalci: Katedra za stomatološko protetik KSP\nProstori: Pred -
  Mala - MF
LOCATION:Korytkova 2\, Pred - Mala - MF
ORGANIZER:Katedra za stomatološko protetik KSP
X-WR-TIMEZONE:Europe/Ljubljana
END:VEVENT
END:VCALENDAR
